BEGIN:VCALENDAR
VERSION:2.0
PRODID:IEEE vTools.Events//EN
CALSCALE:GREGORIAN
BEGIN:VTIMEZONE
TZID:Asia/Kolkata
BEGIN:STANDARD
DTSTART:19451014T230000
TZOFFSETFROM:+0630
TZOFFSETTO:+0530
TZNAME:IST
END:STANDARD
END:VTIMEZONE
BEGIN:VEVENT
DTSTAMP:20240527T153315Z
UID:B42191E8-3390-47E5-91F2-B20105FCB243
DTSTART;TZID=Asia/Kolkata:20240503T090000
DTEND;TZID=Asia/Kolkata:20240503T170000
DESCRIPTION:Unleash Your AI Potential!\n\nJoin us at “AI Conclave - Ahmed
 abad 2024” organized under IEEE SPS GC and hosted by GDSC SOU and IEEE S
 OU SPS SBC for an exhilarating journey into the world of AI! Discover uniq
 ue insights and explore the transforming technologies shaping the future.\
 n\nExciting features:\n◈ Expand your network with inspiring keynote spea
 kers.\n◈ Enhance your AI knowledge through immersive workshops.\n◈ Par
 ticipate in fun quizzes and win amazing prizes.\n\nDon&#39;t miss the chance t
 o be part of a transformative learning experience!\n\n[]\n\nCo-sponsored b
 y: Google Developer Student Clubs\, Silver Oak University\n\nSpeaker(s): M
 r. Kartik Derasari\, Mr. Ridham Modi\, Mr. Daxeel Soni\, Mr. Harshal Trive
 di\, Mr. Bhargav Patel\n\nAhmedabad\, Gujarat\, India
LOCATION:Ahmedabad\, Gujarat\, India
ORGANIZER:fbc@socet.edu.in
SEQUENCE:13
SUMMARY:AI Conclave - Ahmedabad 2024
URL;VALUE=URI:https://events.vtools.ieee.org/m/419238
X-ALT-DESC:Description: &lt;br /&gt;&lt;p style=&quot;text-align: justify\;&quot;&gt;Unleash Your
  AI Potential!&lt;/p&gt;\n&lt;p style=&quot;text-align: justify\;&quot;&gt;Join us at &lt;strong&gt;&amp;l
 dquo\;AI Conclave - Ahmedabad 2024&amp;rdquo\;&lt;/strong&gt; organized under &lt;stron
 g&gt;IEEE SPS GC &lt;/strong&gt;and hosted by &lt;strong&gt;GDSC SOU &lt;/strong&gt;and &lt;strong
 &gt;IEEE SOU SPS SBC &lt;/strong&gt;for an exhilarating journey into the world of A
 I! Discover unique insights and explore the transforming technologies shap
 ing the future.&amp;nbsp\;&lt;/p&gt;\n&lt;p style=&quot;text-align: justify\;&quot;&gt;&lt;strong&gt;Excit
 ing features:&lt;/strong&gt;&lt;br&gt;◈ Expand your network with inspiring keynote s
 peakers.&lt;br&gt;◈ Enhance your AI knowledge through immersive workshops.&lt;br&gt;
 ◈ Participate in fun quizzes and win amazing prizes.&lt;/p&gt;\n&lt;p style=&quot;text
 -align: justify\;&quot;&gt;Don&#39;t miss the chance to be part of a transformative le
 arning experience!&lt;/p&gt;\n&lt;p style=&quot;text-align: justify\;&quot;&gt;&amp;nbsp\;&lt;/p&gt;\n&lt;p s
 tyle=&quot;text-align: justify\;&quot;&gt;&lt;img style=&quot;display: block\; margin-left: aut
 o\; margin-right: auto\;&quot; src=&quot;https://events.vtools.ieee.org/vtools_ui/me
 dia/display/0c3a221b-1f80-4d90-b113-b9683f2fbc32&quot; alt=&quot;&quot; width=&quot;618&quot; heigh
 t=&quot;438&quot;&gt;&lt;/p&gt;
END:VEVENT
END:VCALENDAR

