BEGIN:VCALENDAR
VERSION:2.0
PRODID:IEEE vTools.Events//EN
CALSCALE:GREGORIAN
BEGIN:VTIMEZONE
TZID:US/Central
BEGIN:DAYLIGHT
DTSTART:20240310T030000
TZOFFSETFROM:-0600
TZOFFSETTO:-0500
RRULE:FREQ=YEARLY;BYDAY=2SU;BYMONTH=3
TZNAME:CDT
END:DAYLIGHT
BEGIN:STANDARD
DTSTART:20241103T010000
TZOFFSETFROM:-0500
TZOFFSETTO:-0600
RRULE:FREQ=YEARLY;BYDAY=1SU;BYMONTH=11
TZNAME:CST
END:STANDARD
END:VTIMEZONE
BEGIN:VEVENT
DTSTAMP:20240510T031212Z
UID:C2D2215A-AA32-4B98-853A-EAA3E2CDBEB1
DTSTART;TZID=US/Central:20240509T173000
DTEND;TZID=US/Central:20240509T200000
DESCRIPTION:Energy harvesting\, the process of capturing and converting amb
 ient energy into usable electrical power\, has garnered significant attent
 ion in recent years as a sustainable solution for powering low-energy elec
 tronics and wireless sensor networks. Some of the challenges and opportuni
 ties in energy harvesting include integration with energy storage systems\
 , optimization for specific applications\, and the importance of system-le
 vel design considerations for maximizing overall efficiency. Emerging tren
 ds such as hybrid energy harvesting systems and self-powered IoT devices u
 nderscore the growing significance of energy harvesting in addressing sust
 ainability challenges and enabling autonomous and ubiquitous sensing techn
 ologies.\n\nWhen we want to predict the behavior of sound\, one of the mos
 t important factors to consider is the medium through which it is travelin
 g. Sound travels at different speeds depending on the medium. There are al
 so differences in behavior when sound waves encounter a new medium: some m
 aterials reflect the sound\, while others absorb it. The effect of differe
 nt material properties on sound is what drives the research of acoustic me
 tamaterials\, which are designed to manipulate sound waves for some specif
 ic purpose.\n\nMetamaterials are engineered structures composed of multipl
 e traditional real-life materials\, offering exceptional properties that a
 re impossible to find in traditional materials. Acoustic metamaterials are
  traditionally used for wave filtering\, acoustic clocking\, and vibration
  control. In filtering the wave\, acoustic metamaterials either use the pr
 inciple of Bragg scattering or local resonance. While the local resonance 
 phenomenon traps/localizes the strain energy inside the metamaterial\, thi
 s talk highlights how this trapped energy can be extracted by converting i
 t to electrical potential. Hence\, the metamaterial can perform dual opera
 tions simultaneously\, wave filtration and energy harvesting. The harveste
 d electric energy can then be used to power low-power electronic devices\,
  such as powering pacemakers from heartbeats\, and powering cellphones fro
 m car/human vibration. We will also talk about models developed for simult
 aneous heat energy guiding/control and energy harvesting.\n\nThis presenta
 tion will count for 1 Professional Development Hour (PDH) for the PE Licen
 se in Wisconsin and Michigan.\n\nSpeaker(s): Dr. Riaz Ahmed\, \n\nAgenda: 
 \n5:30 Social time\, cash bar open\n\n6:15 Order meals from restaurant men
 u\n\n6:30 Dinner served\n\n7:00 (or as meals are finished) Section announc
 ements\, door prize drawing\,\nFeatured Speaker - Dr. Riaz Ahmed\n\n8:00 (
 approximately) Wrap up - final comments\n\nReservations should be received
  by Wednesday\, May 8 by registering from this web page.\n\nThe Dinner fee
  of $20\, will be collected at registration.\n\nIEEE Student Members may a
 ttend and enjoy dinner at no cost. Student members should register by emai
 ling blluchs@ieee.org or oliveira@mtu.edu.\n\nBldg: Green Bay Distillery\,
  835 Mike McCarthy Way\, Green Bay\, Wisconsin\, United States\, 54304
LOCATION:Bldg: Green Bay Distillery\, 835 Mike McCarthy Way\, Green Bay\, W
 isconsin\, United States\, 54304
ORGANIZER:blluchs@ieee.org
SEQUENCE:33
SUMMARY:Metamaterials: Wave Filtration to Energy Harvesting
URL;VALUE=URI:https://events.vtools.ieee.org/m/419289
X-ALT-DESC:Description: &lt;br /&gt;&lt;p class=&quot;MsoNormal&quot;&gt;&lt;span style=&quot;font-family
 : arial\, helvetica\, sans-serif\; font-size: 12pt\;&quot;&gt;&lt;span style=&quot;font-fa
 mily: arial\, helvetica\, sans-serif\;&quot;&gt;&lt;img src=&quot;https://events.vtools.ie
 ee.org/vtools_ui/media/display/ea0b9ddc-6fbc-4729-97c6-ac2c99df767e&quot; width
 =&quot;839&quot; height=&quot;408&quot;&gt;&lt;/span&gt;&lt;/span&gt;&lt;/p&gt;\n&lt;p class=&quot;MsoNormal&quot;&gt;&lt;span style=&quot;
 font-family: arial\, helvetica\, sans-serif\; font-size: 12pt\;&quot;&gt;Energy ha
 rvesting\, the process of capturing and converting ambient energy into usa
 ble electrical power\, has garnered significant attention in recent years 
 as a sustainable solution for powering low-energy electronics and wireless
  sensor networks. Some of the challenges and opportunities in energy harve
 sting include integration with energy storage systems\, optimization for s
 pecific applications\, and the importance of system-level design considera
 tions for maximizing overall efficiency. Emerging trends such as hybrid en
 ergy harvesting systems and self-powered IoT devices underscore the growin
 g significance of energy harvesting in addressing sustainability challenge
 s and enabling autonomous and ubiquitous sensing technologies.&lt;/span&gt;&lt;/p&gt;\
 n&lt;p class=&quot;MsoNormal&quot;&gt;&lt;span style=&quot;font-family: arial\, helvetica\, sans-s
 erif\; font-size: 12pt\;&quot;&gt;When we want to predict the behavior of sound\, 
 one of the most important factors to consider is the medium through which 
 it is traveling. Sound travels at different speeds depending on the medium
 . There are also differences in behavior when sound waves encounter a new 
 medium: some materials reflect the sound\, while others absorb it. The eff
 ect of different material properties on sound is what drives the research 
 of acoustic metamaterials\, which are designed to manipulate sound waves f
 or some specific purpose.&lt;/span&gt;&lt;/p&gt;\n&lt;p class=&quot;MsoNormal&quot;&gt;&lt;span style=&quot;fo
 nt-family: arial\, helvetica\, sans-serif\;&quot;&gt;&lt;span style=&quot;font-size: 12pt\
 ;&quot;&gt;Metamaterials are engineered structures composed of multiple traditiona
 l real-life materials\, offering exceptional properties that are impossibl
 e to find in traditional materials. Acoustic metamaterials are traditional
 ly used for wave filtering\, acoustic clocking\, and vibration control. In
  filtering the wave\, acoustic metamaterials either use the principle of B
 ragg scattering or local resonance. While the local resonance phenomenon t
 raps/localizes the strain energy inside the metamaterial\, this talk highl
 ights how this trapped energy can be extracted by converting it to electri
 cal potential. Hence\, the metamaterial can perform dual operations simult
 aneously\, wave filtration and energy harvesting. The harvested electric e
 nergy can then be used to power low-power electronic devices\, such as pow
 ering pacemakers from heartbeats\, and powering cellphones from car/human 
 vibration. We will also talk about models developed for simultaneous heat 
 energy guiding/control and energy harvesting.&lt;/span&gt;&lt;br&gt;&lt;/span&gt;&lt;/p&gt;\n&lt;p&gt;&lt;s
 pan style=&quot;font-family: arial\, helvetica\, sans-serif\; font-size: 12pt\;
 &quot;&gt;This presentation will count for 1 Professional Development Hour (PDH) f
 or the PE License in Wisconsin and Michigan.&lt;/span&gt;&lt;/p&gt;&lt;br /&gt;&lt;br /&gt;Agenda:
  &lt;br /&gt;&lt;p&gt;&lt;span style=&quot;font-family: arial\, helvetica\, sans-serif\; font-
 size: 12pt\;&quot;&gt;5:30 Social time\, cash bar open&lt;/span&gt;&lt;/p&gt;\n&lt;p&gt;&lt;span style=
 &quot;font-family: arial\, helvetica\, sans-serif\; font-size: 12pt\;&quot;&gt;6:15 Ord
 er meals from restaurant menu&lt;/span&gt;&lt;/p&gt;\n&lt;p&gt;&lt;span style=&quot;font-family: ari
 al\, helvetica\, sans-serif\; font-size: 12pt\;&quot;&gt;6:30 Dinner served&lt;/span&gt;
 &lt;/p&gt;\n&lt;p&gt;&lt;span style=&quot;font-family: arial\, helvetica\, sans-serif\; font-s
 ize: 12pt\;&quot;&gt;7:00 (or as meals are finished)&amp;nbsp\; Section announcements\
 , door prize drawing\,&lt;/span&gt;&lt;br&gt;&lt;span style=&quot;font-family: arial\, helveti
 ca\, sans-serif\; font-size: 12pt\;&quot;&gt;&amp;nbsp\; &amp;nbsp\; &amp;nbsp\; &amp;nbsp\; &amp;nbsp
 \; &amp;nbsp\; &amp;nbsp\; &amp;nbsp\; &amp;nbsp\; &amp;nbsp\; &amp;nbsp\; &amp;nbsp\; &amp;nbsp\; &amp;nbsp\;
  &amp;nbsp\; &amp;nbsp\; &amp;nbsp\; &amp;nbsp\; &amp;nbsp\; &amp;nbsp\; &amp;nbsp\; &amp;nbsp\; &amp;nbsp\; &amp;
 nbsp\; Featured Speaker - Dr. Riaz Ahmed&lt;/span&gt;&lt;/p&gt;\n&lt;p&gt;&lt;span style=&quot;font-
 family: arial\, helvetica\, sans-serif\; font-size: 12pt\;&quot;&gt;8:00 (approxim
 ately)&amp;nbsp\; Wrap up - final comments&lt;/span&gt;&lt;/p&gt;\n&lt;p&gt;&amp;nbsp\;&lt;/p&gt;\n&lt;p&gt;&lt;spa
 n style=&quot;font-family: arial\, helvetica\, sans-serif\; font-size: 12pt\;&quot;&gt;
 Reservations should be received by Wednesday\, May 8 by registering from t
 his web page.&lt;/span&gt;&lt;/p&gt;\n&lt;p&gt;&lt;span style=&quot;font-family: arial\, helvetica\,
  sans-serif\; font-size: 12pt\;&quot;&gt;The Dinner fee of $20\, will be collected
  at registration.&lt;/span&gt;&lt;/p&gt;\n&lt;p&gt;&lt;span style=&quot;font-family: arial\, helveti
 ca\, sans-serif\; font-size: 12pt\;&quot;&gt;IEEE Student Members may attend and e
 njoy dinner at no cost.&amp;nbsp\; Student members should register by emailing
  blluchs@ieee.org or oliveira@mtu.edu.&lt;/span&gt;&lt;/p&gt;
END:VEVENT
END:VCALENDAR

