BEGIN:VCALENDAR
VERSION:2.0
PRODID:IEEE vTools.Events//EN
CALSCALE:GREGORIAN
BEGIN:VTIMEZONE
TZID:America/New_York
BEGIN:DAYLIGHT
DTSTART:20240310T030000
TZOFFSETFROM:-0500
TZOFFSETTO:-0400
RRULE:FREQ=YEARLY;BYDAY=2SU;BYMONTH=3
TZNAME:EDT
END:DAYLIGHT
BEGIN:STANDARD
DTSTART:20241103T010000
TZOFFSETFROM:-0400
TZOFFSETTO:-0500
RRULE:FREQ=YEARLY;BYDAY=1SU;BYMONTH=11
TZNAME:EST
END:STANDARD
END:VTIMEZONE
BEGIN:VEVENT
DTSTAMP:20240524T183504Z
UID:69F4BAA6-E441-4778-97D9-10EE780AAF96
DTSTART;TZID=America/New_York:20240516T170000
DTEND;TZID=America/New_York:20240516T180000
DESCRIPTION:In this talk\, we will discuss technology and modern day applic
 ation of security cameras in today’s Metro society. We will focus on exa
 mples of Hanwha’s eco system of products such as single and multi-sensor
  security cameras. We will also discuss edge based second generation Artif
 icial Intelligence used to reduce false alarms\, enhance detection while i
 ncreasing real-time analytics. These types of analytics have the ability t
 o utilize ones VMS more-so for EIM (Emergency Incident Management) vs fore
 nsic search (data presented after the event). We will also be discussing h
 ow Hanwha has closed the gap on our ecosystem by utilizing such cameras an
 d analytics along with our VMS\, audio speakers\, monitors\, servers and a
 ccess control (hard partnership with Lenel/S2). Our discussion will also t
 ouch upon specialty cameras for continuous monitoring such as thermals\, a
 nti-ligature cameras and explosion proof cameras.\n\nSpeaker(s): \, Elliot
 t Shem-Tov\, John Sprague\n\nOne Penn Plaza\, 4th Floor\, New York\, New Y
 ork\, United States\, 10119\, Virtual: https://events.vtools.ieee.org/m/41
 9377
LOCATION:One Penn Plaza\, 4th Floor\, New York\, New York\, United States\,
  10119\, Virtual: https://events.vtools.ieee.org/m/419377
ORGANIZER:pmidy@ieee.org
SEQUENCE:19
SUMMARY:IEEE NY Joint ComSoc &amp; VTS Technology Forum : Technological advance
 s of Security Cameras for the Vehicular and Mass Transit Industry
URL;VALUE=URI:https://events.vtools.ieee.org/m/419377
X-ALT-DESC:Description: &lt;br /&gt;&lt;p class=&quot;MsoNormal&quot;&gt;&lt;span style=&quot;font-size: 
 11.0pt\; font-family: &#39;Calibri&#39;\,sans-serif\; mso-bidi-font-family: &#39;Times
  New Roman&#39;\;&quot;&gt;In this talk\, we&lt;/span&gt;&lt;span style=&quot;font-size: 11.0pt\; fo
 nt-family: &#39;Calibri&#39;\,sans-serif\; color: #1f497d\;&quot;&gt; will discuss technol
 ogy and modern day application of security cameras in today&amp;rsquo\;s Metro
  society.&lt;span style=&quot;mso-spacerun: yes\;&quot;&gt;&amp;nbsp\; &lt;/span&gt;We will focus on
  examples of Hanwha&amp;rsquo\;s eco system of products such as single and mul
 ti-sensor security cameras.&amp;nbsp\; We will also discuss edge based second 
 generation Artificial Intelligence used to reduce false alarms\, enhance d
 etection while increasing real-time analytics.&amp;nbsp\; These types of analy
 tics have the ability to utilize ones VMS more-so for EIM (Emergency Incid
 ent Management) vs forensic search (data presented after the event).&amp;nbsp\
 ; We will also be discussing how Hanwha has closed the gap on our ecosyste
 m by utilizing such cameras and analytics along with our VMS\, audio speak
 ers\, monitors\, servers and access control (hard partnership with Lenel/S
 2). Our discussion will also touch upon specialty cameras for continuous m
 onitoring such as thermals\, anti-ligature cameras and explosion proof cam
 eras.&lt;/span&gt;&lt;/p&gt;\n&lt;p class=&quot;MsoNormal&quot; style=&quot;text-align: justify\; backgr
 ound: white\;&quot;&gt;&lt;span style=&quot;font-size: 11.0pt\; font-family: &#39;Calibri&#39;\,sa
 ns-serif\; mso-bidi-font-family: &#39;Times New Roman&#39;\;&quot;&gt;&amp;nbsp\;&lt;/span&gt;&lt;/p&gt;
END:VEVENT
END:VCALENDAR

