BEGIN:VCALENDAR
VERSION:2.0
PRODID:IEEE vTools.Events//EN
CALSCALE:GREGORIAN
BEGIN:VEVENT
DTSTAMP:20240514T212844Z
UID:2A75EDF6-207E-4B7A-9547-684F1099B315
DTSTART;TZID=Etc/UTC:20240507T150000
DTEND;TZID=Etc/UTC:20240507T170000
DESCRIPTION:IEEE Distinguished Lecture of prof Danilo Demarchi on\n\nLet th
 e Plants do the Talking: Climate-Smart Agriculture by the messages receive
 d from Plants and Soil\n\nVia Santa Sofia\, 64\, Edificio 3\, Polifunziona
 le\, catania\, Sicilia\, Italy\, 95123
LOCATION:Via Santa Sofia\, 64\, Edificio 3\, Polifunzionale\, catania\, Sic
 ilia\, Italy\, 95123
ORGANIZER:maide.bucolo@unict.it
SEQUENCE:25
SUMMARY:IEEE CAS DL Danilo De Marchi
URL;VALUE=URI:https://events.vtools.ieee.org/m/419596
X-ALT-DESC:Description: &lt;br /&gt;&lt;p&gt;IEEE Distinguished Lecture of prof Danilo 
 Demarchi on&lt;/p&gt;\n&lt;p class=&quot;MsoNormal&quot;&gt;&lt;em&gt;&lt;span lang=&quot;EN-GB&quot;&gt;Let the Plant
 s do the Talking: Climate-Smart Agriculture by the messages received from 
 Plants and Soil&lt;/span&gt;&lt;/em&gt;&lt;/p&gt;\n&lt;p&gt;&amp;nbsp\;&lt;/p&gt;
END:VEVENT
END:VCALENDAR

