BEGIN:VCALENDAR
VERSION:2.0
PRODID:IEEE vTools.Events//EN
CALSCALE:GREGORIAN
BEGIN:VTIMEZONE
TZID:US/Central
BEGIN:DAYLIGHT
DTSTART:20240310T030000
TZOFFSETFROM:-0600
TZOFFSETTO:-0500
RRULE:FREQ=YEARLY;BYDAY=2SU;BYMONTH=3
TZNAME:CDT
END:DAYLIGHT
BEGIN:STANDARD
DTSTART:20241103T010000
TZOFFSETFROM:-0500
TZOFFSETTO:-0600
RRULE:FREQ=YEARLY;BYDAY=1SU;BYMONTH=11
TZNAME:CST
END:STANDARD
END:VTIMEZONE
BEGIN:VEVENT
DTSTAMP:20240604T100451Z
UID:795926EB-FF52-4305-BBCF-7C1AE637CCDA
DTSTART;TZID=US/Central:20240509T180000
DTEND;TZID=US/Central:20240509T193000
DESCRIPTION:Baton Rouge IEEE Section Technical meeting\n\nPresentation topi
 c is “Surge Product Technology and NEC Code”\n\nCo-sponsored by: IAS\,
  ISA\, WIE\n\nSpeaker(s): Shawn Johnson\, P.E.\, \n\nAgenda: \n6:00 pm - 6
 :30 pm Social\n6:30 pm - 7:30 pm Presentation\n\nBldg: LaContea Italiano R
 istorante\, 7970 Jefferson Hwy.\, Baton Rouge\, Louisiana\, United States\
 , 70809
LOCATION:Bldg: LaContea Italiano Ristorante\, 7970 Jefferson Hwy.\, Baton R
 ouge\, Louisiana\, United States\, 70809
ORGANIZER:robert.walker@ieee.org
SEQUENCE:17
SUMMARY:Baton Rouge May 2024 Section Meeting
URL;VALUE=URI:https://events.vtools.ieee.org/m/419624
X-ALT-DESC:Description: &lt;br /&gt;&lt;p&gt;Baton Rouge IEEE Section Technical meeting
 &lt;/p&gt;\n&lt;p&gt;Presentation topic is &amp;nbsp\;&lt;strong&gt;&lt;u&gt;&amp;ldquo\;Surge Product Tec
 hnology and NEC Code&lt;/u&gt;&lt;/strong&gt;&lt;u&gt;&amp;rdquo\;&lt;/u&gt;&amp;nbsp\;&lt;/p&gt;&lt;br /&gt;&lt;br /&gt;Age
 nda: &lt;br /&gt;&lt;p&gt;6:00 pm - 6:30 pm Social &amp;nbsp\; &amp;nbsp\; &amp;nbsp\; &amp;nbsp\; &amp;nb
 sp\; &amp;nbsp\; &amp;nbsp\; &amp;nbsp\;&lt;br&gt;6:30 pm - 7:30 pm Presentation&lt;/p&gt;
END:VEVENT
END:VCALENDAR

