BEGIN:VCALENDAR
VERSION:2.0
PRODID:IEEE vTools.Events//EN
CALSCALE:GREGORIAN
BEGIN:VTIMEZONE
TZID:America/Mexico_City
BEGIN:STANDARD
DTSTART:20221030T010000
TZOFFSETFROM:-0500
TZOFFSETTO:-0600
TZNAME:CST
END:STANDARD
END:VTIMEZONE
BEGIN:VEVENT
DTSTAMP:20250129T180932Z
UID:3CC16737-2A95-4D62-966E-85EF067B7E58
DTSTART;TZID=America/Mexico_City:20240506T023000
DTEND;TZID=America/Mexico_City:20240509T220000
DESCRIPTION:Es un curso de programación de PLC desde cero con la intenció
 n de introducir a los estudiantes al mundo de los PLC\, el objetivo del cu
 rso es que entiendan como funciona un PLC\, los tipos de lenguajes y como 
 se programa.\n\n[]\n\nCiudad de Mexico\, Distrito Federal\, Mexico
LOCATION:Ciudad de Mexico\, Distrito Federal\, Mexico
ORGANIZER:tlacaelelrb@ieee.org
SEQUENCE:17
SUMMARY:Programación de PLC desde cero
URL;VALUE=URI:https://events.vtools.ieee.org/m/419644
X-ALT-DESC:Description: &lt;br /&gt;&lt;p&gt;Es un curso de programaci&amp;oacute\;n de PLC
  desde cero con la intenci&amp;oacute\;n de introducir a los estudiantes al mu
 ndo de los PLC\, el objetivo del curso es que entiendan como funciona un P
 LC\, los tipos de lenguajes y como se programa.&lt;/p&gt;\n&lt;p&gt;&lt;img src=&quot;https://
 www.instagram.com/p/C6VXNzSMRqv/?img_index=1&quot; alt=&quot;&quot;&gt;&lt;img src=&quot;https://eve
 nts.vtools.ieee.org/vtools_ui/media/display/625d13af-c4bb-4ab4-b128-4519ad
 b2af71&quot;&gt;&lt;/p&gt;
END:VEVENT
END:VCALENDAR

