BEGIN:VCALENDAR
VERSION:2.0
PRODID:IEEE vTools.Events//EN
CALSCALE:GREGORIAN
BEGIN:VTIMEZONE
TZID:Asia/Karachi
BEGIN:STANDARD
DTSTART:20091031T230000
TZOFFSETFROM:+0600
TZOFFSETTO:+0500
TZNAME:PKT
END:STANDARD
END:VTIMEZONE
BEGIN:VEVENT
DTSTAMP:20240811T200348Z
UID:67A3242F-4311-443E-8298-A8BF85D7187D
DTSTART;TZID=Asia/Karachi:20240506T110100
DTEND;TZID=Asia/Karachi:20240506T150300
DESCRIPTION:A visit to plan the ILS day 1 arrangements.\n\nCo-sponsored by:
  Capital Development Authority\n\nF9 park \, Islamabad\, Islamabad Capital
  Territory\, Pakistan\, 46000
LOCATION:F9 park \, Islamabad\, Islamabad Capital Territory\, Pakistan\, 46
 000
ORGANIZER:komal.batool@riphah.edu.pk
SEQUENCE:7
SUMMARY:Islamabad section WIE visit to CDA Hall for ILS&#39;24
URL;VALUE=URI:https://events.vtools.ieee.org/m/419736
X-ALT-DESC:Description: &lt;br /&gt;&lt;p&gt;A visit to plan the ILS day 1 arrangements
 .&lt;/p&gt;
END:VEVENT
END:VCALENDAR

