BEGIN:VCALENDAR
VERSION:2.0
PRODID:IEEE vTools.Events//EN
CALSCALE:GREGORIAN
BEGIN:VTIMEZONE
TZID:Asia/Kolkata
BEGIN:STANDARD
DTSTART:19451014T230000
TZOFFSETFROM:+0630
TZOFFSETTO:+0530
TZNAME:IST
END:STANDARD
END:VTIMEZONE
BEGIN:VEVENT
DTSTAMP:20251003T095030Z
UID:8745AE87-02BB-4DD1-819B-291094EB5D88
DTSTART;TZID=Asia/Kolkata:20240120T193000
DTEND;TZID=Asia/Kolkata:20240120T203000
DESCRIPTION:The IEEE SB SSIT event “#33 HYPERLEDGER FABRIC IN BLOCKCHAIN
 ” held on 20th January 2024 from 7:30 PM to 8:30 PM\,by our passionate s
 tudent\, Swathi Goswami of 2nd year CSE department was a grand success and
  provided an insightful introduction to Hyperledger Fabric\, providing a f
 undamental understanding of its architecture and highlighting its signific
 ance in blockchain networks.\n\nTIMINGS: 7:30 to 8:30 PM\n\nThe IEEE SB SS
 IT event “#33 HYPERLEDGER FABRIC IN BLOCKCHAIN” held on 20th January 2
 024\, by Swathi Goswami of 2nd year CSE department\, explored the complex 
 world of Hyperledger Fabric and how it has revolutionized blockchain techn
 ology. By highlighting Hyperledger Fabric&#39;s modular architecture and flexi
 bility for customized blockchain solutions\, participants were able to cle
 arly understand its unique features. The session emphasized how Hyperledge
 r Fabric has strong security built in to protect data confidentiality and 
 integrity. It was also highlighted how crucial the permissioned network mo
 del is for improved access control and privacy. The webinar illustrated th
 e platform&#39;s adaptability in resolving challenging business problems and p
 resented real-world use cases where Hyperledger Fabric has been successful
 ly implemented.Practical insights were shared with participants during the
  discussion of strategies for maximizing scalability and performance in Hy
 perledger Fabric networks.The session covered how Hyperledger Fabric can b
 e integrated with current technologies and systems. All of the participant
 s received certificates of gratitude acknowledging their enthusiasm for di
 scovering new fields. By exploring its features\, applications\, and real-
 world examples\, participants left with a deeper understanding of how Hype
 rledger Fabric is shaping the future of blockchain technology.\n\nSpeaker(
 s): Swathi Goswami\n\nVirtual: https://events.vtools.ieee.org/m/419841
LOCATION:Virtual: https://events.vtools.ieee.org/m/419841
ORGANIZER:saritha.ece@sairamit.edu.in
SEQUENCE:13
SUMMARY:ForBy Series #33 - HYPERLEDGER FABRIC IN BLOCKCHAIN
URL;VALUE=URI:https://events.vtools.ieee.org/m/419841
X-ALT-DESC:Description: &lt;br /&gt;&lt;p class=&quot;MsoNormal&quot;&gt;&lt;span style=&quot;font-size: 
 16.0pt\; line-height: 107%\;&quot;&gt;The IEEE SB SSIT event &amp;ldquo\;#33 HYPERLEDG
 ER FABRIC IN BLOCKCHAIN&amp;rdquo\; held on 20&lt;sup&gt;th&lt;/sup&gt; January 2024 from 
 7:30 PM to 8:30 PM\,by our passionate student\, Swathi Goswami of 2&lt;sup&gt;nd
 &lt;/sup&gt; year CSE department was a grand success and provided an insightful 
 introduction to Hyperledger Fabric\, providing a fundamental understanding
  of its architecture and highlighting its significance in blockchain netwo
 rks. &lt;/span&gt;&lt;/p&gt;\n&lt;p class=&quot;MsoNormal&quot;&gt;&lt;span style=&quot;font-size: 16.0pt\; li
 ne-height: 107%\;&quot;&gt;TIMINGS: 7:30 to 8:30 PM&lt;/span&gt;&lt;/p&gt;\n&lt;p class=&quot;MsoNorma
 l&quot;&gt;&lt;span style=&quot;font-size: 16.0pt\; line-height: 107%\;&quot;&gt;&amp;nbsp\;&lt;/span&gt;&lt;/p
 &gt;\n&lt;p class=&quot;MsoNormal&quot;&gt;&lt;span style=&quot;font-size: 16.0pt\; line-height: 107%
 \;&quot;&gt;The IEEE SB SSIT event &amp;ldquo\;#33 HYPERLEDGER FABRIC IN BLOCKCHAIN&amp;rd
 quo\; held on 20&lt;sup&gt;th&lt;/sup&gt; January 2024\, by Swathi Goswami of 2&lt;sup&gt;nd
 &lt;/sup&gt; year CSE department\, explored the complex world of Hyperledger Fab
 ric and how it has revolutionized blockchain technology. By highlighting H
 yperledger Fabric&#39;s modular architecture and flexibility for customized bl
 ockchain solutions\, participants were able to clearly understand its uniq
 ue features.&lt;/span&gt; &lt;span style=&quot;font-size: 16.0pt\; line-height: 107%\;&quot;&gt;
 The session emphasized how Hyperledger Fabric has strong security built in
  to protect data confidentiality and integrity. It was also highlighted ho
 w crucial the permissioned network model is for improved access control an
 d privacy. The webinar illustrated the platform&#39;s adaptability in resolvin
 g challenging business problems and presented real-world use cases where H
 yperledger Fabric has been successfully implemented.Practical insights wer
 e shared with participants during the discussion of strategies for maximiz
 ing scalability and performance in Hyperledger Fabric networks.The session
  covered how Hyperledger Fabric can be integrated with current technologie
 s and systems. All of the participants received certificates of gratitude 
 acknowledging their enthusiasm for discovering new fields. By exploring it
 s features\, applications\, and real-world examples\, participants left wi
 th a deeper understanding of how Hyperledger Fabric is shaping the future 
 of blockchain technology.&lt;/span&gt;&lt;/p&gt;\n&lt;p class=&quot;MsoNormal&quot;&gt;&lt;span style=&quot;fo
 nt-size: 16.0pt\; line-height: 107%\;&quot;&gt;&lt;img src=&quot;https://events.vtools.iee
 e.org/vtools_ui/media/display/a1c7fa54-3f73-4545-8ae4-01b4d036f6c1&quot;&gt;&lt;/span
 &gt;&lt;/p&gt;
END:VEVENT
END:VCALENDAR

