BEGIN:VCALENDAR
VERSION:2.0
PRODID:IEEE vTools.Events//EN
CALSCALE:GREGORIAN
BEGIN:VTIMEZONE
TZID:America/Chicago
BEGIN:DAYLIGHT
DTSTART:20240310T030000
TZOFFSETFROM:-0600
TZOFFSETTO:-0500
RRULE:FREQ=YEARLY;BYDAY=2SU;BYMONTH=3
TZNAME:CDT
END:DAYLIGHT
BEGIN:STANDARD
DTSTART:20241103T010000
TZOFFSETFROM:-0500
TZOFFSETTO:-0600
RRULE:FREQ=YEARLY;BYDAY=1SU;BYMONTH=11
TZNAME:CST
END:STANDARD
END:VTIMEZONE
BEGIN:VEVENT
DTSTAMP:20240607T174124Z
UID:EE8991A4-EF2E-46BB-A560-5C17AE0FDA22
DTSTART;TZID=America/Chicago:20240606T160000
DTEND;TZID=America/Chicago:20240606T170000
DESCRIPTION:The IEEE Central Illinois Section is cohosting a tour of the Na
 tional Weather Service forecasting and radar site in Lincoln\, IL. This fr
 ee\, in-person event is open to all IEEE members and students 18 years of 
 age and older.\n\nParking stalls and wheelchair access are available near 
 the front of the building. Federal law prohibits all visitors from bringin
 g firearms or other weapons into the facility. For any additional question
 s: please see the attached contact information.\n\nSpeaker(s): \, Ed Shimo
 n\n\n1362 IL-10\, Lincoln\, Illinois\, United States\, 62656
LOCATION:1362 IL-10\, Lincoln\, Illinois\, United States\, 62656
ORGANIZER:cils-chair@ieee.org
SEQUENCE:22
SUMMARY:An overview of National Weather Service operations and support func
 tions
URL;VALUE=URI:https://events.vtools.ieee.org/m/420110
X-ALT-DESC:Description: &lt;br /&gt;&lt;p&gt;The IEEE Central Illinois Section is cohos
 ting a tour of the National Weather Service forecasting and radar site in 
 Lincoln\, IL.&amp;nbsp\; This free\, in-person event is open to all IEEE membe
 rs and students 18 years of age and older.&lt;/p&gt;\n&lt;p&gt;Parking stalls and whee
 lchair access are available near the front of the building.&amp;nbsp\; Federal
  law prohibits all visitors from bringing firearms or other weapons into t
 he facility.&amp;nbsp\; For any additional questions: please see the attached 
 contact information.&lt;/p&gt;
END:VEVENT
END:VCALENDAR

