BEGIN:VCALENDAR
VERSION:2.0
PRODID:IEEE vTools.Events//EN
CALSCALE:GREGORIAN
BEGIN:VTIMEZONE
TZID:America/Los_Angeles
BEGIN:DAYLIGHT
DTSTART:20240310T030000
TZOFFSETFROM:-0800
TZOFFSETTO:-0700
RRULE:FREQ=YEARLY;BYDAY=2SU;BYMONTH=3
TZNAME:PDT
END:DAYLIGHT
BEGIN:STANDARD
DTSTART:20241103T010000
TZOFFSETFROM:-0700
TZOFFSETTO:-0800
RRULE:FREQ=YEARLY;BYDAY=1SU;BYMONTH=11
TZNAME:PST
END:STANDARD
END:VTIMEZONE
BEGIN:VEVENT
DTSTAMP:20240625T014614Z
UID:35578881-AEF1-4FEB-A699-F861B386E7E3
DTSTART;TZID=America/Los_Angeles:20240614T060000
DTEND;TZID=America/Los_Angeles:20240614T073000
DESCRIPTION:Join us for a Smart Cities Session on the City of Chicago. Find
  out why Chicago is one of the top smart cities in the world due to their 
 Smart health\, Smart mobility\, Smart governance\, Smart security\, Smart 
 lighting\, Smart connectivity and Smart water.\n\nChicago is ranked one of
  the top Smart Cities on the planet. Find out how your city can be more li
 ke Chicago.\n\nCo-sponsored by: IEEE Power and Energy Society\n\nSpeaker(s
 ): Jay Malin\, Debbie Reynolds\, Chris Gersch\n\nAgenda: \n6:00 am PDT IEE
 E Announcements\n6:05 am PDT Jay Malin\n6:30 am PDT Debbie Reynolds\n7:00 
 am PDT Christopher Gersch\n7:30 am PDT Paige Dansinger\n8:09 am PDT Aravan
 d Memana\n\nVirtual: https://events.vtools.ieee.org/m/420129
LOCATION:Virtual: https://events.vtools.ieee.org/m/420129
ORGANIZER:mike.brisbois@ieee.org
SEQUENCE:27
SUMMARY:IEEE CN Smart Cities Chicago 
URL;VALUE=URI:https://events.vtools.ieee.org/m/420129
X-ALT-DESC:Description: &lt;br /&gt;&lt;p&gt;Join us for a Smart Cities Session on the 
 City of Chicago. Find out why Chicago is one of the top smart cities in th
 e world due to their Smart health\, Smart mobility\, Smart governance\, Sm
 art security\, Smart lighting\, Smart connectivity and Smart water.&amp;nbsp\;
 &lt;/p&gt;\n&lt;p&gt;&lt;img src=&quot;https://events.vtools.ieee.org/vtools_ui/media/display/
 d03a6025-0ad0-4a89-8724-bddff79339c4&quot; width=&quot;845&quot; height=&quot;475&quot;&gt;&lt;/p&gt;\n&lt;p&gt;Ch
 icago is ranked one of the top Smart Cities on the planet. Find out how yo
 ur city can be more like Chicago.&amp;nbsp\;&lt;/p&gt;&lt;br /&gt;&lt;br /&gt;Agenda: &lt;br /&gt;&lt;p&gt;6
 :00&amp;nbsp\; am PDT IEEE Announcements&lt;br&gt;&lt;span style=&quot;font-size: 11.0pt\; l
 ine-height: 107%\; font-family: &#39;Aptos&#39;\,sans-serif\; mso-ascii-theme-font
 : minor-latin\; mso-fareast-font-family: Aptos\; mso-fareast-theme-font: m
 inor-latin\; mso-hansi-theme-font: minor-latin\; mso-bidi-font-family: &#39;Ti
 mes New Roman&#39;\; mso-bidi-theme-font: minor-bidi\; mso-ansi-language: EN-U
 S\; mso-fareast-language: EN-US\; mso-bidi-language: AR-SA\;&quot;&gt;6:05 am PDT 
 Jay Malin&lt;br&gt;6:30 am PDT Debbie Reynolds&lt;br&gt;7:00 am PDT Christopher Gersch
 &lt;br&gt;7:30 am PDT Paige Dansinger&lt;br&gt;8:09 am PDT Aravand Memana&lt;/span&gt;&lt;/p&gt;
END:VEVENT
END:VCALENDAR

