BEGIN:VCALENDAR
VERSION:2.0
PRODID:IEEE vTools.Events//EN
CALSCALE:GREGORIAN
BEGIN:VTIMEZONE
TZID:Asia/Kolkata
BEGIN:STANDARD
DTSTART:19451014T230000
TZOFFSETFROM:+0630
TZOFFSETTO:+0530
TZNAME:IST
END:STANDARD
END:VTIMEZONE
BEGIN:VEVENT
DTSTAMP:20240608T073825Z
UID:140F72E6-B8C7-4A64-94D5-DFBF7ADEE06F
DTSTART;TZID=Asia/Kolkata:20240604T143000
DTEND;TZID=Asia/Kolkata:20240604T193000
DESCRIPTION:A virtual technical workshop will be organized by the experts o
 f Empire XPU team\, where they will give hands on demonstration of their c
 utting edge EM simulation software and cover important topics related to E
 M engineering.\n\nSpecifically\, the following topics would be covered:\n\
 n- Advanced EM simulation using fast FDTD algorithm\n- Antenna and Radar a
 pplications\n- Selected Empire Features for antenna and Radar simulations\
 n- Antenna Array modelling and design\n- Radar Rx phase difference evaluat
 ion\n\nVirtual: https://events.vtools.ieee.org/m/420515
LOCATION:Virtual: https://events.vtools.ieee.org/m/420515
ORGANIZER:ieee.apmtts.sbciitkgp@gmail.com
SEQUENCE:72
SUMMARY:HANDS-ON 3D EM DESIGN WORKSHOP USING EMPIRE XPU
URL;VALUE=URI:https://events.vtools.ieee.org/m/420515
X-ALT-DESC:Description: &lt;br /&gt;&lt;p&gt;A virtual technical workshop will be organ
 ized by the experts of Empire XPU team\, where they will give hands on dem
 onstration of their cutting edge EM simulation software and cover importan
 t topics related to EM engineering.&amp;nbsp\;&lt;/p&gt;\n&lt;p&gt;Specifically\, the foll
 owing topics would be covered:&lt;/p&gt;\n&lt;ul&gt;\n&lt;li&gt;Advanced EM simulation using
  fast FDTD algorithm&lt;/li&gt;\n&lt;li&gt;Antenna and Radar applications&lt;/li&gt;\n&lt;li&gt;Se
 lected Empire Features for antenna and Radar simulations&lt;/li&gt;\n&lt;li&gt;Antenna
  Array modelling and design&lt;/li&gt;\n&lt;li&gt;Radar Rx phase difference evaluation
 &lt;/li&gt;\n&lt;/ul&gt;\n&lt;p&gt;&amp;nbsp\;&lt;/p&gt;
END:VEVENT
END:VCALENDAR

