BEGIN:VCALENDAR
VERSION:2.0
PRODID:IEEE vTools.Events//EN
CALSCALE:GREGORIAN
BEGIN:VTIMEZONE
TZID:Asia/Kolkata
BEGIN:STANDARD
DTSTART:19451014T230000
TZOFFSETFROM:+0630
TZOFFSETTO:+0530
TZNAME:IST
END:STANDARD
END:VTIMEZONE
BEGIN:VEVENT
DTSTAMP:20240511T202322Z
UID:78B1A017-C923-4D8A-B608-FD749026796F
DTSTART;TZID=Asia/Kolkata:20240411T150000
DTEND;TZID=Asia/Kolkata:20240411T170200
DESCRIPTION:Social Tank event was held on the April 11\, 2024 in collaborat
 ion with IEEE SIGHT Delhi Section\, Rotaract Club Waknaghat\, JUIT and IEE
 E JUIT SB. The event provided a platform for teams representing various no
 n-governmental organizations (NGOs) to pitch their corporate social respon
 sibility (CSR) ideas to esteemed judges from the industry. With prominent 
 companies like Reliance Industries Limited\, Tata Group\, Infosys\, Wipro 
 Limited\, and Mahindra Group as focal points\, the event aimed to foster c
 ollaboration and innovation in addressing social and environmental challen
 ges. CSR programs aim to structure a company&#39;s efforts to give back to the
  community\, participate in philanthropic causes\, and provide positive so
 cial value. The event highlighted the importance of aligning CSR initiativ
 es with social causes such as education\, healthcare\, environmental conse
 rvation\, and community development.\n\nWinners:\n\n1. Winner: Team pi_Squ
 are (Parth Gupta\, Amol Arora)\n\n2. Runner-up: Team 2K&#39;s (Kartikey Srivas
 tava\,Yash Khatri)\n\n3. 2nd Runner-up: Team Richie Rich (Anshika Bhardwaj
 )\n\nThe Social Tank event served as a catalyst for innovative CSR ideas a
 nd meaningful partnerships between NGOs and corporate entities. By showcas
 ing the commitment of companies like Reliance Industries Limited\, Tata Gr
 oup\, Infosys\, Wipro Limited\, and Mahindra Group to social development\,
  the event underscored the importance of collaborative efforts in creating
  a positive impact on society and the environment. As winners were announc
 ed and connections were forged\, the event concluded on a note of optimism
 \, paving the way for continued collaboration towards a better future for 
 all.\n\nRoom: CR-4\, Jaypee University Of Information Technology\, Solan\,
  Himachal Pradesh\, India\, 173234
LOCATION:Room: CR-4\, Jaypee University Of Information Technology\, Solan\,
  Himachal Pradesh\, India\, 173234
ORGANIZER:ieee.sight@juitsolan.in
SEQUENCE:5
SUMMARY:Social Tank
URL;VALUE=URI:https://events.vtools.ieee.org/m/420558
X-ALT-DESC:Description: &lt;br /&gt;&lt;p class=&quot;Normal1&quot; style=&quot;text-align: justify
 \; line-height: 150%\;&quot;&gt;&lt;span lang=&quot;EN-US&quot; style=&quot;font-size: 12.0pt\; line
 -height: 150%\; font-family: &#39;Times New Roman&#39;\,serif\;&quot;&gt;Social Tank event
  was held on the April 11\, 2024 in collaboration with IEEE SIGHT Delhi Se
 ction\, Rotaract Club Waknaghat\, JUIT and IEEE JUIT SB. The event provide
 d a platform for teams representing various non-governmental organizations
  (NGOs) to pitch their corporate social responsibility (CSR) ideas to este
 emed judges from the industry. With prominent companies like Reliance Indu
 stries Limited\, Tata Group\, Infosys\, Wipro Limited\, and Mahindra Group
  as focal points\, the event aimed to foster collaboration and innovation 
 in addressing social and environmental challenges. CSR programs aim to str
 ucture a company&#39;s efforts to give back to the community\, participate in 
 philanthropic causes\, and provide positive social value. The event highli
 ghted the importance of aligning CSR initiatives with social causes such a
 s education\, healthcare\, environmental conservation\, and community deve
 lopment.&lt;/span&gt;&lt;/p&gt;\n&lt;p class=&quot;Normal1&quot; style=&quot;text-align: justify\; line-
 height: 150%\;&quot;&gt;&lt;strong style=&quot;mso-bidi-font-weight: normal\;&quot;&gt;&lt;span lang=
 &quot;EN-US&quot; style=&quot;font-size: 12.0pt\; line-height: 150%\; font-family: &#39;Times
  New Roman&#39;\,serif\;&quot;&gt;Winners&lt;/span&gt;&lt;/strong&gt;&lt;span lang=&quot;EN-US&quot; style=&quot;fon
 t-size: 12.0pt\; line-height: 150%\; font-family: &#39;Times New Roman&#39;\,serif
 \;&quot;&gt;:&lt;/span&gt;&lt;/p&gt;\n&lt;p class=&quot;Normal1&quot; style=&quot;margin-left: 36.0pt\; text-ali
 gn: justify\; text-indent: -18.0pt\; line-height: 150%\; mso-list: l0 leve
 l1 lfo1\;&quot;&gt;&lt;!-- [if !supportLists]--&gt;&lt;strong style=&quot;mso-bidi-font-weight: 
 normal\;&quot;&gt;&lt;span lang=&quot;EN-US&quot; style=&quot;font-size: 12.0pt\; line-height: 150%\
 ; font-family: &#39;Times New Roman&#39;\,serif\; mso-fareast-font-family: &#39;Times 
 New Roman&#39;\;&quot;&gt;&lt;span style=&quot;mso-list: Ignore\;&quot;&gt;1.&lt;span style=&quot;font: 7.0pt 
 &#39;Times New Roman&#39;\;&quot;&gt;&amp;nbsp\;&amp;nbsp\;&amp;nbsp\;&amp;nbsp\;&amp;nbsp\; &lt;/span&gt;&lt;/span&gt;&lt;/s
 pan&gt;&lt;/strong&gt;&lt;!--[endif]--&gt;&lt;strong style=&quot;mso-bidi-font-weight: normal\;&quot;&gt;
 &lt;span lang=&quot;EN-US&quot; style=&quot;font-size: 12.0pt\; line-height: 150%\; font-fam
 ily: &#39;Times New Roman&#39;\,serif\;&quot;&gt;Winner:&lt;/span&gt;&lt;/strong&gt;&lt;span lang=&quot;EN-US&quot;
  style=&quot;font-size: 12.0pt\; line-height: 150%\; font-family: &#39;Times New Ro
 man&#39;\,serif\;&quot;&gt; Team pi_Square (Parth Gupta\, Amol Arora)&lt;/span&gt;&lt;/p&gt;\n&lt;p c
 lass=&quot;Normal1&quot; style=&quot;margin-left: 36.0pt\; text-align: justify\; text-ind
 ent: -18.0pt\; line-height: 150%\; mso-list: l0 level1 lfo1\;&quot;&gt;&lt;!-- [if !s
 upportLists]--&gt;&lt;strong style=&quot;mso-bidi-font-weight: normal\;&quot;&gt;&lt;span lang=&quot;
 EN-US&quot; style=&quot;font-size: 12.0pt\; line-height: 150%\; font-family: &#39;Times 
 New Roman&#39;\,serif\; mso-fareast-font-family: &#39;Times New Roman&#39;\;&quot;&gt;&lt;span st
 yle=&quot;mso-list: Ignore\;&quot;&gt;2.&lt;span style=&quot;font: 7.0pt &#39;Times New Roman&#39;\;&quot;&gt;&amp;
 nbsp\;&amp;nbsp\;&amp;nbsp\;&amp;nbsp\;&amp;nbsp\; &lt;/span&gt;&lt;/span&gt;&lt;/span&gt;&lt;/strong&gt;&lt;!--[endi
 f]--&gt;&lt;strong style=&quot;mso-bidi-font-weight: normal\;&quot;&gt;&lt;span lang=&quot;EN-US&quot; sty
 le=&quot;font-size: 12.0pt\; line-height: 150%\; font-family: &#39;Times New Roman&#39;
 \,serif\;&quot;&gt;Runner-up&lt;/span&gt;&lt;/strong&gt;&lt;span lang=&quot;EN-US&quot; style=&quot;font-size: 1
 2.0pt\; line-height: 150%\; font-family: &#39;Times New Roman&#39;\,serif\;&quot;&gt;: Tea
 m 2K&#39;s (Kartikey Srivastava\,Yash Khatri)&lt;/span&gt;&lt;/p&gt;\n&lt;p class=&quot;Normal1&quot; s
 tyle=&quot;margin-left: 36.0pt\; text-align: justify\; text-indent: -18.0pt\; l
 ine-height: 150%\; mso-list: l0 level1 lfo1\;&quot;&gt;&lt;!-- [if !supportLists]--&gt;&lt;
 strong style=&quot;mso-bidi-font-weight: normal\;&quot;&gt;&lt;span lang=&quot;EN-US&quot; style=&quot;fo
 nt-size: 12.0pt\; line-height: 150%\; font-family: &#39;Times New Roman&#39;\,seri
 f\; mso-fareast-font-family: &#39;Times New Roman&#39;\;&quot;&gt;&lt;span style=&quot;mso-list: I
 gnore\;&quot;&gt;3.&lt;span style=&quot;font: 7.0pt &#39;Times New Roman&#39;\;&quot;&gt;&amp;nbsp\;&amp;nbsp\;&amp;nb
 sp\;&amp;nbsp\;&amp;nbsp\; &lt;/span&gt;&lt;/span&gt;&lt;/span&gt;&lt;/strong&gt;&lt;!--[endif]--&gt;&lt;strong sty
 le=&quot;mso-bidi-font-weight: normal\;&quot;&gt;&lt;span lang=&quot;EN-US&quot; style=&quot;font-size: 1
 2.0pt\; line-height: 150%\; font-family: &#39;Times New Roman&#39;\,serif\;&quot;&gt;2nd R
 unner-up:&lt;/span&gt;&lt;/strong&gt;&lt;span lang=&quot;EN-US&quot; style=&quot;font-size: 12.0pt\; lin
 e-height: 150%\; font-family: &#39;Times New Roman&#39;\,serif\;&quot;&gt; Team Richie Ric
 h&lt;strong style=&quot;mso-bidi-font-weight: normal\;&quot;&gt; (&lt;/strong&gt;Anshika Bhardwa
 j)&lt;/span&gt;&lt;/p&gt;\n&lt;p class=&quot;Normal1&quot; style=&quot;text-align: justify\; line-height
 : 150%\;&quot;&gt;&lt;span lang=&quot;EN-US&quot; style=&quot;font-size: 12.0pt\; line-height: 150%\
 ; font-family: &#39;Times New Roman&#39;\,serif\;&quot;&gt;The Social Tank event served as
  a catalyst for innovative CSR ideas and meaningful partnerships between N
 GOs and corporate entities. By showcasing the commitment of companies like
  Reliance Industries Limited\, Tata Group\, Infosys\, Wipro Limited\, and 
 Mahindra Group to social development\, the event underscored the importanc
 e of collaborative efforts in creating a positive impact on society and th
 e environment. As winners were announced and connections were forged\, the
  event concluded on a note of optimism\, paving the way for continued coll
 aboration towards a better future for all.&lt;/span&gt;&lt;/p&gt;
END:VEVENT
END:VCALENDAR

