BEGIN:VCALENDAR
VERSION:2.0
PRODID:IEEE vTools.Events//EN
CALSCALE:GREGORIAN
BEGIN:VTIMEZONE
TZID:America/Los_Angeles
BEGIN:DAYLIGHT
DTSTART:20240310T030000
TZOFFSETFROM:-0800
TZOFFSETTO:-0700
RRULE:FREQ=YEARLY;BYDAY=2SU;BYMONTH=3
TZNAME:PDT
END:DAYLIGHT
BEGIN:STANDARD
DTSTART:20241103T010000
TZOFFSETFROM:-0700
TZOFFSETTO:-0800
RRULE:FREQ=YEARLY;BYDAY=1SU;BYMONTH=11
TZNAME:PST
END:STANDARD
END:VTIMEZONE
BEGIN:VEVENT
DTSTAMP:20240522T031048Z
UID:379BF790-C223-4F5A-A7E8-632276B6F0EB
DTSTART;TZID=America/Los_Angeles:20240514T173000
DTEND;TZID=America/Los_Angeles:20240514T185000
DESCRIPTION:In today&#39;s engineering environment the need for requirements an
 d requirements management is a given. Any industry can benefit from the us
 e of Systems Engineering. Good requirements help keep projects on track\, 
 ensure the needs of the customer/user are met\, and provide a baseline for
  the V&amp;V team. A good process and tool can prevent scope creep as changes 
 are managed and traced. This talk will describe best practices in getting 
 started with requirements management tools. While many tools are introduce
 d as silver bullets\, the reality is that the introduction of a process an
 d tool takes time and effort to learn and impacts processes. Schedules wil
 l likely expand and not compress on the first project to use a tool. I&#39;ll 
 walk through an example of how introducing SE can help a company focus on 
 results and create an efficient process to document projects and build the
  required deliverables.\n\nCo-sponsored by: Seattle University Student Cha
 pter\n\nSpeaker(s): Paul Kostek\n\nAgenda: \n5.30 PM to 6.00 PM Networking
  and Dinner\n6.00 PM to 6.50 PM Techtalk\n\nRoom: Room # Stuart T. Rolfe C
 ommunity Room \, Bldg: Admissions and Alumni Building\,\, Seattle Univers
 ity\, 824 12th Ave\, Seattle\, WA 98122\, Seattle\, Washington\, United St
 ates\, 98122\, Virtual: https://events.vtools.ieee.org/m/420698
LOCATION:Room: Room # Stuart T. Rolfe Community Room \, Bldg: Admissions a
 nd Alumni Building\,\, Seattle University\, 824 12th Ave\, Seattle\, WA 98
 122\, Seattle\, Washington\, United States\, 98122\, Virtual: https://even
 ts.vtools.ieee.org/m/420698
ORGANIZER:dfischer@ieee.org
SEQUENCE:22
SUMMARY:IEEE Tech Talk: Getting Started with Systems Engineering and Requir
 ements Management 
URL;VALUE=URI:https://events.vtools.ieee.org/m/420698
X-ALT-DESC:Description: &lt;br /&gt;&lt;p class=&quot;MsoNormal&quot;&gt;&amp;nbsp\;&lt;/p&gt;\n&lt;p class=&quot;M
 soNormal&quot;&gt;&lt;img src=&quot;https://events.vtools.ieee.org/vtools_ui/media/display
 /9e879e6d-8595-40b2-9a66-de08046cd2f8&quot;&gt;&lt;/p&gt;\n&lt;p class=&quot;MsoNormal&quot;&gt;In today
 &#39;s engineering environment the need for requirements and requirements mana
 gement is a given. Any industry can benefit from the use of Systems Engine
 ering. Good requirements help keep projects on track\, ensure the needs of
  the customer/user are met\, and provide a baseline for the V&amp;amp\;V team.
  A good process and tool can prevent scope creep as changes are managed an
 d traced. This talk will describe best practices in getting started with r
 equirements management tools. While many tools are introduced as silver bu
 llets\, the reality is that the introduction of a process and tool takes t
 ime and effort to learn and impacts processes. Schedules will likely expan
 d and not compress on the first project to use a tool. I&#39;ll walk through a
 n example of how introducing SE can help a company focus on results and cr
 eate an efficient process to document projects and build the required deli
 verables.&lt;/p&gt;&lt;br /&gt;&lt;br /&gt;Agenda: &lt;br /&gt;&lt;p style=&quot;font-weight: 400\;&quot;&gt;5.30 
 PM to 6.00 PM Networking and Dinner&lt;br&gt;6.00 PM to 6.50 PM Techtalk&lt;/p&gt;\n&lt;p
  style=&quot;font-weight: 400\;&quot;&gt;&amp;nbsp\;&lt;/p&gt;
END:VEVENT
END:VCALENDAR

