BEGIN:VCALENDAR
VERSION:2.0
PRODID:IEEE vTools.Events//EN
CALSCALE:GREGORIAN
BEGIN:VTIMEZONE
TZID:Europe/Brussels
BEGIN:DAYLIGHT
DTSTART:20240331T030000
TZOFFSETFROM:+0100
TZOFFSETTO:+0200
RRULE:FREQ=YEARLY;BYDAY=-1SU;BYMONTH=3
TZNAME:CEST
END:DAYLIGHT
BEGIN:STANDARD
DTSTART:20241027T020000
TZOFFSETFROM:+0200
TZOFFSETTO:+0100
RRULE:FREQ=YEARLY;BYDAY=-1SU;BYMONTH=10
TZNAME:CET
END:STANDARD
END:VTIMEZONE
BEGIN:VEVENT
DTSTAMP:20240531T194912Z
UID:9DC5504B-6486-4959-993D-596E71482432
DTSTART;TZID=Europe/Brussels:20240529T150000
DTEND;TZID=Europe/Brussels:20240529T163000
DESCRIPTION:The VT/COM joint chapter of the IEEE Benelux section are please
 d to invite you to this IEEE Distinguished Lecture by Dr Kumar Vijay Mishr
 a on the topic of &quot;Recent Advances in Dual-Blind Deconvolution for Joint R
 adar-Communications&quot; at the University of Luxembourg. This is a hybrid eve
 nt with connection details in the flyer.\n\nSpeaker(s): Dr. Mishra\, \n\nR
 oom: E004/ Metz\, Bldg: SnT\, 29 Avenue J. F. Kennedy\, Luxembourg\, Luxem
 bourg\, Luxembourg\, 1855\, Virtual: https://events.vtools.ieee.org/m/4208
 22
LOCATION:Room: E004/ Metz\, Bldg: SnT\, 29 Avenue J. F. Kennedy\, Luxembour
 g\, Luxembourg\, Luxembourg\, 1855\, Virtual: https://events.vtools.ieee.o
 rg/m/420822
ORGANIZER:Bhavani.Shankar@uni.lu
SEQUENCE:9
SUMMARY:IEEE Distinguished Lecture on Recent Advances in Dual-Blind Deconvo
 lution for Joint Radar-Communications
URL;VALUE=URI:https://events.vtools.ieee.org/m/420822
X-ALT-DESC:Description: &lt;br /&gt;&lt;p&gt;The&amp;nbsp\; VT/COM joint chapter of the IEE
 E Benelux section are pleased to invite you to this IEEE Distinguished Lec
 ture by Dr Kumar Vijay Mishra on the topic of &quot;Recent Advances in Dual-Bli
 nd Deconvolution for Joint Radar-Communications&quot; at the University of Luxe
 mbourg. This is a hybrid event with connection details in the flyer.&lt;/p&gt;\n
 &lt;p&gt;&amp;nbsp\;&lt;/p&gt;
END:VEVENT
END:VCALENDAR

