BEGIN:VCALENDAR
VERSION:2.0
PRODID:IEEE vTools.Events//EN
CALSCALE:GREGORIAN
BEGIN:VTIMEZONE
TZID:America/Denver
BEGIN:DAYLIGHT
DTSTART:20240310T030000
TZOFFSETFROM:-0700
TZOFFSETTO:-0600
RRULE:FREQ=YEARLY;BYDAY=2SU;BYMONTH=3
TZNAME:MDT
END:DAYLIGHT
BEGIN:STANDARD
DTSTART:20241103T010000
TZOFFSETFROM:-0600
TZOFFSETTO:-0700
RRULE:FREQ=YEARLY;BYDAY=1SU;BYMONTH=11
TZNAME:MST
END:STANDARD
END:VTIMEZONE
BEGIN:VEVENT
DTSTAMP:20240523T013030Z
UID:FC115173-468F-47F0-B722-C04EB718D2EE
DTSTART;TZID=America/Denver:20240522T183000
DTEND;TZID=America/Denver:20240522T193000
DESCRIPTION:This presentation delves into the basics of developing applicat
 ions powered by Large Language Models (LLMs)\, using the open-source termi
 nal application DeveloperGPT as a primary example. Attendees will learn ab
 out the foundational concepts required for developing LLM applications\, t
 echniques for effective prompting and performance evaluation\, strategies 
 for LLM-application integration\, and the considerations involved in using
  various LLMs.\n\nThis talk is free and open to the public.\n\nSpeaker(s):
  Anthony Luo\, \n\nVirtual: https://events.vtools.ieee.org/m/420871
LOCATION:Virtual: https://events.vtools.ieee.org/m/420871
ORGANIZER:cgunning@ieee.org
SEQUENCE:25
SUMMARY:Developing LLM-Powered Applications
URL;VALUE=URI:https://events.vtools.ieee.org/m/420871
X-ALT-DESC:Description: &lt;br /&gt;&lt;p&gt;This presentation delves into the basics o
 f developing applications powered by Large Language Models (LLMs)\, using 
 the open-source terminal application DeveloperGPT as a primary example. At
 tendees will learn about the foundational concepts required for developing
  LLM applications\, techniques for effective prompting and performance eva
 luation\, strategies for LLM-application integration\, and the considerati
 ons involved in using various LLMs.&lt;/p&gt;\n&lt;p&gt;&lt;strong&gt;This talk is free and 
 open to the public.&lt;/strong&gt;&lt;/p&gt;
END:VEVENT
END:VCALENDAR

