BEGIN:VCALENDAR
VERSION:2.0
PRODID:IEEE vTools.Events//EN
CALSCALE:GREGORIAN
BEGIN:VTIMEZONE
TZID:Asia/Kolkata
BEGIN:STANDARD
DTSTART:19451014T230000
TZOFFSETFROM:+0630
TZOFFSETTO:+0530
TZNAME:IST
END:STANDARD
END:VTIMEZONE
BEGIN:VEVENT
DTSTAMP:20250129T060025Z
UID:878BBE4A-740F-428B-8069-23CB6DA03E3F
DTSTART;TZID=Asia/Kolkata:20240319T150000
DTEND;TZID=Asia/Kolkata:20240319T180000
DESCRIPTION:Legacy\, an evening extravaganza organized by IEEE SNIST as par
 t of Adastra\, made a highly anticipated return for its second edition\, d
 elivering an unforgettable display of talent and entertainment. As a key e
 vent within Adastra\, Legacy celebrates creativity and expression\, offeri
 ng students a vibrant platform to showcase their skills. The IEEE SNIST te
 am meticulously organizes the event\, transforming the venue into a lively
  hub of artistic flair and energy. Open mic sessions invite participants t
 o express their creativity through music\, poetry\, dance\, or stand-up co
 medy\, fostering an atmosphere of camaraderie and celebration.\n\nAdding t
 o the evening&#39;s allure\, Legacy featured Navdeep\, a renowned celebrity\, 
 who engaged with the enthusiastic audience. Navdeep&#39;s presence brought sta
 r power to the event\, captivating the crowd with his charisma and charm. 
 His interaction with attendees created memorable moments\, enhancing the e
 xcitement and glamour of the occasion. Alongside Navdeep&#39;s appearance\, el
 ectrifying dance performances showcased the talent and dynamism of the ins
 titute&#39;s students. The pulsating beats of the DJ kept energy levels high\,
  ensuring that every moment of Legacy was filled with exhilaration and joy
 .\n\nStudents attending Legacy were treated to an unforgettable experience
 \, thoroughly enjoying every aspect of the evening. From captivating perfo
 rmances to engaging interactions with Navdeep\, the event offered a perfec
 t blend of entertainment and camaraderie. The open mic sessions allowed st
 udents to freely express themselves and share their talents with peers\, f
 ostering a sense of community and mutual appreciation. As the night unfold
 ed\, laughter\, applause\, and cheers reverberated throughout the venue\, 
 testifying to the success of Legacy and leaving attendees eagerly anticipa
 ting future editions of this iconic event.\n\nCo-sponsored by: IEEE SNIST 
 Student Funds\n\nSreenidhi Institute of Science and Technology \, Yamnampe
 t\,Ghatkeswar \,Telangana\,501301\, Hyderabad\, Andhra Pradesh\, India\, 5
 01301
LOCATION:Sreenidhi Institute of Science and Technology \, Yamnampet\,Ghatke
 swar \,Telangana\,501301\, Hyderabad\, Andhra Pradesh\, India\, 501301
ORGANIZER:bhargavi9515@gmail.com
SEQUENCE:15
SUMMARY:Legacy
URL;VALUE=URI:https://events.vtools.ieee.org/m/420927
X-ALT-DESC:Description: &lt;br /&gt;&lt;p&gt;Legacy\, an evening extravaganza organized
  by IEEE SNIST as part of Adastra\, made a highly anticipated return for i
 ts second edition\, delivering an unforgettable display of talent and ente
 rtainment. As a key event within Adastra\, Legacy celebrates creativity an
 d expression\, offering students a vibrant platform to showcase their skil
 ls. The IEEE SNIST team meticulously organizes the event\, transforming th
 e venue into a lively hub of artistic flair and energy. Open mic sessions 
 invite participants to express their creativity through music\, poetry\, d
 ance\, or stand-up comedy\, fostering an atmosphere of camaraderie and cel
 ebration.&lt;/p&gt;\n&lt;p&gt;Adding to the evening&#39;s allure\, Legacy featured Navdeep
 \, a renowned celebrity\, who engaged with the enthusiastic audience. Navd
 eep&#39;s presence brought star power to the event\, captivating the crowd wit
 h his charisma and charm. His interaction with attendees created memorable
  moments\, enhancing the excitement and glamour of the occasion. Alongside
  Navdeep&#39;s appearance\, electrifying dance performances showcased the tale
 nt and dynamism of the institute&#39;s students. The pulsating beats of the DJ
  kept energy levels high\, ensuring that every moment of Legacy was filled
  with exhilaration and joy.&lt;/p&gt;\n&lt;p&gt;Students attending Legacy were treated
  to an unforgettable experience\, thoroughly enjoying every aspect of the 
 evening. From captivating performances to engaging interactions with Navde
 ep\, the event offered a perfect blend of entertainment and camaraderie. T
 he open mic sessions allowed students to freely express themselves and sha
 re their talents with peers\, fostering a sense of community and mutual ap
 preciation. As the night unfolded\, laughter\, applause\, and cheers rever
 berated throughout the venue\, testifying to the success of Legacy and lea
 ving attendees eagerly anticipating future editions of this iconic event.&lt;
 /p&gt;
END:VEVENT
END:VCALENDAR

