BEGIN:VCALENDAR
VERSION:2.0
PRODID:IEEE vTools.Events//EN
CALSCALE:GREGORIAN
BEGIN:VTIMEZONE
TZID:America/Bogota
BEGIN:DAYLIGHT
DTSTART:20380118T221407
TZOFFSETFROM:-0500
TZOFFSETTO:-0500
RRULE:FREQ=YEARLY;BYDAY=3MO;BYMONTH=1
TZNAME:-05
END:DAYLIGHT
BEGIN:STANDARD
DTSTART:19930206T230000
TZOFFSETFROM:-0400
TZOFFSETTO:-0500
RRULE:FREQ=YEARLY;BYDAY=1SA;BYMONTH=2
TZNAME:-05
END:STANDARD
END:VTIMEZONE
BEGIN:VEVENT
DTSTAMP:20240522T224106Z
UID:60C2F763-850A-44F0-B4BB-C2D694768CFB
DTSTART;TZID=America/Bogota:20240515T190000
DTEND;TZID=America/Bogota:20240515T200000
DESCRIPTION:Importance of participating in the RoboCup\n\nEsta videoconfere
 ncia te permitirá obtener una perspectiva internacional respecto a compet
 encias de robótica y estimular a que los estudiantes empiecen a competir 
 en un escenario global con desafíos que realmente impulsen su crecimiento
  profesional y académico.\n\n[]\n\nSpeaker(s): \, Marco \n\nVirtual: http
 s://events.vtools.ieee.org/m/420933
LOCATION:Virtual: https://events.vtools.ieee.org/m/420933
ORGANIZER:ras-peru@ieee.org
SEQUENCE:10
SUMMARY:Importance of participating in the RoboCup
URL;VALUE=URI:https://events.vtools.ieee.org/m/420933
X-ALT-DESC:Description: &lt;br /&gt;&lt;p&gt;Importance of participating in the RoboCup
 &lt;/p&gt;\n&lt;p&gt;Esta videoconferencia te permitir&amp;aacute\; obtener una perspectiv
 a internacional respecto a competencias de rob&amp;oacute\;tica y estimular a 
 que los estudiantes empiecen a competir en un escenario global con desaf&amp;i
 acute\;os que realmente impulsen su crecimiento profesional y acad&amp;eacute\
 ;mico.&lt;/p&gt;\n&lt;p&gt;&lt;img src=&quot;https://events.vtools.ieee.org/vtools_ui/media/di
 splay/92d835a1-543b-4860-904a-0a0382f140e8&quot; alt=&quot;&quot; width=&quot;100%&quot; height=&quot;au
 to&quot;&gt;&lt;/p&gt;
END:VEVENT
END:VCALENDAR

