BEGIN:VCALENDAR
VERSION:2.0
PRODID:IEEE vTools.Events//EN
CALSCALE:GREGORIAN
BEGIN:VTIMEZONE
TZID:Japan
BEGIN:STANDARD
DTSTART:19510909T000000
TZOFFSETFROM:+1000
TZOFFSETTO:+0900
TZNAME:JST
END:STANDARD
END:VTIMEZONE
BEGIN:VEVENT
DTSTAMP:20250324T080013Z
UID:553E9D4B-5836-4BB9-B129-EB4D26A6AD69
DTSTART;TZID=Japan:20240524T103000
DTEND;TZID=Japan:20240524T113000
DESCRIPTION:An invited talk by Prof. Sumiko Miyata\, Associate Professor\, 
 Tokyo Institute of Technology\, Japan\, will be held on May 24\, 2024\, in
  Room R205\, Education &amp; Research Building No. 8\, Muroran Institute of Te
 chnology\, 27-1 Mizumoto-cho\, Muroran\, Hokkaido\, 0508585 Japan. Prof. S
 umiko Miyata will share some interesting ideas about Network Infrastructur
 e to Realize City as a Service.\n\nCO-ORGANIZED BY:\n\nIEEE Muroran Instit
 ute of Technology Student Branch\n\nIEEE Sapporo Section Young Professiona
 ls (YP)\n\nEmerging Networks and Systems Laboratory (ENeS)\, Muroran Insti
 tute of Technology\n\nSpeaker(s): Prof. Sumiko Miyata\n\nBldg: R205\, 27-1
  Mizumoto-cho\, Muroran\, Hokkaido\, Muroran\, Hokkaido\, Japan\, 0508585
LOCATION:Bldg: R205\, 27-1 Mizumoto-cho\, Muroran\, Hokkaido\, Muroran\, Ho
 kkaido\, Japan\, 0508585
ORGANIZER:23096002@muroran-it.ac.jp
SEQUENCE:21
SUMMARY:Invited Talk at Muroran Institute of Technology (Co-organized)
URL;VALUE=URI:https://events.vtools.ieee.org/m/421164
X-ALT-DESC:Description: &lt;br /&gt;&lt;p&gt;An invited talk by Prof. Sumiko Miyata\, A
 ssociate Professor\, Tokyo Institute of Technology\, Japan\, will be held 
 on May 24\, 2024\, in Room R205\, Education &amp;amp\; Research Building No. 8
 \, Muroran Institute of Technology\, 27-1 Mizumoto-cho\, Muroran\, Hokkaid
 o\, 0508585 Japan. Prof. Sumiko Miyata will share some interesting ideas a
 bout Network Infrastructure to Realize City as a Service.&lt;/p&gt;\n&lt;p&gt;CO-ORGAN
 IZED BY:&lt;/p&gt;\n&lt;p&gt;IEEE Muroran Institute of Technology Student Branch&lt;/p&gt;\n
 &lt;p&gt;IEEE Sapporo Section Young Professionals (YP)&lt;/p&gt;\n&lt;p&gt;Emerging Networks
  and Systems Laboratory (ENeS)\, Muroran Institute of Technology&lt;/p&gt;
END:VEVENT
END:VCALENDAR

