BEGIN:VCALENDAR
VERSION:2.0
PRODID:IEEE vTools.Events//EN
CALSCALE:GREGORIAN
BEGIN:VTIMEZONE
TZID:America/Chicago
BEGIN:DAYLIGHT
DTSTART:20240310T030000
TZOFFSETFROM:-0600
TZOFFSETTO:-0500
RRULE:FREQ=YEARLY;BYDAY=2SU;BYMONTH=3
TZNAME:CDT
END:DAYLIGHT
BEGIN:STANDARD
DTSTART:20241103T010000
TZOFFSETFROM:-0500
TZOFFSETTO:-0600
RRULE:FREQ=YEARLY;BYDAY=1SU;BYMONTH=11
TZNAME:CST
END:STANDARD
END:VTIMEZONE
BEGIN:VEVENT
DTSTAMP:20240730T170144Z
UID:0062D537-8055-4CB2-B00B-2BA3A5AFDA04
DTSTART;TZID=America/Chicago:20240721T120000
DTEND;TZID=America/Chicago:20240721T150000
DESCRIPTION:Hello Winnipeg IEEE members and Capstone award candidates\,\n\n
 Join us for Networking and a BBQ as we hand out IEEE awards to Capstone te
 ams. This event is hosted by Winnipeg YP in St. Vital Park\, at picnic sit
 e #4. The event is free. Registration is required.\n\nLocation changed to 
 St. Vital Park at picnic site #3. See below map for location details.\n\nS
 t. Vital Park\, Picnic site 3\, Winnipeg\, Manitoba\, Canada
LOCATION:St. Vital Park\, Picnic site 3\, Winnipeg\, Manitoba\, Canada
ORGANIZER:jolenekozak111@gmail.com
SEQUENCE:35
SUMMARY:IEEE WINNIPEG CAPSTONE AWARD BBQ
URL;VALUE=URI:https://events.vtools.ieee.org/m/421185
X-ALT-DESC:Description: &lt;br /&gt;&lt;p&gt;Hello Winnipeg IEEE members and Capstone a
 ward candidates\,&lt;/p&gt;\n&lt;p&gt;Join us for Networking and a BBQ as we hand out 
 IEEE awards to Capstone teams. This event is hosted by Winnipeg YP in&amp;nbsp
 \;&lt;strong&gt;St. Vital Park\, at &lt;s&gt;picnic site #4&lt;/s&gt;&lt;/strong&gt;. The event is
  free. Registration is required.&lt;/p&gt;\n&lt;p&gt;Location changed to &lt;strong&gt;St. V
 ital Park at picnic site #3&lt;/strong&gt;. See below map for location details.&amp;
 nbsp\;&lt;/p&gt;\n&lt;p&gt;&amp;nbsp\;&lt;/p&gt;\n&lt;p&gt;&lt;img src=&quot;https://events.vtools.ieee.org/vt
 ools_ui/media/display/f3420e55-8fb9-4c07-be05-48c6bd0f1dea&quot;&gt;&lt;/p&gt;\n&lt;p&gt;&lt;img 
 src=&quot;https://events.vtools.ieee.org/vtools_ui/media/display/1859ebbe-d4d3-
 4467-a323-70d6cd01bd43&quot;&gt;&lt;/p&gt;
END:VEVENT
END:VCALENDAR

