BEGIN:VCALENDAR
VERSION:2.0
PRODID:IEEE vTools.Events//EN
CALSCALE:GREGORIAN
BEGIN:VTIMEZONE
TZID:America/New_York
BEGIN:DAYLIGHT
DTSTART:20240310T030000
TZOFFSETFROM:-0500
TZOFFSETTO:-0400
RRULE:FREQ=YEARLY;BYDAY=2SU;BYMONTH=3
TZNAME:EDT
END:DAYLIGHT
BEGIN:STANDARD
DTSTART:20241103T010000
TZOFFSETFROM:-0400
TZOFFSETTO:-0500
RRULE:FREQ=YEARLY;BYDAY=1SU;BYMONTH=11
TZNAME:EST
END:STANDARD
END:VTIMEZONE
BEGIN:VEVENT
DTSTAMP:20240918T131335Z
UID:3D580A9D-6FE0-4DE1-8D8C-BE401499A9BB
DTSTART;TZID=America/New_York:20240601T150000
DTEND;TZID=America/New_York:20240601T220000
DESCRIPTION:Social Event\n\nCo-sponsored by: Ahmed Abdelgawad\n\nDetroit\, 
 Michigan\, United States
LOCATION:Detroit\, Michigan\, United States
ORGANIZER:ahmed_nti@yahoo.com
SEQUENCE:6
SUMMARY:Social Event
URL;VALUE=URI:https://events.vtools.ieee.org/m/421328
X-ALT-DESC:Description: &lt;br /&gt;&lt;p&gt;Social Event&lt;/p&gt;
END:VEVENT
END:VCALENDAR

