BEGIN:VCALENDAR
VERSION:2.0
PRODID:IEEE vTools.Events//EN
CALSCALE:GREGORIAN
BEGIN:VTIMEZONE
TZID:Europe/Madrid
BEGIN:DAYLIGHT
DTSTART:20240331T030000
TZOFFSETFROM:+0100
TZOFFSETTO:+0200
RRULE:FREQ=YEARLY;BYDAY=-1SU;BYMONTH=3
TZNAME:CEST
END:DAYLIGHT
BEGIN:STANDARD
DTSTART:20241027T020000
TZOFFSETFROM:+0200
TZOFFSETTO:+0100
RRULE:FREQ=YEARLY;BYDAY=-1SU;BYMONTH=10
TZNAME:CET
END:STANDARD
END:VTIMEZONE
BEGIN:VEVENT
DTSTAMP:20240728T082847Z
UID:A9918CC2-41F6-4800-ADA2-91C83025D0E3
DTSTART;TZID=Europe/Madrid:20240715T140000
DTEND;TZID=Europe/Madrid:20240719T210000
DESCRIPTION:The IEEE R8 Student and Young Professional Congress is the larg
 est event in all Region 8. It occurs every two years and gathers both stud
 ents and young professionals members from all Sections in this Region. SYP
 &#39;s main goal is to enhance and foster the engineering sense and capabiliti
 es through different activities both technically and culturally. It also p
 rovides an opportunity to network.\n\nNestled in the heart of the pictures
 que French Alps\, Grenoble is the perfect blend of rich cultural heritage\
 , technological innovation\, and academic brilliance. Renowned for its stu
 nning landscapes\, Grenoble offers a unique backdrop for the IEEE Region 8
  SYP Congress. This vibrant city\, known as the &quot;Capital of the Alps\,&quot; bo
 asts a captivating mix of historic charm and modern sophistication. As a h
 ub of technological excellence\, Grenoble stands at the forefront of innov
 ation\, home to cutting-edge research institutions and a thriving tech ind
 ustry. The city&#39;s academic prowess is equally impressive\, with world-clas
 s universities fostering a dynamic intellectual environment. Join us in Gr
 enoble for an unforgettable experience\, where cultural richness meets tec
 hnological advancement\, creating the ideal setting for collaboration and 
 exploration\n\nGrenoble\, Rhooe-Alpes\, France
LOCATION:Grenoble\, Rhooe-Alpes\, France
ORGANIZER:aetel.etsist@gmail.com
SEQUENCE:17
SUMMARY:UPM Campus Sur SB at Student and Young Professional Congress 2024 (
 Grenoble)
URL;VALUE=URI:https://events.vtools.ieee.org/m/421375
X-ALT-DESC:Description: &lt;br /&gt;&lt;p&gt;The IEEE R8 Student and Young Professional
  Congress is the largest event in all Region 8. It occurs every two years 
 and gathers both students and young professionals members from all Section
 s in this Region. SYP&#39;s main goal is to enhance and foster the engineering
  sense and capabilities through different activities both technically and 
 culturally. It also provides an opportunity to network.&amp;nbsp\;&lt;/p&gt;\n&lt;p&gt;Nes
 tled in the heart of the picturesque French Alps\, Grenoble is the perfect
  blend of rich cultural heritage\, technological innovation\, and academic
  brilliance. Renowned for its stunning landscapes\, Grenoble offers a uniq
 ue backdrop for the IEEE Region 8 SYP Congress. This vibrant city\, known 
 as the &quot;Capital of the Alps\,&quot; boasts a captivating mix of historic charm 
 and modern sophistication. As a hub of technological excellence\, Grenoble
  stands at the forefront of innovation\, home to cutting-edge research ins
 titutions and a thriving tech industry. The city&#39;s academic prowess is equ
 ally impressive\, with world-class universities fostering a dynamic intell
 ectual environment. Join us in Grenoble for an unforgettable experience\, 
 where cultural richness meets technological advancement\, creating the ide
 al setting for collaboration and exploration&amp;nbsp\;&lt;/p&gt;
END:VEVENT
END:VCALENDAR

