BEGIN:VCALENDAR
VERSION:2.0
PRODID:IEEE vTools.Events//EN
CALSCALE:GREGORIAN
BEGIN:VTIMEZONE
TZID:America/Argentina/Buenos_Aires
BEGIN:DAYLIGHT
DTSTART:20380119T001407
TZOFFSETFROM:-0300
TZOFFSETTO:-0300
RRULE:FREQ=YEARLY;BYDAY=3TU;BYMONTH=1
TZNAME:-03
END:DAYLIGHT
BEGIN:STANDARD
DTSTART:20090314T230000
TZOFFSETFROM:-0200
TZOFFSETTO:-0300
RRULE:FREQ=YEARLY;BYDAY=2SA;BYMONTH=3
TZNAME:-03
END:STANDARD
END:VTIMEZONE
BEGIN:VEVENT
DTSTAMP:20240523T013012Z
UID:C18A3129-BD86-4308-9D7A-3713C513F43E
DTSTART;TZID=America/Argentina/Buenos_Aires:20240522T130000
DTEND;TZID=America/Argentina/Buenos_Aires:20240522T153000
DESCRIPTION:El miércoles 22 de mayo de 2024\, de 13:00 a 15:30 AR (GMT-3)\
 , el IEEE AR LMAG (Life Members Affinity Group) realizó un Almuerzo de Ca
 maradería en el Restaurante &quot;Croque Madame Palacio Paz&quot;\, Avda. Santa Fe 
 750\, CABA.\nAl mismo asistieron 9 miembros del Grupo.\n\nAgenda: \nMiérc
 oles 22 de mayo de 2024\, 13:00 AR (GMT-3)\n\nRestaurante &quot;Croque Madame P
 alacio Paz&quot;\n\nAvda. Santa Fe 750\, CABA\n\nBldg: Restaurante &quot;Croque Mada
 me Palacio Paz&quot;\, Avda. Santa Fe 750\, CABA\, Distrito Federal\, Argentina
LOCATION:Bldg: Restaurante &quot;Croque Madame Palacio Paz&quot;\, Avda. Santa Fe 750
 \, CABA\, Distrito Federal\, Argentina
ORGANIZER:info@ieee.org.ar
SEQUENCE:11
SUMMARY:IEEE AR LMAG - Almuerzo de camaradería - Miércoles 22 de mayo de 
 2024
URL;VALUE=URI:https://events.vtools.ieee.org/m/421701
X-ALT-DESC:Description: &lt;br /&gt;&lt;p&gt;El mi&amp;eacute\;rcoles 22 de mayo de 2024\, 
 de 13:00 a 15:30 AR (GMT-3)\, el&amp;nbsp\;&lt;strong&gt;IEEE AR LMAG (Life Members 
 Affinity Group) realiz&amp;oacute\; un Almuerzo de Camarader&amp;iacute\;a&lt;/strong
 &gt; en el Restaurante &quot;&lt;em&gt;Croque Madame Palacio Paz&lt;/em&gt;&quot;\, Avda. Santa Fe 
 750\, CABA.&lt;br&gt;Al mismo asistieron 9 miembros del Grupo.&amp;nbsp\;&lt;/p&gt;&lt;br /&gt;&lt;
 br /&gt;Agenda: &lt;br /&gt;&lt;p&gt;Mi&amp;eacute\;rcoles 22 de mayo de 2024\, 13:00 AR (GMT
 -3)&lt;/p&gt;\n&lt;p&gt;Restaurante &quot;Croque Madame Palacio Paz&quot;&lt;/p&gt;\n&lt;p&gt;Avda. Santa Fe
  750\, CABA&lt;/p&gt;
END:VEVENT
END:VCALENDAR

