BEGIN:VCALENDAR
VERSION:2.0
PRODID:IEEE vTools.Events//EN
CALSCALE:GREGORIAN
BEGIN:VTIMEZONE
TZID:America/New_York
BEGIN:DAYLIGHT
DTSTART:20170312T030000
TZOFFSETFROM:-0500
TZOFFSETTO:-0400
RRULE:FREQ=YEARLY;BYDAY=2SU;BYMONTH=3
TZNAME:EDT
END:DAYLIGHT
BEGIN:STANDARD
DTSTART:20161106T010000
TZOFFSETFROM:-0400
TZOFFSETTO:-0500
RRULE:FREQ=YEARLY;BYDAY=1SU;BYMONTH=11
TZNAME:EST
END:STANDARD
END:VTIMEZONE
BEGIN:VEVENT
DTSTAMP:20161114T165825Z
UID:535DEA19-AA8B-11E6-A7C6-0050568D7F66
DTSTART;TZID=America/New_York:20161203T170000
DTEND;TZID=America/New_York:20161204T193000
DESCRIPTION:Women in Engineering will meet for dinner\, conversation and ne
 tworking and to hear more about career options in the US Government and in
  a tech Start Up. Our speaker\, is a long time IEEE member and former IEEE
  fellow. She will talk generally about careers\, some of the opportunities
  available to engineers\, scientists\, and others in the US Government. Sh
 e also will talk about day to day life in a tech Start Up she assisted for
  several months. You may have heard that a very large number of current US
  Government employees are able to retire in the next several years. This w
 ill make opportunities for hiring nd potentially for rapid advancement. WI
 E will treat for dinner at a Silver Spring neighborhood restaurant\, Vicin
 o Restaurant\, (301) 588-3372 959 Sligo Ave\, Silver Spring\, MD 20910. Se
 e their website to learn more http://vicinoitaliano.com/\n\nSpeaker(s): \,
  \, \, \n\nAgenda: \n5:00-5:30 meet each other\n\n5:30 order dinner and be
 gin informal presentation\n\n6:00 -7:15 dinner\, conversation\, plans for 
 2017\n\n7:30 adjorn\n\nVicino Restaurant\,  959 Sligo Ave\, Silver Spring\
 , MD 20910\, Silver Spring \, Maryland\, United States\, 20910
LOCATION:Vicino Restaurant\,  959 Sligo Ave\, Silver Spring\, MD 20910\, Si
 lver Spring \, Maryland\, United States\, 20910
ORGANIZER:carrollca@yahoo.com
SEQUENCE:1
SUMMARY:Women in Engineering Professional Development and Networking Dinner
URL;VALUE=URI:https://events.vtools.ieee.org/m/42185
X-ALT-DESC:Description: &lt;br /&gt;&lt;p&gt;&lt;span style=&quot;font-size: 14pt\;&quot;&gt;Women in E
 ngineering will meet for dinner\, conversation and networking and to hear 
 more about career options in the US Government and in a tech Start Up.&amp;nbs
 p\; Our speaker\, is a long time IEEE member and former IEEE fellow.&amp;nbsp\
 ; She will talk generally about careers\, some of the opportunities availa
 ble to engineers\, scientists\, and others in the US Government.&amp;nbsp\; Sh
 e also will talk about day to day life in a tech Start Up she assisted for
  several months.&amp;nbsp\; You may have heard that a very large number of cur
 rent US Government employees are able to retire in the next several years.
 &amp;nbsp\; This will make opportunities for hiring nd potentially for rapid a
 dvancement.&amp;nbsp\; WIE will treat for dinner at a Silver Spring neighborho
 od restaurant\, Vicino Restaurant\,&amp;nbsp\;&lt;!--StartFragment--&gt;&lt;span id=&quot;re
 st_addr&quot;&gt;(301) 588-3372&amp;nbsp\; 959 Sligo Ave\, Silver Spring\, MD 20910.&amp;n
 bsp\; See their website to learn more&amp;nbsp\; http://vicinoitaliano.com/&lt;/s
 pan&gt;&lt;/span&gt;&lt;!--EndFragment--&gt;&lt;/p&gt;&lt;br /&gt;&lt;br /&gt;Agenda: &lt;br /&gt;&lt;p&gt;&lt;span style=
 &quot;font-size: 14pt\;&quot;&gt;5:00-5:30 meet each other&lt;/span&gt;&lt;/p&gt;\n&lt;p&gt;&lt;span style=&quot;
 font-size: 14pt\;&quot;&gt;5:30 order dinner and begin informal presentation&lt;br /&gt;
 &lt;/span&gt;&lt;/p&gt;\n&lt;p&gt;&lt;span style=&quot;font-size: 14pt\;&quot;&gt;6:00 -7:15 dinner\, conver
 sation\, plans for 2017&lt;/span&gt;&lt;/p&gt;\n&lt;p&gt;&lt;span style=&quot;font-size: 14pt\;&quot;&gt;7:3
 0 adjorn&lt;/span&gt;&lt;/p&gt;\n&lt;p&gt;&amp;nbsp\;&lt;/p&gt;
END:VEVENT
END:VCALENDAR

