BEGIN:VCALENDAR
VERSION:2.0
PRODID:IEEE vTools.Events//EN
CALSCALE:GREGORIAN
BEGIN:VTIMEZONE
TZID:Australia/Sydney
BEGIN:DAYLIGHT
DTSTART:20241006T030000
TZOFFSETFROM:+1000
TZOFFSETTO:+1100
RRULE:FREQ=YEARLY;BYDAY=1SU;BYMONTH=10
TZNAME:AEDT
END:DAYLIGHT
BEGIN:STANDARD
DTSTART:20240407T020000
TZOFFSETFROM:+1100
TZOFFSETTO:+1000
RRULE:FREQ=YEARLY;BYDAY=1SU;BYMONTH=4
TZNAME:AEST
END:STANDARD
END:VTIMEZONE
BEGIN:VEVENT
DTSTAMP:20240621T022037Z
UID:2E30063B-DD47-4E36-B413-34C6251545D3
DTSTART;TZID=Australia/Sydney:20240618T120000
DTEND;TZID=Australia/Sydney:20240618T143000
DESCRIPTION:Hi All\,\n\nCome and join us for our Luncheon event at Bankstow
 n. It is being hosted by Life Members Affinity Group but everyone is welco
 me.\n\nIt is an informal event where one has informal discussions with oth
 ers. Tale this opportunity to get out and around.\n\nIt is at Bankstown RS
 L. Easy stroll from Bankstown Station. It is also served with buses from v
 arious areas.\n\nAs usual\, it is pay for yourself. If you live locally an
 d nit a member\, then you can be signed in.\n\nPlease register so that tab
 les can be booked\, if there is more than 10 of us.\n\nThe Section is maki
 ng these lunches a regular event. The lunches are every two weeks subject 
 to my availability and suitable venues being found. Please let me know if 
 you have a suitable venue in your area. There are some being arranged outs
 ide the Sydney metro area.\nThe day of the week is flexible\, I have had r
 equests for weekends. If you like one on a weekend\, please let me know.\n
 Your thoughts and assistance in planning would be welcomed.\n\nThe next lu
 ncheon (16 July) will be at Park House\, Mona Vale. I will be away for the
  school holidays on 2 July.\n\n25 Marion St\, Bankstown\, New South Wales\
 , Australia\, 2200
LOCATION:25 Marion St\, Bankstown\, New South Wales\, Australia\, 2200
ORGANIZER:Talbingo@optusnet.com.au
SEQUENCE:14
SUMMARY:Luncheon - Bankstown RSL - Tuesday 18 June
URL;VALUE=URI:https://events.vtools.ieee.org/m/422203
X-ALT-DESC:Description: &lt;br /&gt;&lt;p&gt;Hi All\,&lt;/p&gt;\n&lt;p&gt;Come and join us for our&amp;
 nbsp\; Luncheon event at Bankstown. It is being hosted by Life Members Aff
 inity Group but everyone is welcome.&lt;/p&gt;\n&lt;p&gt;It is an informal event where
  one has informal discussions with others. Tale this opportunity to get ou
 t and around.&lt;/p&gt;\n&lt;p&gt;It is at Bankstown RSL. Easy stroll from Bankstown S
 tation. It is also served with buses from various areas.&lt;/p&gt;\n&lt;p&gt;As usual\
 , it is pay for yourself. If you live locally and nit a member\, then you 
 can be signed in.&lt;/p&gt;\n&lt;p&gt;Please register so that tables can be booked\, i
 f there is more than 10 of us.&lt;/p&gt;\n&lt;p&gt;The Section is making these lunches
  a regular event. The lunches are every two weeks subject to my availabili
 ty and suitable venues being found. Please let me know if you have a suita
 ble venue in your area. There are some being arranged outside the Sydney m
 etro area. &lt;br&gt;The day of the week is flexible\, I have had requests for w
 eekends. If you like one on a &lt;strong&gt;weekend&lt;/strong&gt;\, please let me kno
 w. &lt;br&gt;Your thoughts and assistance in planning would be welcomed.&lt;/p&gt;\n&lt;p
 &gt;The next luncheon (16 July) will be at Park House\, Mona Vale. I will be 
 away for the school holidays on 2 July.&lt;/p&gt;
END:VEVENT
END:VCALENDAR

