BEGIN:VCALENDAR
VERSION:2.0
PRODID:IEEE vTools.Events//EN
CALSCALE:GREGORIAN
BEGIN:VTIMEZONE
TZID:Africa/Casablanca
BEGIN:DAYLIGHT
DTSTART:20240414T030000
TZOFFSETFROM:+0000
TZOFFSETTO:+0100
RRULE:FREQ=YEARLY;BYDAY=2SU;BYMONTH=4
TZNAME:+01
END:DAYLIGHT
BEGIN:STANDARD
DTSTART:20250223T020000
TZOFFSETFROM:+0100
TZOFFSETTO:+0000
RRULE:FREQ=YEARLY;BYDAY=-1SU;BYMONTH=2
TZNAME:+00
END:STANDARD
END:VTIMEZONE
BEGIN:VEVENT
DTSTAMP:20240709T125116Z
UID:05D2CC33-B126-4DE3-A036-646C9DAE9EE8
DTSTART;TZID=Africa/Casablanca:20240420T083000
DTEND;TZID=Africa/Casablanca:20240421T130000
DESCRIPTION:Dronathon is a collaborative event organized by IEEE Ensit (Hig
 her National Engineering School Of Tunis) SB and IEEE AESS Ensit (Higher N
 ational Engineering School Of Tunis) SB Chapter\, dedicated to exploring t
 he realm of drones through immersive learning and innovation. The event is
  scheduled to take place on April 20th and 21st\, with activities commenci
 ng on April 20th at 9am.\n\nStarting from 9am on April 20th\, participants
  will engage in the check-in process and a welcoming ceremony. From 11am u
 ntil 7pm\, a series of conferences and workshops will unfold\, covering a 
 diverse range of topics including advanced technical aspects of drone desi
 gn\, programming\, manufacturing\, business development strategies\, and f
 inancial planning for startups within the drone industry. Experienced expe
 rts will lead these sessions\, providing valuable insights and practical a
 dvice for transforming innovative ideas into successful ventures.\n\nAt 7p
 m\, team-building activities will commence\, fostering collaboration and c
 amaraderie among participants. At 12am\, the specifications books for the 
 hackathon will be shared\, signaling the start of the hackathon\, which wi
 ll continue until 1pm on April 21st. During this time\, teams will collabo
 rate to tackle challenges presented in the specifications books\, showcasi
 ng their skills and creativity in solving real-world problems in the drone
  domain.\n\nOn April 21st\, from 1pm onwards\, teams will pitch their solu
 tions\, and winners will be announced. Prizes will be awarded to the winni
 ng teams\, recognizing their achievements and innovative contributions.\n\
 nWhether you&#39;re passionate about the technical aspects of drones or intere
 sted in business development strategies and user-centered innovation\, Dro
 nathon offers a unique opportunity to delve into the exciting world of dro
 nes while exploring fundamental principles of entrepreneurship and design 
 thinking. Join us for an inspiring two-day journey of discovery and collab
 oration.\n\n[]\n\n[]\n\n05 Ave Taha Hussein\, Tunis 1008\, Tunis\, Tunis\,
  Tunisia\, 1008
LOCATION:05 Ave Taha Hussein\, Tunis 1008\, Tunis\, Tunis\, Tunisia\, 1008
ORGANIZER:khaled.khnissi@ieee.org
SEQUENCE:21
SUMMARY:Dronathon 
URL;VALUE=URI:https://events.vtools.ieee.org/m/422332
X-ALT-DESC:Description: &lt;br /&gt;&lt;p dir=&quot;ltr&quot;&gt;Dronathon is a collaborative eve
 nt organized by IEEE Ensit (Higher National Engineering School Of Tunis) S
 B and IEEE AESS Ensit (Higher National Engineering School Of Tunis) SB Cha
 pter\, dedicated to exploring the realm of drones through immersive learni
 ng and innovation. The event is scheduled to take place on April 20th and 
 21st\, with activities commencing on April 20th at 9am.&lt;/p&gt;\n&lt;p dir=&quot;ltr&quot;&gt;
 Starting from 9am on April 20th\, participants will engage in the check-in
  process and a welcoming ceremony. From 11am until 7pm\, a series of confe
 rences and workshops will unfold\, covering a diverse range of topics incl
 uding advanced technical aspects of drone design\, programming\,&amp;nbsp\; ma
 nufacturing\, business development strategies\, and financial planning for
  startups within the drone industry. Experienced experts will lead these s
 essions\, providing valuable insights and practical advice for transformin
 g innovative ideas into successful ventures.&lt;/p&gt;\n&lt;p dir=&quot;ltr&quot;&gt;At 7pm\, te
 am-building activities will commence\, fostering collaboration and camarad
 erie among participants. At 12am\, the specifications books for the hackat
 hon will be shared\, signaling the start of the hackathon\, which will con
 tinue until 1pm on April 21st. During this time\, teams will collaborate t
 o tackle challenges presented in the specifications books\, showcasing the
 ir skills and creativity in solving real-world problems in the drone domai
 n.&lt;/p&gt;\n&lt;p dir=&quot;ltr&quot;&gt;On April 21st\, from 1pm onwards\, teams will pitch t
 heir solutions\, and winners will be announced. Prizes will be awarded to 
 the winning teams\, recognizing their achievements and innovative contribu
 tions.&lt;/p&gt;\n&lt;p dir=&quot;ltr&quot;&gt;Whether you&#39;re passionate about the technical asp
 ects of drones or interested in business development strategies and user-c
 entered innovation\, Dronathon offers a unique opportunity to delve into t
 he exciting world of drones while exploring fundamental principles of entr
 epreneurship and design thinking. Join us for an inspiring two-day journey
  of discovery and collaboration.&lt;/p&gt;\n&lt;p dir=&quot;ltr&quot;&gt;&amp;nbsp\;&lt;/p&gt;\n&lt;p dir=&quot;lt
 r&quot;&gt;&lt;img src=&quot;https://events.vtools.ieee.org/vtools_ui/media/display/a8be6e
 95-a186-4e50-a9a0-eab817525719&quot; alt=&quot;&quot; width=&quot;164&quot; height=&quot;164&quot;&gt;&lt;/p&gt;\n&lt;p d
 ir=&quot;ltr&quot;&gt;&amp;nbsp\;&lt;/p&gt;\n&lt;p dir=&quot;ltr&quot;&gt;&lt;img src=&quot;https://events.vtools.ieee.or
 g/vtools_ui/media/display/357fe3eb-e453-47bb-bb4d-162c5c11ef0a&quot; alt=&quot;&quot; wid
 th=&quot;188&quot; height=&quot;157&quot;&gt;&lt;/p&gt;
END:VEVENT
END:VCALENDAR

