BEGIN:VCALENDAR
VERSION:2.0
PRODID:IEEE vTools.Events//EN
CALSCALE:GREGORIAN
BEGIN:VTIMEZONE
TZID:America/Chicago
BEGIN:DAYLIGHT
DTSTART:20240310T030000
TZOFFSETFROM:-0600
TZOFFSETTO:-0500
RRULE:FREQ=YEARLY;BYDAY=2SU;BYMONTH=3
TZNAME:CDT
END:DAYLIGHT
BEGIN:STANDARD
DTSTART:20241103T010000
TZOFFSETFROM:-0500
TZOFFSETTO:-0600
RRULE:FREQ=YEARLY;BYDAY=1SU;BYMONTH=11
TZNAME:CST
END:STANDARD
END:VTIMEZONE
BEGIN:VEVENT
DTSTAMP:20240701T073604Z
UID:2EE4D365-99CC-4021-9F94-3D38B1780189
DTSTART;TZID=America/Chicago:20240627T180000
DTEND;TZID=America/Chicago:20240627T193100
DESCRIPTION:Before looking into the Forecasters’ projection into 2024-202
 5\, Mr. Greenfield will review the Post WWII period when US was the domina
 nt economic power in the world. In 2023\, US has four percent of the world
  population while accounting for 23 percent of the world’s Real Gross Do
 mestic Product (RGDP). While we continue to be the world’s dominant coun
 try since the turn of the century\, our economic growth rate has declined.
  Stuart will delineate the factors that are affecting the rate of change\,
  and what we need to do to reverse the trend and keep up with the rest of 
 the world or adjust to the new world of many developing country with much 
 higher growth rate.\n\nSpeaker(s): Stuart Greenfield\, \n\nAgenda: \n6:00 
 to 6:05 PM - Open for participants to enter and network.\n6:05 to 6:10 PM 
 - IEEE LM and CTCN Business meeting and to introduce speaker.\n6:10 to 7:3
 0 PM - Formal Program and Q&amp;A.\n\nRoom: 8\, Bldg: Asian American Resource 
 Center\, 8401 Cameron Rd.\, Austin\, Texas\, United States\, 78754\, Virtu
 al: https://events.vtools.ieee.org/m/422403
LOCATION:Room: 8\, Bldg: Asian American Resource Center\, 8401 Cameron Rd.\
 , Austin\, Texas\, United States\, 78754\, Virtual: https://events.vtools.
 ieee.org/m/422403
ORGANIZER:kaiwong@ieee.org
SEQUENCE:52
SUMMARY:IEEE CTS LMAG and CTCN 6.27.2024 meeting- Economic Outlook 2024-202
 5
URL;VALUE=URI:https://events.vtools.ieee.org/m/422403
X-ALT-DESC:Description: &lt;br /&gt;&lt;p class=&quot;MsoNoSpacing&quot;&gt;&lt;span style=&quot;font-siz
 e: 11.0pt\; line-height: 107%\; font-family: &#39;Calibri&#39;\,sans-serif\; mso-a
 scii-theme-font: minor-latin\; mso-fareast-font-family: &#39;Times New Roman&#39;\
 ; mso-hansi-theme-font: minor-latin\; mso-bidi-theme-font: minor-latin\; c
 olor: #1d2228\; mso-ansi-language: EN-US\; mso-fareast-language: EN-US\; m
 so-bidi-language: AR-SA\;&quot;&gt;Before looking into the Forecasters&amp;rsquo\; pro
 jection into 2024-2025\, Mr. Greenfield will review the Post WWII period w
 hen US was the dominant economic power in the world. In 2023\, US has four
  percent of the world population while accounting for 23 percent of the wo
 rld&amp;rsquo\;s Real Gross Domestic Product (RGDP). While we continue to be t
 he world&amp;rsquo\;s dominant country since the turn of the century\, our eco
 nomic growth rate has declined. Stuart will delineate the factors that are
  affecting the rate of change\, and what we need to do to reverse the tren
 d and keep up with the rest of the world or adjust to the new world of man
 y developing country with much higher growth rate. &lt;span style=&quot;mso-spacer
 un: yes\;&quot;&gt;&amp;nbsp\;&lt;/span&gt;&lt;span style=&quot;mso-spacerun: yes\;&quot;&gt;&amp;nbsp\;&lt;/span&gt;&lt;
 span style=&quot;mso-spacerun: yes\;&quot;&gt;&amp;nbsp\;&lt;/span&gt;&lt;span style=&quot;mso-spacerun: 
 yes\;&quot;&gt;&amp;nbsp\;&lt;/span&gt;&lt;span style=&quot;mso-spacerun: yes\;&quot;&gt;&amp;nbsp\;&lt;/span&gt;&lt;span
  style=&quot;mso-spacerun: yes\;&quot;&gt;&amp;nbsp\;&lt;/span&gt;&lt;span style=&quot;mso-spacerun: yes\
 ;&quot;&gt;&amp;nbsp\;&lt;/span&gt;&lt;span style=&quot;mso-spacerun: yes\;&quot;&gt;&amp;nbsp\;&lt;/span&gt;&lt;/span&gt;&lt;/
 p&gt;&lt;br /&gt;&lt;br /&gt;Agenda: &lt;br /&gt;&lt;div dir=&quot;ltr&quot; data-setdir=&quot;false&quot;&gt;6:00 to 6:0
 5 PM - Open for participants to enter and network.&amp;nbsp\;&lt;/div&gt;\n&lt;div dir=
 &quot;ltr&quot; data-setdir=&quot;false&quot;&gt;6:05 to 6:10 PM - IEEE LM and CTCN Business meet
 ing and to introduce speaker.&lt;/div&gt;\n&lt;div dir=&quot;ltr&quot; data-setdir=&quot;false&quot;&gt;6:
 10 to 7:30 PM - Formal Program and Q&amp;amp\;A.&amp;nbsp\;&lt;/div&gt;
END:VEVENT
END:VCALENDAR

