BEGIN:VCALENDAR
VERSION:2.0
PRODID:IEEE vTools.Events//EN
CALSCALE:GREGORIAN
BEGIN:VTIMEZONE
TZID:Asia/Jakarta
BEGIN:STANDARD
DTSTART:19631231T233000
TZOFFSETFROM:+0730
TZOFFSETTO:+0700
TZNAME:WIB
END:STANDARD
END:VTIMEZONE
BEGIN:VEVENT
DTSTAMP:20240617T000110Z
UID:E90429AF-2053-4B78-BA65-A4923BFA1EF3
DTSTART;TZID=Asia/Jakarta:20240614T090000
DTEND;TZID=Asia/Jakarta:20240614T103000
DESCRIPTION:How to Study at the University - Part Two is the second part of
  the previous same title Part One (organized on Tuesday 11 June 2024).\n\n
 The topics are primarily dedicated to new students and pre-university stud
 ents and\n\npresented in English (with bahasa Indonesia translation). As i
 n Part One various student competencies have been discussed\, Part Two wil
 l focus on a number of important student learning principles.\n\nIn Part T
 wo\, different types of information and facts related to study at the univ
 ersity will be presented. The following topics will be briefly presented:\
 n\n(1). The Split Brain Model developed by Roger Sperry (a Nobel price win
 ner\, 1913 - 1994)\, will first be presented.\n\n(2). A number of importan
 t basic important personal requirements\n\n(3). The importance of discipli
 ne\, concentration and regularity\n\n(4). Basic tools/equipment\, faciliti
 es to achieve excellent study results\n\n(5). Four steps of study process 
 according to Galperin (orientation\, actively excercise\, follow up action
 )\n\n(6). Improving your study efficiency\n\n(7). Suggestions to maximize 
 your lecture (lecture preparation\, &quot;to follow actively a lecture&quot;\, to st
 udy and complete your lecture notes)\n\n(8). Learning/Reading written (or 
 audio visual) information \; different types of &quot;reading&quot;\n\n(9). Various 
 types of student assignments (Reading\, Writing\, Papers\, Design\, Discus
 sions\, Practical works\, etc.).\n\n(10). Different types of Examinations\
 n\nPre- university and/or undergraduate students interested to attend the 
 events are requested to register as soon as possible for obtaining the Zoo
 m Link for this event. Registration is FREE.\n\nHow to Study at the Univer
 sity - Part Two has been scheduled to be organized on Friday 18 June 2024 
 @ 09:00 am.\n\nSpeaker(s): Soegi\, \n\nAgenda: \nThe Agenda\n\n- Introduct
 ion\n\n- Questions and Answers\n\nJalan Cimanuk 7\,  Bandung\, Jawa Barat\
 , Indonesia\, 40115
LOCATION:Jalan Cimanuk 7\,  Bandung\, Jawa Barat\, Indonesia\, 40115
ORGANIZER:soegijardjo@gmail.com
SEQUENCE:3
SUMMARY:HOW TO STUDY AT THE UNIVERSITY - Part Two
URL;VALUE=URI:https://events.vtools.ieee.org/m/422703
X-ALT-DESC:Description: &lt;br /&gt;&lt;p&gt;&lt;strong&gt;How to Study at the University - P
 art Two&amp;nbsp\;&lt;/strong&gt;is the second part of the previous same title Part 
 One (organized on Tuesday 11 June 2024).&lt;/p&gt;\n&lt;p&gt;The topics are &lt;span styl
 e=&quot;color: rgb(0\, 0\, 0)\;&quot;&gt;primarily dedicated&lt;/span&gt; to &lt;span style=&quot;col
 or: rgb(0\, 0\, 0)\;&quot;&gt;new students&lt;/span&gt; and &lt;span style=&quot;color: rgb(0\, 
 0\, 0)\;&quot;&gt;pre-university students&lt;/span&gt; and&lt;/p&gt;\n&lt;p&gt;presented in English 
 (with &lt;em&gt;bahasa Indonesia&lt;/em&gt; translation). As in Part One various stude
 nt competencies have been discussed\, Part Two will focus on a number of &lt;
 strong&gt;important student learning principles.&lt;/strong&gt;&lt;/p&gt;\n&lt;p&gt;In &lt;strong&gt;
 Part Two&lt;/strong&gt;\, different types of information and facts related to st
 udy at the university will be presented.&amp;nbsp\; The following topics will 
 be briefly presented:&lt;/p&gt;\n&lt;p&gt;(1). The Split Brain Model developed by Roge
 r Sperry (a Nobel price winner\, 1913 - 1994)\, will first be presented.&lt;/
 p&gt;\n&lt;p&gt;(2). A number of important basic important personal requirements&amp;nb
 sp\;&lt;/p&gt;\n&lt;p&gt;(3). The importance of discipline\, concentration and regular
 ity&lt;/p&gt;\n&lt;p&gt;(4). Basic tools/equipment\, facilities to achieve excellent s
 tudy results&lt;/p&gt;\n&lt;p&gt;(5). Four steps of study process according to Galperi
 n (orientation\, actively excercise\, follow up action)&lt;/p&gt;\n&lt;p&gt;(6). Impro
 ving your study efficiency&lt;/p&gt;\n&lt;p&gt;(7). Suggestions to maximize your lectu
 re (lecture preparation\, &quot;to follow actively a lecture&quot;\, to study and co
 mplete your lecture notes)&lt;/p&gt;\n&lt;p&gt;(8). Learning/Reading written (or audio
  visual) information \; different types of &quot;reading&quot;&lt;/p&gt;\n&lt;p&gt;(9). Various 
 types of &lt;strong&gt;student assignments&amp;nbsp\;&lt;/strong&gt;(Reading\, Writing\, P
 apers\, Design\,&amp;nbsp\; &amp;nbsp\; &amp;nbsp\;Discussions\, Practical works\, etc
 .).&amp;nbsp\;&lt;/p&gt;\n&lt;p&gt;(10). Different types of Examinations&lt;/p&gt;\n&lt;p&gt;&amp;nbsp\;&lt;/
 p&gt;\n&lt;p&gt;Pre- university and/or undergraduate students interested to attend 
 the events are requested to &lt;strong&gt;register&lt;/strong&gt; &lt;span style=&quot;color: 
 rgb(0\, 0\, 0)\;&quot;&gt;as soon as possible&lt;/span&gt; for obtaining the &lt;strong&gt;Zoo
 m Link&lt;/strong&gt; for this event. &lt;strong&gt;Registration is FREE.&lt;/strong&gt;&lt;/p&gt;
 \n&lt;p&gt;&lt;strong&gt;How to Study at the University - &amp;nbsp\;Part Two&lt;/strong&gt;&amp;nbs
 p\;has been scheduled to be organized on&amp;nbsp\;&lt;strong&gt;Friday 18 June 2024
 &lt;/strong&gt; @ 09:00 am.&lt;/p&gt;&lt;br /&gt;&lt;br /&gt;Agenda: &lt;br /&gt;&lt;p&gt;&lt;strong&gt;The Agenda&lt;/
 strong&gt;&lt;/p&gt;\n&lt;p&gt;- Introduction&lt;/p&gt;\n&lt;p&gt;&amp;nbsp\;&lt;/p&gt;\n&lt;p&gt;&amp;nbsp\;&lt;/p&gt;\n&lt;p&gt;&amp;nb
 sp\;&lt;/p&gt;\n&lt;p&gt;- Questions and Answers&lt;/p&gt;\n&lt;p&gt;&amp;nbsp\;&lt;/p&gt;
END:VEVENT
END:VCALENDAR

