BEGIN:VCALENDAR
VERSION:2.0
PRODID:IEEE vTools.Events//EN
CALSCALE:GREGORIAN
BEGIN:VTIMEZONE
TZID:America/New_York
BEGIN:DAYLIGHT
DTSTART:20240310T030000
TZOFFSETFROM:-0500
TZOFFSETTO:-0400
RRULE:FREQ=YEARLY;BYDAY=2SU;BYMONTH=3
TZNAME:EDT
END:DAYLIGHT
BEGIN:STANDARD
DTSTART:20241103T010000
TZOFFSETFROM:-0400
TZOFFSETTO:-0500
RRULE:FREQ=YEARLY;BYDAY=1SU;BYMONTH=11
TZNAME:EST
END:STANDARD
END:VTIMEZONE
BEGIN:VEVENT
DTSTAMP:20240809T194515Z
UID:C096DA7A-02DB-4871-B910-BBA9F2898429
DTSTART;TZID=America/New_York:20240806T120000
DTEND;TZID=America/New_York:20240806T133000
DESCRIPTION:The monthly Rochester IEEE Executive Committee meeting brings t
 ogether all of the leaders of the Section\, Chapters\, and Groups.\n\nExCo
 m members: Please send your updates on past and upcoming events to the [Se
 ction Chair](mailto:roc.sec.chair@ieee.org) to be included on the agenda p
 rior to the meeting.\n\nWe review plans for upcoming Rochester meetings wi
 thin our Section\, Chapters\, and groups at this meeting. If you are looki
 ng to become more engaged in IEEE in the Rochester Section\, please plan o
 n attending an Excom meeting!\n\nAgenda: \n- Section Officer Reports\n\n- 
 Section Chair Report: [Kelly Robinson](mailto:Kelly.Robinson@electrostatic
 answers.com)\n- Section Vice-Chair Report: [Emmett Ientilucci](mailto:Emme
 tt@cis.rit.edu)\n- Section Treasurer Report: [Lyle Tague](mailto:lyletague
 @icloud.com)\n- Section Secretary Report: [Eric Zeise](mailto:ekzeise@IEEE
 .ORG)\n- Old Business\n- New Business\n- Chapter Society and Group Reports
 \n\n- Aerospace and Electronic Systems Society and Communications Society 
 (AES10/COMM19)\; [Nirmala Shenoy](mailto:nxsvks@rit.edu)\n- Computer Socie
 ty and Computational Intelligence Society (C16/CIS11)\; [Cory Merkel](mail
 to:cemeec@rit.edu)\n- Electron Devices and Circuits and Systems: [Sean Rom
 mel](mailto:slremc@rit.edu)\n- Engineering in Medicine and Biology Society
  (EMB18): [Cristian Linte](mailto:christian.linte@ieee.org)\n- Rochester/B
 inghamton/Buffalo/Ithaca/Syracuse Geoscience and Remote Sensing Society (G
 RS29): [Emmett Ientilucci](mailto:emmett@cis.rit.edu)\n- Life Members Grou
 p:\n- Microwave Theory and Techniques Society / Antennas and Propagation S
 ociety (MTT17/AP03): [Danielle Walters](mailto:dwalters710@gmail.com)\, [J
 ayanti Venkataraman](mailto:jnveee@rit.edu)\n- Photonics Society (PHO36): 
 [Parsian K. Mohseni](mailto:pkmohseni@rit.edu)\n- Power and Energy Society
  / Industry Applications Society (PE31/IA34): [Kelly Robinson](mailto:Kell
 y.Robinson@electrostaticanswers.com)\; [Jean Kendrick](mailto:jeankendrick
 @ieee.org)\n- Signal Processing Society (SP01): [Eric Zeise](mailto:ekzeis
 e@ieee.org)\n- Technology Management Council (TM14): [Paul Lee](mailto:ppk
 lee@ieee.org)\n- Women In Engineering (WIE): [Deyasini Majumdar](mailto:de
 yasini.majumdar@ieee.org)\n- Young Professionals: [Eric Brown](mailto:eric
 .t.brown@gmail.com)\n- Student Chapter Reports: [Mark Schrader](mailto:m.s
 chrader@ieee.org)\n\n- Rochester Institute of Technology: [Jamison Heard](
 mailto:jrheee@rit.edu)\n- University of Rochester: [Ming-Lun Lee](mailto:m
 inglunlee@rochester.edu)\n- Committee Reports\n\n- Membership Report: [Bil
 l Fowlkes](mailto:wmyfowlkes@ieee.org%20)\n- Awards Report: [Jean Kendrick
 ](mailto:jeankendrick@ieee.org)\n- Electronic Communications Coordinator: 
 [Christine Freyda](mailto:chris@fridaypath.com)\, [Howard Bussey](mailto:h
 oward@tixlers.com)\n- Newsletter Report: [Mark Schrader](mailto:m.schrader
 @ieee.org)\n- PACE Report: [Bruce Rubin](mailto:bruceieeerubin@yahoo.com)\
 n- E. Liaison Reports\n\n- R1 Western Area Chair: [Emmett Ientilucci](mail
 to:Emmett@cis.rit.edu)\n- Rochester Engineering Society (RES) Report: [Gre
 g Gdowski](mailto:greg.gdowski@gmail.com)\n- Rochester Council of Scientif
 ic Societies (RCSS) Report: [William A. Brewer](mailto:wabrewer@ieee.org)\
 n- Open Discussion\n- Adjournment\n\nBldg: Tandoor of India\, 376 Jefferso
 n Rd\, Rochester\, New York\, United States\, 14623\, Virtual: https://eve
 nts.vtools.ieee.org/m/422864
LOCATION:Bldg: Tandoor of India\, 376 Jefferson Rd\, Rochester\, New York\,
  United States\, 14623\, Virtual: https://events.vtools.ieee.org/m/422864
ORGANIZER:roc.sec.chair@ieee.org
SEQUENCE:6
SUMMARY:IEEE Rochester Section ExCom Meeting - August 2024
URL;VALUE=URI:https://events.vtools.ieee.org/m/422864
X-ALT-DESC:Description: &lt;br /&gt;&lt;p&gt;&lt;span style=&quot;font-size: 10pt\;&quot;&gt;&lt;em&gt;&lt;stron
 g&gt;The monthly Rochester IEEE Executive Committee meeting brings together a
 ll of the leaders of the Section\, Chapters\, and Groups.&amp;nbsp\;&amp;nbsp\;&lt;/s
 trong&gt;&lt;/em&gt;&lt;/span&gt;&lt;/p&gt;\n&lt;p&gt;&lt;span style=&quot;color: #ff0000\; font-size: 14pt\;
 &quot;&gt;&lt;strong&gt;&lt;span style=&quot;text-decoration: underline\;&quot;&gt;ExCom members&lt;/span&gt;:
  &lt;/strong&gt;Please send your updates on past and upcoming events to the &lt;a h
 ref=&quot;mailto:roc.sec.chair@ieee.org&quot;&gt;Section Chair&lt;/a&gt; to be included on th
 e agenda prior to the meeting.&amp;nbsp\;&lt;/span&gt;&lt;/p&gt;\n&lt;p&gt;We review plans for u
 pcoming Rochester meetings within our&amp;nbsp\;Section\, Chapters\, and group
 s at this meeting. &amp;nbsp\;If you are looking to become more engaged in IEE
 E in the Rochester Section\, please plan on attending an Excom meeting!&amp;nb
 sp\;&lt;/p&gt;&lt;br /&gt;&lt;br /&gt;Agenda: &lt;br /&gt;&lt;ol type=&quot;I&quot;&gt;\n&lt;li&gt;Section Officer Repor
 ts&lt;/li&gt;\n&lt;ol type=&quot;1&quot;&gt;\n&lt;li&gt;Section Chair Report: &lt;a href=&quot;mailto:Kelly.Ro
 binson@electrostaticanswers.com&quot;&gt;Kelly Robinson&lt;/a&gt;&lt;/li&gt;\n&lt;li&gt;Section Vice
 -Chair Report: &lt;a href=&quot;mailto:Emmett@cis.rit.edu&quot;&gt;Emmett Ientilucci&lt;/a&gt;&lt;/
 li&gt;\n&lt;li&gt;Section Treasurer Report: &lt;a href=&quot;mailto:lyletague@icloud.com&quot;&gt;L
 yle Tague&lt;/a&gt;&lt;/li&gt;\n&lt;li&gt;Section Secretary Report: &lt;a href=&quot;mailto:ekzeise@
 IEEE.ORG&quot;&gt;Eric Zeise&lt;/a&gt;&lt;/li&gt;\n&lt;/ol&gt;\n&lt;li&gt;Old Business&lt;/li&gt;\n&lt;li&gt;New Busin
 ess&lt;/li&gt;\n&lt;li&gt;Chapter Society and Group Reports&lt;/li&gt;\n&lt;ol type=&quot;1&quot;&gt;\n&lt;li&gt;A
 erospace and Electronic Systems Society and Communications Society (AES10/
 COMM19)\; &lt;a href=&quot;mailto:nxsvks@rit.edu&quot;&gt;Nirmala Shenoy&lt;/a&gt;&lt;/li&gt;\n&lt;li&gt;Com
 puter Society and Computational Intelligence Society (C16/CIS11)\; &lt;a href
 =&quot;mailto:cemeec@rit.edu&quot;&gt;Cory Merkel&lt;/a&gt;&lt;/li&gt;\n&lt;li&gt;Electron Devices and Ci
 rcuits and Systems: &lt;a href=&quot;mailto:slremc@rit.edu&quot;&gt;Sean Rommel&lt;/a&gt;&lt;/li&gt;\n
 &lt;li&gt;Engineering in Medicine and Biology Society (EMB18): &lt;a href=&quot;mailto:c
 hristian.linte@ieee.org&quot;&gt;Cristian Linte&lt;/a&gt;&lt;/li&gt;\n&lt;li&gt;Rochester/Binghamton
 /Buffalo/Ithaca/Syracuse Geoscience and Remote Sensing Society (GRS29): &lt;a
  href=&quot;mailto:emmett@cis.rit.edu&quot;&gt;Emmett Ientilucci&lt;/a&gt;&lt;/li&gt;\n&lt;li&gt;Life Mem
 bers Group:&amp;nbsp\;&lt;/li&gt;\n&lt;li&gt;Microwave Theory and Techniques Society / Ant
 ennas and Propagation Society (MTT17/AP03): &lt;a href=&quot;mailto:dwalters710@gm
 ail.com&quot;&gt;Danielle Walters&lt;/a&gt;\, &lt;a href=&quot;mailto:jnveee@rit.edu&quot;&gt;Jayanti Ve
 nkataraman&lt;/a&gt;&lt;/li&gt;\n&lt;li&gt;Photonics Society (PHO36): &lt;a href=&quot;mailto:pkmohs
 eni@rit.edu&quot;&gt;Parsian K. Mohseni&lt;/a&gt;&lt;/li&gt;\n&lt;li&gt;Power and Energy Society / I
 ndustry Applications Society (PE31/IA34): &lt;a href=&quot;mailto:Kelly.Robinson@e
 lectrostaticanswers.com&quot;&gt;Kelly Robinson&lt;/a&gt;\;&amp;nbsp\;&lt;a href=&quot;mailto:jeanke
 ndrick@ieee.org&quot;&gt;Jean Kendrick&lt;/a&gt;&lt;/li&gt;\n&lt;li&gt;Signal Processing Society (SP
 01): &lt;a href=&quot;mailto:ekzeise@ieee.org&quot;&gt;Eric Zeise&lt;/a&gt;&lt;/li&gt;\n&lt;li&gt;Technology
  Management Council (TM14): &lt;a href=&quot;mailto:ppklee@ieee.org&quot;&gt;Paul Lee&lt;/a&gt;&lt;
 /li&gt;\n&lt;li&gt;Women In Engineering (WIE): &lt;a href=&quot;mailto:deyasini.majumdar@ie
 ee.org&quot; target=&quot;_blank&quot; rel=&quot;noopener&quot;&gt;Deyasini Majumdar&lt;/a&gt;&lt;/li&gt;\n&lt;li&gt;You
 ng Professionals: &lt;a href=&quot;mailto:eric.t.brown@gmail.com&quot;&gt;Eric Brown&lt;/a&gt;&lt;/
 li&gt;\n&lt;/ol&gt;\n&lt;li&gt;Student Chapter Reports: &lt;a href=&quot;mailto:m.schrader@ieee.o
 rg&quot;&gt;Mark Schrader&lt;/a&gt;&lt;/li&gt;\n&lt;ol type=&quot;1&quot;&gt;\n&lt;li&gt;Rochester Institute of Tech
 nology:&amp;nbsp\;&lt;a href=&quot;mailto:jrheee@rit.edu&quot;&gt;Jamison Heard&lt;/a&gt;&lt;/li&gt;\n&lt;li&gt;
 University of Rochester:&amp;nbsp\;&lt;a href=&quot;mailto:minglunlee@rochester.edu&quot;&gt;M
 ing-Lun Lee&lt;/a&gt;&lt;/li&gt;\n&lt;/ol&gt;\n&lt;li&gt;Committee Reports&lt;/li&gt;\n&lt;ol type=&quot;1&quot;&gt;\n&lt;l
 i&gt;Membership Report: &lt;a href=&quot;mailto:wmyfowlkes@ieee.org%20&quot;&gt;Bill Fowlkes&lt;
 /a&gt;&lt;/li&gt;\n&lt;li&gt;Awards Report: &lt;a href=&quot;mailto:jeankendrick@ieee.org&quot;&gt;Jean K
 endrick&lt;/a&gt;&lt;/li&gt;\n&lt;li&gt;Electronic Communications Coordinator: &lt;a href=&quot;mail
 to:chris@fridaypath.com&quot;&gt;Christine Freyda&lt;/a&gt;\, &lt;a href=&quot;mailto:howard@tix
 lers.com&quot;&gt;Howard Bussey&lt;/a&gt;&lt;/li&gt;\n&lt;li&gt;Newsletter Report: &lt;a href=&quot;mailto:m
 .schrader@ieee.org&quot;&gt;Mark Schrader&lt;/a&gt;&lt;/li&gt;\n&lt;li&gt;PACE Report:&amp;nbsp\;&lt;a href
 =&quot;mailto:bruceieeerubin@yahoo.com&quot;&gt;Bruce Rubin&lt;/a&gt;&lt;/li&gt;\n&lt;/ol&gt;\n&lt;li&gt;E. Lia
 ison Reports&lt;/li&gt;\n&lt;ol type=&quot;1&quot;&gt;\n&lt;li&gt;R1 Western Area Chair: &lt;a href=&quot;mail
 to:Emmett@cis.rit.edu&quot;&gt;Emmett Ientilucci&lt;/a&gt;&lt;/li&gt;\n&lt;li&gt;Rochester Engineeri
 ng Society (RES) Report: &lt;a href=&quot;mailto:greg.gdowski@gmail.com&quot;&gt;Greg Gdow
 ski&lt;/a&gt;&lt;/li&gt;\n&lt;li&gt;Rochester Council of Scientific Societies (RCSS) Report:
  &lt;a href=&quot;mailto:wabrewer@ieee.org&quot;&gt;William A. Brewer&lt;/a&gt;&lt;/li&gt;\n&lt;/ol&gt;\n&lt;li
 &gt;Open Discussion&lt;/li&gt;\n&lt;li&gt;Adjournment&lt;/li&gt;\n&lt;/ol&gt;
END:VEVENT
END:VCALENDAR

