BEGIN:VCALENDAR
VERSION:2.0
PRODID:IEEE vTools.Events//EN
CALSCALE:GREGORIAN
BEGIN:VTIMEZONE
TZID:America/New_York
BEGIN:DAYLIGHT
DTSTART:20240310T030000
TZOFFSETFROM:-0500
TZOFFSETTO:-0400
RRULE:FREQ=YEARLY;BYDAY=2SU;BYMONTH=3
TZNAME:EDT
END:DAYLIGHT
BEGIN:STANDARD
DTSTART:20241103T010000
TZOFFSETFROM:-0400
TZOFFSETTO:-0500
RRULE:FREQ=YEARLY;BYDAY=1SU;BYMONTH=11
TZNAME:EST
END:STANDARD
END:VTIMEZONE
BEGIN:VEVENT
DTSTAMP:20240613T190106Z
UID:1C09928A-18D5-4AC1-9153-3A96C2082145
DTSTART;TZID=America/New_York:20240606T180000
DTEND;TZID=America/New_York:20240606T190000
DESCRIPTION:IEEE DeVry University Student Branch and CompTIA Student Club\n
 \nPresent\n\n&quot;Managing users accounts in Linux”\n\nBy: Dr. Simon Obeid\n
 \nDate/Time: Thursday\, June 6th @ 5:00 pm CST/6:00 pm EST\n\nIn this work
 shop\, we will discuss user management in Linux. We learn how to create a 
 user account\, add it to a group and delete users accounts. Also disabling
  users accounts and changing passwords will be demonstrated.\n\nTo Join:\n
 \nhttps://devry.engageli.com/devry/current/cr8-h7v-4op/?\n\nDr. Simon Obei
 d earned his Ph.D. in electrical engineering from the University of North 
 Carolina in 2008\, where he also earned his Master of Science degree in el
 ectrical and computer engineering and Graduate Certificate in Information 
 Security. A member since 2003\, Obeid served as the chair of the IEEE (Ins
 titute of Electrical and Electronics Engineers) Computer Society for the D
 eVry Charlotte chapter from 2009-2012\, and as vice chair the year before.
  He is ABET evaluator since 2015. For Widely published\, Obeid has present
 ed his research at dozens of conferences and has served as a reviewer or g
 uest speaker for many others. He was invited to speak to Tech Tactics conf
 erence 2023 about Security Awareness for K-12 education.\n\nVirtual: https
 ://events.vtools.ieee.org/m/422927
LOCATION:Virtual: https://events.vtools.ieee.org/m/422927
ORGANIZER:neda.adib@devry.edu
SEQUENCE:10
SUMMARY:Managing users accounts in Linux
URL;VALUE=URI:https://events.vtools.ieee.org/m/422927
X-ALT-DESC:Description: &lt;br /&gt;&lt;h1 align=&quot;left&quot;&gt;&amp;nbsp\;&amp;nbsp\;IEEE DeVry Uni
 versity Student Branch and CompTIA Student Club&lt;/h1&gt;\n&lt;h1 align=&quot;left&quot;&gt;&amp;nb
 sp\;&amp;nbsp\;&amp;nbsp\;&amp;nbsp\;&amp;nbsp\; Present&lt;/h1&gt;\n&lt;p class=&quot;x_xmsonormal&quot;&gt;&lt;st
 rong&gt;&amp;nbsp\;&amp;nbsp\; &amp;nbsp\;&amp;nbsp\;&amp;nbsp\;&amp;nbsp\;&amp;nbsp\;&amp;nbsp\;&amp;nbsp\;&amp;nbsp
 \;&amp;nbsp\;&amp;nbsp\;&amp;nbsp\;&amp;nbsp\;&amp;nbsp\;&amp;nbsp\;&amp;nbsp\;&amp;nbsp\; &amp;nbsp\;&amp;nbsp\;&amp;
 nbsp\;&amp;nbsp\;&amp;nbsp\;&amp;nbsp\;&amp;nbsp\;&amp;nbsp\;&amp;nbsp\;&amp;nbsp\;&amp;nbsp\;&amp;nbsp\;&amp;nbsp
 \;&amp;nbsp\;&amp;nbsp\;&amp;nbsp\;&lt;span style=&quot;font-size: 18pt\;&quot;&gt;&quot;Managing users acc
 ounts in Linux&amp;rdquo\;&lt;/span&gt;&lt;/strong&gt;&lt;/p&gt;\n&lt;p class=&quot;x_xmsonormal&quot;&gt;&lt;stron
 g&gt;&amp;nbsp\;&lt;/strong&gt;&lt;/p&gt;\n&lt;p class=&quot;x_MsoNormal&quot;&gt;&lt;strong&gt;By: Dr. Simon Obeid
 &lt;/strong&gt;&lt;/p&gt;\n&lt;p class=&quot;x_MsoNormal&quot;&gt;&lt;strong&gt;&amp;nbsp\;&amp;nbsp\;&amp;nbsp\;&amp;nbsp\;
 &amp;nbsp\;&amp;nbsp\;&amp;nbsp\;&amp;nbsp\;&amp;nbsp\;&amp;nbsp\;&amp;nbsp\;&amp;nbsp\;&amp;nbsp\;&amp;nbsp\;&amp;nbs
 p\;&amp;nbsp\;&amp;nbsp\;&amp;nbsp\;&amp;nbsp\;&amp;nbsp\;&amp;nbsp\;&amp;nbsp\;&amp;nbsp\;&amp;nbsp\;&amp;nbsp\;&amp;
 nbsp\;&amp;nbsp\;&amp;nbsp\;&amp;nbsp\;&amp;nbsp\;&amp;nbsp\;&amp;nbsp\;&amp;nbsp\;&amp;nbsp\;&amp;nbsp\;&lt;/str
 ong&gt;&lt;/p&gt;\n&lt;p class=&quot;x_MsoNormal&quot;&gt;&lt;strong&gt;&amp;nbsp\;&amp;nbsp\;&amp;nbsp\;&amp;nbsp\;&amp;nbsp
 \;&amp;nbsp\;&amp;nbsp\;&amp;nbsp\;&amp;nbsp\;&amp;nbsp\;&amp;nbsp\;&amp;nbsp\;&amp;nbsp\;&amp;nbsp\;&amp;nbsp\;&amp;n
 bsp\;&amp;nbsp\;&amp;nbsp\;&amp;nbsp\;&amp;nbsp\;&amp;nbsp\;&amp;nbsp\;&amp;nbsp\;&amp;nbsp\;&amp;nbsp\;&amp;nbsp\
 ;&amp;nbsp\;&amp;nbsp\;Date/Time: Thursday\, June 6&lt;sup&gt;th&lt;/sup&gt; @ 5:00 pm CST/6:0
 0 pm EST&lt;/strong&gt;&lt;/p&gt;\n&lt;p class=&quot;x_MsoNormal&quot;&gt;&lt;strong&gt;&amp;nbsp\;&lt;/strong&gt;&lt;/p&gt;
 \n&lt;p class=&quot;x_MsoNormal&quot;&gt;In this workshop\, we will discuss user managemen
 t in Linux. We learn how to create a user account\, add it to a group and 
 delete users accounts. Also disabling users accounts and changing password
 s will be demonstrated.&amp;nbsp\;&lt;/p&gt;\n&lt;p class=&quot;x_xmsonormal&quot;&gt;&amp;nbsp\;&lt;/p&gt;\n&lt;
 p class=&quot;x_MsoNormal&quot;&gt;&lt;strong&gt;To Join:&lt;/strong&gt;&lt;strong&gt;&amp;nbsp\;&lt;/strong&gt;&lt;/p
 &gt;\n&lt;p class=&quot;x_MsoNormal&quot;&gt;&lt;a href=&quot;https://devry.engageli.com/devry/curren
 t/cr8-h7v-4op/&quot;&gt;https://devry.engageli.com/devry/current/cr8-h7v-4op/&lt;/a&gt;&lt;
 strong&gt;?&lt;/strong&gt;&lt;/p&gt;\n&lt;p class=&quot;x_Default&quot;&gt;&amp;nbsp\;&lt;/p&gt;\n&lt;p class=&quot;x_Defau
 lt&quot;&gt;Dr. Simon Obeid earned his Ph.D. in electrical engineering from the Un
 iversity of North Carolina in 2008\, where he also earned his Master of Sc
 ience degree in electrical and computer engineering and Graduate Certifica
 te in Information Security. A member since 2003\, Obeid served as the chai
 r of the IEEE (Institute of Electrical and Electronics Engineers) Computer
  Society for the DeVry Charlotte chapter from 2009-2012\, and as vice chai
 r the year before. He is ABET evaluator since 2015. For Widely published\,
  Obeid has presented his research at dozens of conferences and has served 
 as a reviewer or guest speaker for many others. He was invited to speak to
  Tech Tactics conference 2023 about Security Awareness for K-12 education.
 &lt;/p&gt;
END:VEVENT
END:VCALENDAR

