BEGIN:VCALENDAR
VERSION:2.0
PRODID:IEEE vTools.Events//EN
CALSCALE:GREGORIAN
BEGIN:VTIMEZONE
TZID:America/New_York
BEGIN:DAYLIGHT
DTSTART:20240310T030000
TZOFFSETFROM:-0500
TZOFFSETTO:-0400
RRULE:FREQ=YEARLY;BYDAY=2SU;BYMONTH=3
TZNAME:EDT
END:DAYLIGHT
BEGIN:STANDARD
DTSTART:20241103T010000
TZOFFSETFROM:-0400
TZOFFSETTO:-0500
RRULE:FREQ=YEARLY;BYDAY=1SU;BYMONTH=11
TZNAME:EST
END:STANDARD
END:VTIMEZONE
BEGIN:VEVENT
DTSTAMP:20240714T120115Z
UID:9F0D0CBC-7E4B-4222-B1EB-74316382E3D8
DTSTART;TZID=America/New_York:20240711T110000
DTEND;TZID=America/New_York:20240711T120000
DESCRIPTION:Abstract:\n\nMembers of IEEE have been involved in the developm
 ent of artificial intelligence since its inception. Since 2015 there has b
 een a great effort to develop ethical guidelines for AI in the IEEE\, lead
 ing to a series of documents on Ethically Aligned Design for Intelligent a
 nd Autonomous Systems\, including analysis of ethically aligned design for
  business and education. In addition to these analysis and policy document
 s\, IEEE&#39;s Standards Association has created a series of standards for the
  ethical use of AI\, the 7000 standard series. These standards have influe
 nced international AI and ethics public policy\, including a Digital Servi
 ces Framework Based on the Rights Principles for Children. In this talk we
  will look at IEEE&#39;s efforts in promoting and defining ethical design with
  AI and its applications in advancing technology for the benefit of humani
 ty.\n\nSpeaker:\n\nTom Coughlin\, President\, Coughlin Associates is a dig
 ital storage analyst and business and technology consultant. He has more t
 han 40 years in the data storage industry with engineering and senior mana
 gement positions at several companies.\n\nAn IEEE Life Fellow\, Dr. Coughl
 in has many publications and six patents. He is also the author of Digital
  Storage in Consumer Electronics: The Essential Guide\, which is now in it
 s second edition with Springer. Tom is a regular storage and memory contri
 butor for forbes.com and media and entertainment organizations. Coughlin A
 ssociates consults and publishes books and market and technology reports\,
  including The Media and Entertainment Storage Report and an Emerging Memo
 ry Report\, and puts on digital storage-oriented events.\n\nTom has served
  in numerous IEEE volunteer leadership roles\, including President of IEEE
 -USA\, Director of IEEE Region 6\, Vice President and Board member of the 
 IEEE Consumer Technology Society\,  Chair of the Santa Clara Valley IEEE S
 ection\, and Chair of the Consultants Network of Silicon Valley. He is als
 o active with the Storage Networking Industry Association (SNIA) and the S
 ociety of Motion Pictures and Television Engineers (SMPTE).\n\nVirtual: ht
 tps://events.vtools.ieee.org/m/422941
LOCATION:Virtual: https://events.vtools.ieee.org/m/422941
ORGANIZER:c.polk@comsoc.org
SEQUENCE:10
SUMMARY:Prioritizing Societal and Ethical Concerns with Responsible AI
URL;VALUE=URI:https://events.vtools.ieee.org/m/422941
X-ALT-DESC:Description: &lt;br /&gt;&lt;p class=&quot;MsoNormal&quot; style=&quot;margin-top: 12.0p
 t\;&quot;&gt;&lt;img src=&quot;https://events.vtools.ieee.org/vtools_ui/media/display/6964
 b909-bca0-4267-9825-71a1b9048c6f&quot;&gt;&lt;/p&gt;\n&lt;p class=&quot;MsoNormal&quot; style=&quot;margin
 -top: 6.0pt\;&quot;&gt;&lt;strong&gt;&lt;span style=&quot;font-size: 16.0pt\; font-family: Coppe
 rplate\;&quot;&gt;&lt;u&gt;Abstract&lt;/u&gt;:&lt;/span&gt;&lt;/strong&gt;&amp;nbsp\;&lt;/p&gt;\n&lt;p class=&quot;MsoNormal
 &quot; style=&quot;margin-top: 6.0pt\;&quot;&gt;Members of IEEE have been involved in the de
 velopment of artificial intelligence since its inception. Since 2015 there
  has been a great effort to develop ethical guidelines for AI in the IEEE\
 , leading to a series of documents on Ethically Aligned Design for Intelli
 gent and Autonomous Systems\, including analysis of ethically aligned desi
 gn for business and education. In addition to these analysis and policy do
 cuments\, IEEE&#39;s Standards Association has created a series of standards f
 or the ethical use of AI\, the 7000 standard series. These standards have 
 influenced international AI and ethics public policy\, including a Digital
  Services Framework Based on the Rights Principles for Children. In this t
 alk we will look at IEEE&#39;s efforts in promoting and defining ethical desig
 n with AI and its applications in advancing technology for the benefit of 
 humanity.&lt;/p&gt;\n&lt;p&gt;&lt;strong&gt;&lt;span style=&quot;font-size: 16.0pt\; font-family: Co
 pperplate\;&quot;&gt;&lt;u&gt;Speaker&lt;/u&gt;:&lt;/span&gt;&lt;/strong&gt;&lt;/p&gt;\n&lt;table style=&quot;border-col
 lapse: collapse\; width: 100%\;&quot; border=&quot;1&quot;&gt;&lt;colgroup&gt;&lt;col style=&quot;width: 2
 4.3015%\;&quot;&gt;&lt;col style=&quot;width: 75.7635%\;&quot;&gt;&lt;/colgroup&gt;\n&lt;tbody&gt;\n&lt;tr&gt;\n&lt;td&gt;
 &lt;img src=&quot;https://events.vtools.ieee.org/vtools_ui/media/display/5b98aad1-
 e215-437e-978e-ff75c4cf7dea&quot;&gt;&lt;/td&gt;\n&lt;td&gt;\n&lt;p class=&quot;MsoNormal&quot;&gt;&lt;span style
 =&quot;font-size: 14.0pt\; font-family: &#39;Calibri&#39;\,sans-serif\; mso-ascii-theme
 -font: minor-latin\; mso-hansi-theme-font: minor-latin\; mso-bidi-theme-fo
 nt: minor-latin\;&quot;&gt;Tom Coughlin\, President\, Coughlin Associates is a dig
 ital storage analyst and business and technology consultant. He has more t
 han 40 years in the data storage industry with engineering and senior mana
 gement positions at several companies. &lt;/span&gt;&lt;/p&gt;\n&lt;p class=&quot;MsoNormal&quot;&gt;&lt;
 span style=&quot;font-size: 14.0pt\; font-family: &#39;Calibri&#39;\,sans-serif\; mso-a
 scii-theme-font: minor-latin\; mso-hansi-theme-font: minor-latin\; mso-bid
 i-theme-font: minor-latin\;&quot;&gt;&amp;nbsp\;&lt;/span&gt;&lt;span style=&quot;font-size: 14.0pt\
 ; font-family: &#39;Calibri&#39;\,sans-serif\; mso-ascii-theme-font: minor-latin\;
  mso-hansi-theme-font: minor-latin\; mso-bidi-theme-font: minor-latin\;&quot;&gt;A
 n IEEE Life Fellow\, Dr. Coughlin has many publications and six patents. H
 e is also the author of &lt;em&gt;Digital Storage in Consumer Electronics: The E
 ssential Guide&lt;/em&gt;\, which is now in its second edition with Springer. To
 m is a regular storage and memory contributor for forbes.com and media and
  entertainment organizations. Coughlin Associates consults and publishes b
 ooks and market and technology reports\, including &lt;em style=&quot;mso-bidi-fon
 t-style: normal\;&quot;&gt;The &lt;span style=&quot;mso-bidi-font-style: italic\;&quot;&gt;Media a
 nd Entertainment Storage Report and an Emerging Memory Report\,&lt;/span&gt;&lt;/em
 &gt; and puts on digital storage-oriented events. &lt;/span&gt;&lt;/p&gt;\n&lt;p class=&quot;MsoN
 ormal&quot;&gt;&lt;span style=&quot;font-size: 14.0pt\; font-family: &#39;Calibri&#39;\,sans-serif
 \; mso-ascii-theme-font: minor-latin\; mso-hansi-theme-font: minor-latin\;
  mso-bidi-theme-font: minor-latin\;&quot;&gt;&amp;nbsp\;&lt;/span&gt;&lt;span style=&quot;font-size:
  14.0pt\; font-family: &#39;Calibri&#39;\,sans-serif\; mso-ascii-theme-font: minor
 -latin\; mso-hansi-theme-font: minor-latin\; mso-bidi-theme-font: minor-la
 tin\;&quot;&gt;Tom has served in numerous IEEE volunteer leadership roles\, includ
 ing President of IEEE-USA\, Director of IEEE Region 6\, Vice President and
  Board member of the IEEE Consumer Technology Society\, &lt;span style=&quot;mso-s
 pacerun: yes\;&quot;&gt;&amp;nbsp\;&lt;/span&gt;Chair of the Santa Clara Valley IEEE Section
 \, and Chair of the Consultants Network of Silicon Valley. He is also acti
 ve with the Storage Networking Industry Association (SNIA) and the Society
  of Motion Pictures and Television Engineers (SMPTE). &lt;/span&gt;&lt;/p&gt;\n&lt;/td&gt;\n
 &lt;/tr&gt;\n&lt;/tbody&gt;\n&lt;/table&gt;
END:VEVENT
END:VCALENDAR

