BEGIN:VCALENDAR
VERSION:2.0
PRODID:IEEE vTools.Events//EN
CALSCALE:GREGORIAN
BEGIN:VTIMEZONE
TZID:Asia/Kolkata
BEGIN:STANDARD
DTSTART:19451014T230000
TZOFFSETFROM:+0630
TZOFFSETTO:+0530
TZNAME:IST
END:STANDARD
END:VTIMEZONE
BEGIN:VEVENT
DTSTAMP:20260204T183232Z
UID:AB8B098E-26AD-4461-9898-5BD7EB29B57E
DTSTART;TZID=Asia/Kolkata:20240608T090000
DTEND;TZID=Asia/Kolkata:20240608T100000
DESCRIPTION:Brain-computer interface (BCI) is a direct link between the hum
 an brain and the computer. It involves registering the activity of the cen
 tral nervous system and interpreting it to determine the state of the huma
 n brain or to decode a certain number of commands. In this talk we will di
 scuss ways to detect and interpret brain activity\, and some interesting a
 chievements in various research labs. Also\, we will look at the BCI marke
 t a show some of the devices and algorithms designed by Microsoft Research
 .\n\nSpeaker(s): Dr. Ivan Tashev\, \n\nVirtual: https://events.vtools.ieee
 .org/m/423252
LOCATION:Virtual: https://events.vtools.ieee.org/m/423252
ORGANIZER:ieee.sps.sb.iitkgp@gmail.com
SEQUENCE:19
SUMMARY:Brain-computer interfaces: are we there yet?
URL;VALUE=URI:https://events.vtools.ieee.org/m/423252
X-ALT-DESC:Description: &lt;br /&gt;&lt;p dir=&quot;ltr&quot;&gt;Brain-computer interface (BCI) i
 s a direct link between the human brain and the computer. It involves regi
 stering the activity of the central nervous system and interpreting it to 
 determine the state of the human brain or to decode a certain number of co
 mmands. In this talk we will discuss ways to detect and interpret brain ac
 tivity\, and some interesting achievements in various research labs. Also\
 , we will look at the BCI market a show some of the devices and algorithms
  designed by Microsoft Research.&lt;/p&gt;\n&lt;p&gt;&amp;nbsp\;&lt;/p&gt;
END:VEVENT
END:VCALENDAR

