BEGIN:VCALENDAR
VERSION:2.0
PRODID:IEEE vTools.Events//EN
CALSCALE:GREGORIAN
BEGIN:VTIMEZONE
TZID:America/New_York
BEGIN:DAYLIGHT
DTSTART:20240310T030000
TZOFFSETFROM:-0500
TZOFFSETTO:-0400
RRULE:FREQ=YEARLY;BYDAY=2SU;BYMONTH=3
TZNAME:EDT
END:DAYLIGHT
BEGIN:STANDARD
DTSTART:20241103T010000
TZOFFSETFROM:-0400
TZOFFSETTO:-0500
RRULE:FREQ=YEARLY;BYDAY=1SU;BYMONTH=11
TZNAME:EST
END:STANDARD
END:VTIMEZONE
BEGIN:VEVENT
DTSTAMP:20240709T135731Z
UID:B87C27CA-6B21-4208-852E-C321E66310B1
DTSTART;TZID=America/New_York:20240618T111000
DTEND;TZID=America/New_York:20240618T120000
DESCRIPTION:Enhance your career by learning more about the value and import
 ance of IEEE Future Directions\, Roadmaps. IEEE develops Technical Roadmap
 s to provide long term perspectives of Technology Trends and Forecasts. Th
 is is done by bringing together experts from international industry\, gove
 rnment and all research entities. These experts are organized in Working G
 roups that are focused on multiple Technical and Humanitarian aspects. The
  Roadmaps serve as an independent and unbiased resource that exemplifies a
  multi-disciplinary\, global and a consolidated approach. This work is foc
 used on precompetitive cooperation between the contributors. The industry 
 then uses the Technical directions and Trends outlined in these Roadmaps t
 o chart out their own Product Roadmaps to develop competitive products. Th
 is presentation will also show some of the exciting work using Data-based 
 products. Young Professionals (YP’s) who get engaged with the IEEE Roadm
 aps and Data teams are in an excellent position to take a leading role wit
 hin their own employer companies to develop competitive Product Roadmaps. 
 This is an opportunity that can be very rewarding in the development of th
 e YP’s career. A successful case study will be elaborated.\n\nSpeaker(s)
 : Rakesh Kumar\, \n\nRoom: BA1200\, Bldg: Bahen Centre for Information and
  Technology\, University of Toronto\, Toronto\, Ontario\, Canada
LOCATION:Room: BA1200\, Bldg: Bahen Centre for Information and Technology\,
  University of Toronto\, Toronto\, Ontario\, Canada
ORGANIZER:kelly.hunter@mail.utoronto.ca
SEQUENCE:32
SUMMARY:IEEE Future Directions\, Technical Roadmaps and Data-based Strategy
  …what they are and how to use them to charge your YP Career
URL;VALUE=URI:https://events.vtools.ieee.org/m/423791
X-ALT-DESC:Description: &lt;br /&gt;&lt;p&gt;Enhance your career by learning more about
  the value and importance of IEEE Future Directions\,&amp;nbsp\;Roadmaps. IEEE
  develops Technical Roadmaps to provide long term perspectives of Technolo
 gy Trends&amp;nbsp\;and Forecasts. This is done by bringing together experts f
 rom international industry\, government and all&amp;nbsp\;research entities. T
 hese experts are organized in Working Groups that are focused on multiple 
 Technical&amp;nbsp\;and Humanitarian aspects. The Roadmaps serve as an indepen
 dent and unbiased resource that&amp;nbsp\;exemplifies a multi-disciplinary\, g
 lobal and a consolidated approach. This work is focused on precompetitive 
 cooperation between the contributors.&amp;nbsp\;The industry then uses the Tec
 hnical directions and Trends outlined in these Roadmaps to chart out&amp;nbsp\
 ;their own Product Roadmaps to develop competitive products.&amp;nbsp\;This pr
 esentation will also show some of the exciting work using Data-based produ
 cts. Young&amp;nbsp\;Professionals (YP&amp;rsquo\;s) who get engaged with the IEEE
  Roadmaps and Data teams are in an excellent&amp;nbsp\;position to take a lead
 ing role within their own employer companies to develop competitive Produc
 t&amp;nbsp\;Roadmaps. This is an opportunity that can be very rewarding in the
  development of the YP&amp;rsquo\;s career. A&amp;nbsp\;successful case study will
  be elaborated.&lt;/p&gt;
END:VEVENT
END:VCALENDAR

