BEGIN:VCALENDAR
VERSION:2.0
PRODID:IEEE vTools.Events//EN
CALSCALE:GREGORIAN
BEGIN:VTIMEZONE
TZID:America/New_York
BEGIN:DAYLIGHT
DTSTART:20240310T030000
TZOFFSETFROM:-0500
TZOFFSETTO:-0400
RRULE:FREQ=YEARLY;BYDAY=2SU;BYMONTH=3
TZNAME:EDT
END:DAYLIGHT
BEGIN:STANDARD
DTSTART:20241103T010000
TZOFFSETFROM:-0400
TZOFFSETTO:-0500
RRULE:FREQ=YEARLY;BYDAY=1SU;BYMONTH=11
TZNAME:EST
END:STANDARD
END:VTIMEZONE
BEGIN:VEVENT
DTSTAMP:20240731T144704Z
UID:2DB4752F-6BC7-4851-87CA-08636DB2E40F
DTSTART;TZID=America/New_York:20240731T200000
DTEND;TZID=America/New_York:20240731T214500
DESCRIPTION:Upcoming 2024 MOVE Operations Training Opportunities\n\nMOVE Op
 erations Class – 3-part Virtual Series\n\nIEEE USA MOVE is offering a dy
 namic 3-part Virtual Operations Class essential for anyone gearing up for 
 MOVE truck deployment\, or with a keen interest in the program. New MOVE m
 embers must attend\, and it&#39;s highly recommended for those who want to ref
 resh their knowledge. We cover everything from deployment expectations to 
 truck equipment and essential safety procedures. This virtual course spans
  three sessions\, each lasting two hours. With the introduction of a third
  truck\, we&#39;ll delve into the distinctions between the three.\n\nThe Day 1
  session will provide an overview of the MOVE truck operation for MOVE-1\,
  MOVE-2 and MOVE-3 with a high-level understanding of truck operations\, p
 ower systems\, network systems and communications/radio systems. The diffe
 rences between the three trucks will be discussed.\n\nThe Day 2 session wi
 ll provide a detailed orientation and discussion on truck operations\, mai
 ntenance and power generations systems. The differences between the three 
 trucks will be discussed.\n\nThe Day 3 session will provide a detailed ori
 entation and discussion on the networking and communications systems. An o
 verview of the Cisco Meraki and radio systems operations and functionality
  will be provided. The differences between the three trucks will be discus
 sed.\n\nPlease use the following links to register for all three training 
 sessions.\n\nThis is a 3-part virtual class. Register to attend &gt;&gt;\n\n- Pa
 rt 1: Tuesday\, 30 Jul 2024 from 8:00 - 9:30 PM ET &gt;&gt; https://events.vtool
 s.ieee.org/m/423831\n- Part 2: Wednesday\, 31 Jul 2024 from 8:00 - 9:30 PM
  ET &gt;&gt; https://events.vtools.ieee.org/m/423833\n- Part 3: Thursday\, 01 Au
 g 2024 from 8:00 - 9:30 PM ET &gt;&gt; https://events.vtools.ieee.org/m/423835\n
 \nThere will be a test after the third session - material will be provided
  for the test.\n\nCo-sponsored by: IEEE-USA MOVE Program\n\nVirtual: https
 ://events.vtools.ieee.org/m/423833
LOCATION:Virtual: https://events.vtools.ieee.org/m/423833
ORGANIZER:l.arellano@ieee.org
SEQUENCE:6
SUMMARY:MOVE Virtual Operations Class - Part 2 of 3 
URL;VALUE=URI:https://events.vtools.ieee.org/m/423833
X-ALT-DESC:Description: &lt;br /&gt;&lt;p class=&quot;MsoNormal&quot; align=&quot;center&quot;&gt;&lt;strong&gt;U
 pcoming 2024 MOVE Operations Training Opportunities&lt;/strong&gt;&lt;/p&gt;\n&lt;p class
 =&quot;MsoNormal&quot;&gt;&lt;strong&gt;MOVE Operations Class &amp;ndash\; 3-part Virtual Series&amp;
 nbsp\;&lt;/strong&gt;&lt;/p&gt;\n&lt;p class=&quot;MsoNormal&quot;&gt;IEEE USA MOVE is offering a dyna
 mic 3-part Virtual Operations Class essential for anyone gearing up for MO
 VE truck deployment\, or with a keen interest in the program. New MOVE mem
 bers must attend\, and it&#39;s highly recommended for those who want to refre
 sh their knowledge. We cover everything from deployment expectations to tr
 uck equipment and essential safety procedures. This virtual course spans t
 hree sessions\, each lasting two hours. With the introduction of a third t
 ruck\, we&#39;ll delve into the distinctions between the three.&lt;/p&gt;\n&lt;p class=
 &quot;MsoNormal&quot;&gt;&lt;strong&gt;The Day 1 session&lt;/strong&gt;&amp;nbsp\;will provide an overv
 iew of the MOVE truck operation for MOVE-1\, MOVE-2 and MOVE-3 with a high
 -level understanding of truck operations\, power systems\, network systems
  and communications/radio systems.&amp;nbsp\;&amp;nbsp\;The differences between th
 e three trucks will be discussed.&lt;/p&gt;\n&lt;p class=&quot;MsoNormal&quot;&gt;&lt;strong&gt;The Da
 y 2 session&amp;nbsp\;&lt;/strong&gt;will provide a detailed orientation and discuss
 ion on truck operations\, maintenance and power generations systems.&amp;nbsp\
 ;&amp;nbsp\;The differences between the three trucks will be discussed.&amp;nbsp\;
 &amp;nbsp\;&lt;/p&gt;\n&lt;p class=&quot;MsoNormal&quot;&gt;&lt;strong&gt;The Day 3 session&lt;/strong&gt;&amp;nbsp\
 ;will provide a detailed orientation and discussion on the networking and 
 communications systems.&amp;nbsp\;&amp;nbsp\;An overview of the Cisco Meraki and r
 adio systems operations and functionality will be provided.&amp;nbsp\;&amp;nbsp\;T
 he differences between the three trucks will be discussed.&amp;nbsp\;&lt;/p&gt;\n&lt;p&gt;
 &amp;nbsp\;&lt;/p&gt;\n&lt;p&gt;Please use the following links&lt;strong&gt;&amp;nbsp\;&lt;u&gt;to registe
 r for all three training sessions&lt;/u&gt;.&lt;/strong&gt;&lt;/p&gt;\n&lt;p class=&quot;MsoNormal&quot;&gt;
 &amp;nbsp\;This is a 3-part virtual class.&amp;nbsp\;&amp;nbsp\;&lt;strong&gt;Register to at
 tend &amp;gt\;&amp;gt\;&lt;/strong&gt;&amp;nbsp\;&lt;/p&gt;\n&lt;ul type=&quot;disc&quot;&gt;\n&lt;li class=&quot;MsoNorma
 l&quot;&gt;Part 1: Tuesday\, 30 Jul 2024 from 8:00 - 9:30 PM ET&amp;nbsp\;&amp;gt\;&amp;gt\;&amp;n
 bsp\;&lt;a href=&quot;https://events.vtools.ieee.org/m/423831&quot;&gt;https://events.vtoo
 ls.ieee.org/m/423831&lt;/a&gt;&lt;/li&gt;\n&lt;li class=&quot;MsoNormal&quot;&gt;Part 2: Wednesday\, 3
 1 Jul 2024 from 8:00 - 9:30 PM ET &amp;gt\;&amp;gt\;&amp;nbsp\;&lt;a href=&quot;https://events
 .vtools.ieee.org/m/423833&quot;&gt;https://events.vtools.ieee.org/m/423833&lt;/a&gt;&lt;/li
 &gt;\n&lt;li class=&quot;MsoNormal&quot;&gt;Part 3: Thursday\, 01 Aug 2024 from 8:00 - 9:30 P
 M ET &amp;gt\;&amp;gt\;&amp;nbsp\;&lt;a href=&quot;https://events.vtools.ieee.org/m/423835&quot;&gt;ht
 tps://events.vtools.ieee.org/m/423835&lt;/a&gt;&lt;/li&gt;\n&lt;/ul&gt;\n&lt;p&gt;&lt;strong&gt;There wi
 ll be a test&amp;nbsp\;&lt;u&gt;after the third session&lt;/u&gt;&amp;nbsp\;&lt;/strong&gt;- materia
 l will be provided for the test.&lt;/p&gt;
END:VEVENT
END:VCALENDAR

