BEGIN:VCALENDAR
VERSION:2.0
PRODID:IEEE vTools.Events//EN
CALSCALE:GREGORIAN
BEGIN:VTIMEZONE
TZID:America/Mexico_City
BEGIN:STANDARD
DTSTART:20221030T010000
TZOFFSETFROM:-0500
TZOFFSETTO:-0600
TZNAME:CST
END:STANDARD
END:VTIMEZONE
BEGIN:VEVENT
DTSTAMP:20240721T200108Z
UID:E7866AC3-AC79-4ADE-88F5-1315570789B5
DTSTART;TZID=America/Mexico_City:20240718T120000
DTEND;TZID=America/Mexico_City:20240718T180000
DESCRIPTION:El capítulo WIE IEEE UAM Iztapalapa se complace en invitar a t
 oda la comunidad a celebrar el WIE Day 2024 en nuestro evento especial: un
  picnic que se llevará a cabo el jueves 18 de julio. Este evento tiene co
 mo objetivo fortalecer la comunidad de mujeres en STEM\, fomentar la colab
 oración y celebrar los logros de nuestras miembros. Durante el picnic\, h
 abrá actividades interactivas\, networking y un ambiente de compañerismo
 . Únete a nosotros para una tarde memorable de inspiración\, empoderamie
 nto y celebración de las mujeres en ciencia y tecnología.\n\nIztapalapa\
 , Distrito Federal\, Mexico\, 09340
LOCATION:Iztapalapa\, Distrito Federal\, Mexico\, 09340
ORGANIZER:angie.mj@ieee.org
SEQUENCE:14
SUMMARY:Picnic WIE Day 2024
URL;VALUE=URI:https://events.vtools.ieee.org/m/423883
X-ALT-DESC:Description: &lt;br /&gt;&lt;p&gt;El cap&amp;iacute\;tulo WIE IEEE UAM Iztapalap
 a se complace en invitar a toda la comunidad a celebrar el WIE Day 2024 en
  nuestro evento especial: un picnic que se llevar&amp;aacute\; a cabo el jueve
 s 18 de julio. Este evento tiene como objetivo fortalecer la comunidad de 
 mujeres en STEM\, fomentar la colaboraci&amp;oacute\;n y celebrar los logros d
 e nuestras miembros. Durante el picnic\, habr&amp;aacute\; actividades interac
 tivas\, networking y un ambiente de compa&amp;ntilde\;erismo. &amp;Uacute\;nete a 
 nosotros para una tarde memorable de inspiraci&amp;oacute\;n\, empoderamiento 
 y celebraci&amp;oacute\;n de las mujeres en ciencia y tecnolog&amp;iacute\;a.&lt;/p&gt;
END:VEVENT
END:VCALENDAR

