BEGIN:VCALENDAR
VERSION:2.0
PRODID:IEEE vTools.Events//EN
CALSCALE:GREGORIAN
BEGIN:VTIMEZONE
TZID:Europe/Paris
BEGIN:DAYLIGHT
DTSTART:20240331T030000
TZOFFSETFROM:+0100
TZOFFSETTO:+0200
RRULE:FREQ=YEARLY;BYDAY=-1SU;BYMONTH=3
TZNAME:CEST
END:DAYLIGHT
BEGIN:STANDARD
DTSTART:20241027T020000
TZOFFSETFROM:+0200
TZOFFSETTO:+0100
RRULE:FREQ=YEARLY;BYDAY=-1SU;BYMONTH=10
TZNAME:CET
END:STANDARD
END:VTIMEZONE
BEGIN:VEVENT
DTSTAMP:20240826T231542Z
UID:47F9E27E-305C-451C-A45C-29FC66636176
DTSTART;TZID=Europe/Paris:20240414T100000
DTEND;TZID=Europe/Paris:20240414T110000
DESCRIPTION:The YESIST12 OC Team had the chance to appear on &quot;Amwej el khal
 ij&quot; radio to discuss the event that our SB is hosting\, how they can parti
 cipate\, and the benefits of doing so.\n\nMedia Content: [Event Album](htt
 ps://www.facebook.com/share/p/8SMEgJ7JZPTLC5BF/) \, [the Radio Passe](http
 s://www.facebook.com/share/v/UmhjCPg1dhVeCA5y/)\n\n[]\n\nVirtual: https://
 events.vtools.ieee.org/m/424057
LOCATION:Virtual: https://events.vtools.ieee.org/m/424057
ORGANIZER:sb-iit@ieee.org
SEQUENCE:37
SUMMARY:YESIST12 Radio Passe
URL;VALUE=URI:https://events.vtools.ieee.org/m/424057
X-ALT-DESC:Description: &lt;br /&gt;&lt;table style=&quot;border-collapse: collapse\; wid
 th: 100.032%\;&quot; border=&quot;1&quot;&gt;&lt;colgroup&gt;&lt;col style=&quot;width: 49.9521%\;&quot;&gt;&lt;col s
 tyle=&quot;width: 49.9521%\;&quot;&gt;&lt;/colgroup&gt;\n&lt;tbody&gt;\n&lt;tr&gt;\n&lt;td&gt;\n&lt;p&gt;The YESIST12
  OC Team had the chance to appear on &quot;Amwej el khalij&quot; radio to discuss th
 e event that our SB is hosting\, how they can participate\, and the benefi
 ts of doing so.&lt;/p&gt;\n&lt;p&gt;&lt;span data-preserver-spaces=&quot;true&quot;&gt;Media Content:&lt;
 /span&gt;&lt;span data-preserver-spaces=&quot;true&quot;&gt; &lt;a href=&quot;https://www.facebook.co
 m/share/p/8SMEgJ7JZPTLC5BF/&quot;&gt;Event Album&lt;/a&gt; \, &lt;a href=&quot;https://www.faceb
 ook.com/share/v/UmhjCPg1dhVeCA5y/&quot;&gt;the Radio Passe&lt;/a&gt;&amp;nbsp\;&lt;/span&gt;&lt;/p&gt;\n
 &lt;p&gt;&amp;nbsp\;&lt;/p&gt;\n&lt;p&gt;&amp;nbsp\;&lt;/p&gt;\n&lt;/td&gt;\n&lt;td&gt;&lt;img src=&quot;https://events.vtools
 .ieee.org/vtools_ui/media/display/f70c629d-b250-4b1f-b0cb-4ed3ee28d611&quot; al
 t=&quot;&quot; width=&quot;500&quot; height=&quot;500&quot;&gt;&lt;/td&gt;\n&lt;/tr&gt;\n&lt;/tbody&gt;\n&lt;/table&gt;
END:VEVENT
END:VCALENDAR

