BEGIN:VCALENDAR
VERSION:2.0
PRODID:IEEE vTools.Events//EN
CALSCALE:GREGORIAN
BEGIN:VTIMEZONE
TZID:America/New_York
BEGIN:DAYLIGHT
DTSTART:20240310T030000
TZOFFSETFROM:-0500
TZOFFSETTO:-0400
RRULE:FREQ=YEARLY;BYDAY=2SU;BYMONTH=3
TZNAME:EDT
END:DAYLIGHT
BEGIN:STANDARD
DTSTART:20241103T010000
TZOFFSETFROM:-0400
TZOFFSETTO:-0500
RRULE:FREQ=YEARLY;BYDAY=1SU;BYMONTH=11
TZNAME:EST
END:STANDARD
END:VTIMEZONE
BEGIN:VEVENT
DTSTAMP:20240620T190110Z
UID:E509D0AE-A441-4ECC-BAFA-4826D06B7CD4
DTSTART;TZID=America/New_York:20240613T180000
DTEND;TZID=America/New_York:20240613T185500
DESCRIPTION:IEEE DeVry University Student Branch and CompTIA Student Club\n
 \nPresent\n\nCreating Smart facilities by using distributed sensors and co
 ntrols connected via IoT devices and ThingSpeak analytics\n\nBy: Prof. Tos
 hko Tzvetkov\n\nDate/Time: Thursday\, June 13th @ 5:00 pm CST/6:00 pm EST\
 n\nIn this workshop\, we will be discussing how to create distributed sens
 ors network\, how to use the Thingspeak to collect the data from the senso
 rs and how to send feedback from Thingspeak to controllers and actuators t
 o change spart facilities settings.\n\nTo Join:\n\nhttps://devry.engageli.
 com/devry/current/8s7-4xz-5k8/?\n\nProf. Toshko Tzvetkov earned his MSc de
 gree in Engineering Physics/ Microelectronics from the Sofia University at
  Sofia\, Bulgaria. Throughout his career Prof. Tzvetkov has been involved 
 in developing new ion beam technologies\, revolutionary X-ray imaging tech
 nologies and new scientific instruments. He has very extensive experience 
 in electronics engineering\, software development and computer networking 
 and system administration. Prof. Tzvetkov has multiple commercial software
  products. Also\, it created an autonomous system that was used on the Int
 ernational Space Station to collect data using Arduino based microcontroll
 er. Currently he is an advisor to A3Global for battery reconditioning inst
 rument development. Member of IEEE.\n\nCo-sponsored by: CompTIA Student Cl
 ub\n\nVirtual: https://events.vtools.ieee.org/m/424117
LOCATION:Virtual: https://events.vtools.ieee.org/m/424117
ORGANIZER:neda.adib@devry.edu
SEQUENCE:12
SUMMARY:Creating Smart facilities by using distributed sensors and controls
  connected via IoT devices and ThingSpeak analytics
URL;VALUE=URI:https://events.vtools.ieee.org/m/424117
X-ALT-DESC:Description: &lt;br /&gt;&lt;h1 style=&quot;text-align: left\; line-height: 21
 .85pt\; mso-line-height-rule: exactly\; margin: 5.0pt 74.25pt .0001pt 0in\
 ;&quot; align=&quot;left&quot;&gt;&lt;span style=&quot;font-size: 16.0pt\; font-family: &#39;Verdana&#39;\,s
 ans-serif\; color: blue\;&quot;&gt;IEEE DeVry University Student Branch and CompTI
 A Student&lt;span style=&quot;letter-spacing: -.25pt\;&quot;&gt; &lt;/span&gt;Club&lt;/span&gt;&lt;/h1&gt;\n
 &lt;h1 style=&quot;text-align: left\; line-height: 21.85pt\; mso-line-height-rule:
  exactly\; margin: 5.0pt 74.25pt .0001pt 3.0in\;&quot; align=&quot;left&quot;&gt;&lt;span style
 =&quot;font-size: 14.0pt\; font-family: &#39;Calibri&#39;\,sans-serif\; mso-ascii-theme
 -font: minor-latin\; mso-hansi-theme-font: minor-latin\; mso-bidi-theme-fo
 nt: minor-latin\;&quot;&gt;&lt;span style=&quot;mso-spacerun: yes\;&quot;&gt;&amp;nbsp\;&amp;nbsp\;&amp;nbsp\;
 &amp;nbsp\; &lt;/span&gt;&lt;span style=&quot;mso-spacerun: yes\;&quot;&gt;&amp;nbsp\;&lt;/span&gt;Present&lt;/sp
 an&gt;&lt;/h1&gt;\n&lt;p class=&quot;xmsonormal&quot; style=&quot;text-align: center\;&quot; align=&quot;center
 &quot;&gt;&lt;strong&gt;&lt;span style=&quot;font-size: 18.0pt\; mso-ascii-font-family: Calibri\
 ; mso-ascii-theme-font: minor-latin\; mso-hansi-font-family: Calibri\; mso
 -hansi-theme-font: minor-latin\; mso-bidi-font-family: Calibri\; mso-bidi-
 theme-font: minor-latin\; color: #e36c0a\; mso-themecolor: accent6\; mso-t
 hemeshade: 191\;&quot;&gt;Creating Smart facilities by using distributed sensors a
 nd controls connected via IoT devices and ThingSpeak analytics&lt;/span&gt;&lt;/str
 ong&gt;&lt;/p&gt;\n&lt;p class=&quot;xmsonormal&quot;&gt;&lt;strong style=&quot;mso-bidi-font-weight: norma
 l\;&quot;&gt;&lt;span style=&quot;font-size: 14.0pt\; mso-ascii-font-family: Calibri\; mso
 -ascii-theme-font: minor-latin\; mso-hansi-font-family: Calibri\; mso-hans
 i-theme-font: minor-latin\; mso-bidi-font-family: Calibri\; mso-bidi-theme
 -font: minor-latin\; color: #f79646\; mso-themecolor: accent6\;&quot;&gt;&amp;nbsp\;&lt;/
 span&gt;&lt;/strong&gt;&lt;/p&gt;\n&lt;p class=&quot;MsoNormal&quot; style=&quot;margin-left: 2.5in\; text-
 indent: .5in\;&quot;&gt;&lt;strong&gt;&lt;span style=&quot;font-size: 14.0pt\; font-family: &#39;Cal
 ibri&#39;\,sans-serif\; mso-ascii-theme-font: minor-latin\; mso-hansi-theme-fo
 nt: minor-latin\; mso-bidi-theme-font: minor-latin\;&quot;&gt;&lt;span style=&quot;mso-spa
 cerun: yes\;&quot;&gt;&amp;nbsp\;&lt;/span&gt;By: Prof. Toshko Tzvetkov&lt;/span&gt;&lt;/strong&gt;&lt;/p&gt;\
 n&lt;p class=&quot;MsoNormal&quot; style=&quot;margin-left: 2.5in\; text-indent: .5in\;&quot;&gt;&lt;st
 rong&gt;&lt;span style=&quot;font-size: 12.0pt\; font-family: &#39;Calibri&#39;\,sans-serif\;
  mso-ascii-theme-font: minor-latin\; mso-hansi-theme-font: minor-latin\; m
 so-bidi-theme-font: minor-latin\;&quot;&gt;&amp;nbsp\;&lt;/span&gt;&lt;/strong&gt;&lt;/p&gt;\n&lt;div align
 =&quot;center&quot;&gt;\n&lt;table class=&quot;MsoNormalTable&quot; style=&quot;border-collapse: collapse
 \; mso-table-layout-alt: fixed\; mso-padding-alt: 0in 5.4pt 0in 5.4pt\;&quot; b
 order=&quot;0&quot; width=&quot;639&quot; cellspacing=&quot;0&quot; cellpadding=&quot;0&quot;&gt;\n&lt;tbody&gt;\n&lt;tr style
 =&quot;mso-yfti-irow: 0\; mso-yfti-firstrow: yes\; mso-yfti-lastrow: yes\; heig
 ht: 35.25pt\;&quot;&gt;\n&lt;td style=&quot;width: 479.35pt\; padding: 0in 5.4pt 0in 5.4pt
 \; height: 35.25pt\;&quot; valign=&quot;top&quot; width=&quot;639&quot;&gt;\n&lt;p class=&quot;Default&quot; style=
 &quot;line-height: 107%\; mso-pagination: none\;&quot;&gt;&lt;strong&gt;&lt;span style=&quot;font-fam
 ily: &#39;Calibri&#39;\,sans-serif\; mso-ascii-theme-font: minor-latin\; mso-hansi
 -theme-font: minor-latin\; mso-bidi-theme-font: minor-latin\; color: black
 \; mso-themecolor: text1\;&quot;&gt;&amp;nbsp\;&lt;/span&gt;&lt;/strong&gt;&lt;/p&gt;\n&lt;p class=&quot;Default
 &quot; style=&quot;line-height: 107%\; mso-pagination: none\;&quot;&gt;&lt;strong&gt;&lt;span style=&quot;
 font-family: &#39;Calibri&#39;\,sans-serif\; mso-ascii-theme-font: minor-latin\; m
 so-hansi-theme-font: minor-latin\; mso-bidi-theme-font: minor-latin\; colo
 r: black\; mso-themecolor: text1\;&quot;&gt;&lt;span style=&quot;mso-spacerun: yes\;&quot;&gt;&amp;nbs
 p\;&amp;nbsp\;&amp;nbsp\;&amp;nbsp\;&amp;nbsp\;&amp;nbsp\;&amp;nbsp\;&amp;nbsp\; &lt;/span&gt;&lt;/span&gt;&lt;/stron
 g&gt;&lt;strong&gt;&lt;span style=&quot;font-size: 14.0pt\; line-height: 107%\; font-family
 : &#39;Calibri&#39;\,sans-serif\; mso-ascii-theme-font: minor-latin\; mso-hansi-th
 eme-font: minor-latin\; mso-bidi-theme-font: minor-latin\; color: black\; 
 mso-themecolor: text1\;&quot;&gt;Date/Time: Thursday\, June 13&lt;sup&gt;th&lt;/sup&gt; @ 5:00
  pm CST/6:00 pm EST &lt;/span&gt;&lt;/strong&gt;&lt;/p&gt;\n&lt;/td&gt;\n&lt;/tr&gt;\n&lt;/tbody&gt;\n&lt;/table&gt;
 \n&lt;/div&gt;\n&lt;p class=&quot;xmsonormal&quot;&gt;&lt;span style=&quot;font-size: 12.0pt\; mso-ascii
 -font-family: Calibri\; mso-ascii-theme-font: minor-latin\; mso-hansi-font
 -family: Calibri\; mso-hansi-theme-font: minor-latin\; mso-bidi-font-famil
 y: Calibri\; mso-bidi-theme-font: minor-latin\;&quot;&gt;&amp;nbsp\;&lt;/span&gt;&lt;/p&gt;\n&lt;p cl
 ass=&quot;MsoNormal&quot;&gt;&lt;span style=&quot;font-size: 12.0pt\;&quot;&gt;In this workshop\, we wi
 ll be discussing how to create distributed sensors network\, how to use th
 e Thingspeak to collect the data from the sensors and how to send feedback
  from Thingspeak to controllers and actuators to change spart facilities s
 ettings.&lt;/span&gt;&lt;/p&gt;\n&lt;p class=&quot;MsoNormal&quot;&gt;&lt;span style=&quot;font-size: 12.0pt\;
 &quot;&gt;&amp;nbsp\;&lt;/span&gt;&lt;/p&gt;\n&lt;p class=&quot;xmsonormal&quot;&gt;&lt;span style=&quot;font-size: 14.0pt
 \; mso-ascii-font-family: Calibri\; mso-ascii-theme-font: minor-latin\; ms
 o-hansi-font-family: Calibri\; mso-hansi-theme-font: minor-latin\; mso-bid
 i-font-family: Calibri\; mso-bidi-theme-font: minor-latin\;&quot;&gt;&amp;nbsp\;&lt;/span
 &gt;&lt;/p&gt;\n&lt;p class=&quot;MsoNormal&quot; style=&quot;background: white\; vertical-align: bas
 eline\;&quot;&gt;&lt;strong style=&quot;mso-bidi-font-weight: normal\;&quot;&gt;&lt;span style=&quot;font-
 size: 14.0pt\; font-family: &#39;Calibri&#39;\,sans-serif\; mso-ascii-theme-font: 
 minor-latin\; mso-hansi-theme-font: minor-latin\; mso-bidi-theme-font: min
 or-latin\; color: black\; mso-color-alt: windowtext\;&quot;&gt;To Join: &lt;/span&gt;&lt;/s
 trong&gt;&lt;/p&gt;\n&lt;p class=&quot;MsoNormal&quot; style=&quot;background: white\; vertical-align
 : baseline\;&quot;&gt;&amp;nbsp\;&lt;/p&gt;\n&lt;p class=&quot;MsoNormal&quot; style=&quot;background: white\;
  vertical-align: baseline\;&quot;&gt;&lt;span style=&quot;color: black\; mso-color-alt: wi
 ndowtext\;&quot;&gt;&lt;a href=&quot;https://devry.engageli.com/devry/current/8s7-4xz-5k8/
 &quot;&gt;&lt;span style=&quot;font-size: 14.0pt\; font-family: &#39;Calibri&#39;\,sans-serif\; ms
 o-ascii-theme-font: minor-latin\; mso-hansi-theme-font: minor-latin\; mso-
 bidi-theme-font: minor-latin\;&quot;&gt;https://devry.engageli.com/devry/current/8
 s7-4xz-5k8/&lt;/span&gt;&lt;/a&gt;&lt;/span&gt;&lt;strong style=&quot;mso-bidi-font-weight: normal\;
 &quot;&gt;&lt;span style=&quot;font-size: 14.0pt\; font-family: &#39;Calibri&#39;\,sans-serif\; ms
 o-ascii-theme-font: minor-latin\; mso-hansi-theme-font: minor-latin\; mso-
 bidi-theme-font: minor-latin\; color: black\; mso-color-alt: windowtext\;&quot;
 &gt;? &lt;/span&gt;&lt;/strong&gt;&lt;/p&gt;\n&lt;p class=&quot;Default&quot;&gt;&lt;span style=&quot;font-size: 14.0pt
 \; font-family: &#39;Calibri&#39;\,sans-serif\; mso-ascii-theme-font: minor-latin\
 ; mso-hansi-theme-font: minor-latin\; mso-bidi-theme-font: minor-latin\;&quot;&gt;
 &amp;nbsp\;&lt;/span&gt;&lt;/p&gt;\n&lt;p class=&quot;Default&quot;&gt;&lt;span style=&quot;font-size: 14.0pt\; fo
 nt-family: &#39;Calibri&#39;\,sans-serif\; mso-ascii-theme-font: minor-latin\; mso
 -fareast-font-family: &#39;Times New Roman&#39;\; mso-hansi-theme-font: minor-lati
 n\; mso-bidi-theme-font: minor-latin\; color: #505050\; mso-no-proof: yes\
 ;&quot;&gt; &lt;/span&gt;&lt;/p&gt;\n&lt;p class=&quot;Default&quot;&gt;&lt;span style=&quot;font-size: 14.0pt\; font-
 family: &#39;Calibri&#39;\,sans-serif\; mso-ascii-theme-font: minor-latin\; mso-fa
 reast-font-family: &#39;Times New Roman&#39;\; mso-hansi-theme-font: minor-latin\;
  mso-bidi-theme-font: minor-latin\; color: #505050\;&quot;&gt;&amp;nbsp\;&lt;/span&gt;&lt;/p&gt;\n
 &lt;p class=&quot;Default&quot;&gt;&lt;span style=&quot;font-family: &#39;Calibri&#39;\,sans-serif\; mso-a
 scii-theme-font: minor-latin\; mso-fareast-font-family: &#39;Times New Roman&#39;\
 ; mso-hansi-theme-font: minor-latin\; mso-bidi-theme-font: minor-latin\; c
 olor: #505050\;&quot;&gt;Prof. Toshko Tzvetkov earned his MSc degree in Engineerin
 g Physics/ Microelectronics from the Sofia University at Sofia\, Bulgaria.
  Throughout his career Prof. Tzvetkov has been involved in developing new 
 ion beam technologies\, revolutionary X-ray imaging technologies and new s
 cientific instruments. He has very extensive experience in electronics eng
 ineering\, software development and computer networking and system adminis
 tration. Prof. Tzvetkov has multiple commercial software products. Also\, 
 it created an autonomous system that was used on the International Space S
 tation to collect data using Arduino based microcontroller. Currently he i
 s an advisor to A3Global for battery reconditioning instrument development
 . Member of IEEE. &lt;/span&gt;&lt;/p&gt;
END:VEVENT
END:VCALENDAR

