BEGIN:VCALENDAR
VERSION:2.0
PRODID:IEEE vTools.Events//EN
CALSCALE:GREGORIAN
BEGIN:VTIMEZONE
TZID:America/New_York
BEGIN:DAYLIGHT
DTSTART:20240310T030000
TZOFFSETFROM:-0500
TZOFFSETTO:-0400
RRULE:FREQ=YEARLY;BYDAY=2SU;BYMONTH=3
TZNAME:EDT
END:DAYLIGHT
BEGIN:STANDARD
DTSTART:20241103T010000
TZOFFSETFROM:-0400
TZOFFSETTO:-0500
RRULE:FREQ=YEARLY;BYDAY=1SU;BYMONTH=11
TZNAME:EST
END:STANDARD
END:VTIMEZONE
BEGIN:VEVENT
DTSTAMP:20240821T213143Z
UID:277E37F7-0A40-47FE-9858-4FE03ED6F12C
DTSTART;TZID=America/New_York:20240821T163000
DTEND;TZID=America/New_York:20240821T173000
DESCRIPTION:[]Join the IEEE Toronto Instrumentation &amp; Measurement – Robot
 ics &amp; Automation Joint Chapter for a talk on the Materials As Machines\, p
 resented by Dr. Irina Garces from Carleton University.\n\nWednesday\, Augu
 st 21\, 2024 @ 4:30 – 5:30 PM\n\nAbstract: The Materials as Machines Lab
  specializes in developing systems and devices geared toward producing mat
 erial systems that can adapt or be tailored to variable operating conditio
 ns. Our focus lies in the development of smart material systems applicable
  across a spectrum of fields\, including deployable actuators\, manipulato
 rs\, soft robotics\, wearables\, and biomedical applications. Leveraging a
 dditive manufacturing\, these innovative material systems offer practical\
 , cost-effective solutions for engineering challenges. By integrating sens
 ors into multifunctional actuating materials\, we create dynamic structure
 s and assemblies capable of self-sensing and adaptation.\n\nIn this presen
 tation\, Dr. Garces will present their ongoing research on self-sensing ac
 tuation\, tailored additive manufacturing\, and explore the transformative
  potential of this technology in prosthetics\, and examine its diverse app
 lications across industries.\n\nSpeaker(s): Irina Garces\, Ph.D.\n\nVirtua
 l: https://events.vtools.ieee.org/m/424150
LOCATION:Virtual: https://events.vtools.ieee.org/m/424150
ORGANIZER:s.sedghizadeh.ca@ieee.org
SEQUENCE:89
SUMMARY:Materials As Machines
URL;VALUE=URI:https://events.vtools.ieee.org/m/424150
X-ALT-DESC:Description: &lt;br /&gt;&lt;p&gt;&lt;img style=&quot;float: right\;&quot; src=&quot;https://e
 vents.vtools.ieee.org/vtools_ui/media/display/35156f52-733b-4a5c-9a16-78de
 b31f5fba&quot; alt=&quot;&quot; width=&quot;499&quot; height=&quot;281&quot;&gt;&lt;span style=&quot;color: rgb(0\, 0\, 
 0)\;&quot;&gt;Join the &lt;strong&gt;IEEE Toronto Instrumentation &amp;amp\; Measurement &amp;nd
 ash\; Robotics &amp;amp\; Automation Joint Chapter&lt;/strong&gt;&amp;nbsp\;for a talk o
 n the&lt;strong&gt; Materials As Machines&lt;/strong&gt;\, presented by&amp;nbsp\;&lt;strong&gt;
 Dr. Irina Garces &lt;/strong&gt;from&lt;strong&gt;&amp;nbsp\;Carleton University.&lt;/strong&gt;
 &lt;/span&gt;&lt;/p&gt;\n&lt;p&gt;&lt;span style=&quot;color: rgb(186\, 55\, 42)\; font-size: 14pt\;
 &quot;&gt;&lt;strong&gt;Wednesday\, August 21\, 2024 @ 4:30 &amp;ndash\; 5:30 PM&lt;/strong&gt;&lt;/s
 pan&gt;&lt;/p&gt;\n&lt;p&gt;&lt;span style=&quot;color: rgb(0\, 0\, 0)\;&quot;&gt;&lt;strong&gt;Abstract: &lt;/str
 ong&gt;&lt;span style=&quot;font-size: 11pt\; border: none\;&quot;&gt;The Materials as Machin
 es Lab specializes in developing systems and devices geared toward produci
 ng material systems that can adapt or be tailored to variable operating co
 nditions. Our focus lies in the development of smart material systems appl
 icable across a spectrum of fields\, including deployable actuators\, mani
 pulators\, soft robotics\, wearables\, and biomedical applications. Levera
 ging additive manufacturing\, these innovative material systems offer prac
 tical\, cost-effective solutions for engineering challenges. By integratin
 g sensors into multifunctional actuating materials\, we create dynamic str
 uctures and assemblies capable of self-sensing and adaptation. &lt;/span&gt;&lt;/sp
 an&gt;&lt;/p&gt;\n&lt;p&gt;&lt;span style=&quot;font-size: 11pt\; color: rgb(0\, 0\, 0)\; border:
  none\;&quot;&gt;In this presentation\,&amp;nbsp\;&lt;strong&gt;Dr. Garces&lt;/strong&gt; will pre
 sent their ongoing research on self-sensing actuation\, tailored additive 
 manufacturing\, and explore the transformative potential of this technolog
 y in prosthetics\, and examine its diverse applications across industries.
 &lt;/span&gt;&lt;/p&gt;\n&lt;p class=&quot;MsoNormal&quot;&gt;&amp;nbsp\;&lt;/p&gt;
END:VEVENT
END:VCALENDAR

