BEGIN:VCALENDAR
VERSION:2.0
PRODID:IEEE vTools.Events//EN
CALSCALE:GREGORIAN
BEGIN:VTIMEZONE
TZID:America/Indianapolis
BEGIN:DAYLIGHT
DTSTART:20240310T030000
TZOFFSETFROM:-0500
TZOFFSETTO:-0400
RRULE:FREQ=YEARLY;BYDAY=2SU;BYMONTH=3
TZNAME:EDT
END:DAYLIGHT
BEGIN:STANDARD
DTSTART:20241103T010000
TZOFFSETFROM:-0400
TZOFFSETTO:-0500
RRULE:FREQ=YEARLY;BYDAY=1SU;BYMONTH=11
TZNAME:EST
END:STANDARD
END:VTIMEZONE
BEGIN:VEVENT
DTSTAMP:20250115T162426Z
UID:A86FD944-FCCA-42B5-AAE0-2818E4C67BCC
DTSTART;TZID=America/Indianapolis:20240714T123000
DTEND;TZID=America/Indianapolis:20240714T170000
DESCRIPTION:CIS-IEEE Picnic at Victory Field\n\nSign up by Noon\, Thursday\
 , July 11\n\nSunday\, July 14\, 2024\n1:35 PM\nGates open at 12:30 PM\nVic
 tory Field\n3rd Base Suite Level Party Terrace\n\nOn or Before\nJuly 5th	A
 fter\nJuly 5th\n$30	$35\n\nTickets limited - register today!\nPrices go up
  after July 5th\nRegistration closes on Thursday\, July 11th at 12:00 noon
 \nLimit 10 Tickets Per Member\n\nIt&#39;s time once again for our popular Picn
 ic and Baseball Game at Victory Field. Come out to socialize with your fel
 low IEEE members and enjoy a beautiful afternoon at Victory Field in India
 napolis. The Third Base Party Terrace is a great place to watch your India
 napolis Indians play and still mingle and talk with your colleagues and fa
 milies. Enjoy a private buffet of ballpark favorites including hamburgers\
 , hot dogs\, pulled BBQ chicken\, macaroni &amp; cheese\, pasta salad\, and co
 okies. A refrigerator will be stocked with assorted Pepsi products\, water
  and beer. Food will be served throughout the 7th inning.\n\nCheer on the 
 Indians as they take on the Columbus Clippers. Gates open at 12:30 PM\, an
 d the game begins at 1:35 PM. You must be an IEEE member to register and r
 eserve tickets. Please note below or contact [Bob Evanich](mailto:b.evanic
 h@ieee.org) if you want some of your tickets put in someone else&#39;s name. T
 ickets will be available either as a digital ticket (preferred) or a physi
 cal ticket available at Will Call in your name a few days before as well a
 s on the day of the game. Be sure to bring a photo ID. Please note your ti
 cket preference below.\n\nRoom: 3rd Base Suite Level Party Terrace\, Bldg:
  Victory Field\, 501 W. Maryland St.\, Indianapolis\, Indiana\, United Sta
 tes\, 46225
LOCATION:Room: 3rd Base Suite Level Party Terrace\, Bldg: Victory Field\, 5
 01 W. Maryland St.\, Indianapolis\, Indiana\, United States\, 46225
ORGANIZER:b.evanich@ieee.org
SEQUENCE:61
SUMMARY:Central Indiana Section Picnic and Baseball Outing
URL;VALUE=URI:https://events.vtools.ieee.org/m/424170
X-ALT-DESC:Description: &lt;br /&gt;&lt;div style=&quot;text-align: center\;&quot;&gt;\n&lt;h2 style
 =&quot;color: navy\;&quot;&gt;CIS-IEEE Picnic at Victory Field&lt;/h2&gt;\n&lt;div&gt;&lt;span style=&quot;
 color: red\; font-weight: bold\; background-color: yellow\; font-size: 12p
 t\;&quot;&gt;Sign up by Noon\, Thursday\, July 11&lt;/span&gt;&lt;/div&gt;\n&lt;h3&gt;Sunday\, July 
 14\, 2024&lt;br&gt;1:35 PM&lt;br&gt;Gates open at 12:30 PM&lt;br&gt;Victory Field&lt;br&gt;3&lt;sup&gt;r
 d&lt;/sup&gt; Base Suite Level Party Terrace&lt;/h3&gt;\n&lt;center&gt;\n&lt;table border=&quot;0&quot; c
 ellspacing=&quot;0&quot; cellpadding=&quot;8&quot;&gt;\n&lt;tbody&gt;\n&lt;tr&gt;\n&lt;td align=&quot;center&quot;&gt;&lt;strong
 &gt;On or Before&lt;/strong&gt;&lt;br&gt;&lt;strong&gt;July 5&lt;sup&gt;th&lt;/sup&gt;&lt;/strong&gt;&lt;/td&gt;\n&lt;td a
 lign=&quot;center&quot;&gt;&lt;strong&gt;After&lt;/strong&gt;&lt;br&gt;&lt;strong&gt;July 5&lt;sup&gt;th&lt;/sup&gt;&lt;/stron
 g&gt;&lt;/td&gt;\n&lt;/tr&gt;\n&lt;tr&gt;\n&lt;td style=&quot;color: red\; font-weight: bold\;&quot; align=&quot;
 center&quot;&gt;$30&lt;/td&gt;\n&lt;td style=&quot;color: red\; font-weight: bold\;&quot; align=&quot;cent
 er&quot;&gt;$35&lt;/td&gt;\n&lt;/tr&gt;\n&lt;/tbody&gt;\n&lt;/table&gt;\n&lt;/center&gt;\n&lt;div&gt;&amp;nbsp\;&lt;/div&gt;\n&lt;h
 4 style=&quot;color: red\;&quot;&gt;Tickets limited - register today!&lt;br&gt;Prices go up a
 fter July 5&lt;sup&gt;th&lt;/sup&gt;&lt;br&gt;Registration closes on Thursday\, July 11&lt;sup&gt;
 th&lt;/sup&gt; at 12:00 noon&lt;br&gt;Limit 10 Tickets Per Member&lt;/h4&gt;\n&lt;/div&gt;\n&lt;p&gt;&amp;nb
 sp\;&lt;/p&gt;\n&lt;p&gt;It&#39;s time once again for our popular Picnic and Baseball Game
  at Victory Field. Come out to socialize with your fellow IEEE members and
  enjoy a beautiful afternoon at Victory Field in Indianapolis.&amp;nbsp\; The 
 Third Base Party Terrace is a great place to watch your Indianapolis India
 ns play and still mingle and talk with your colleagues and families.&amp;nbsp\
 ; Enjoy a private buffet of ballpark favorites including hamburgers\, hot 
 dogs\, pulled BBQ chicken\, macaroni &amp;amp\; cheese\, pasta salad\, and coo
 kies. A refrigerator will be stocked with assorted Pepsi products\, water 
 and beer.&amp;nbsp\; Food will be served throughout the 7&lt;sup&gt;th&lt;/sup&gt; inning.
 &lt;/p&gt;\n&lt;p&gt;Cheer on the Indians as they take on the Columbus Clippers.&amp;nbsp\
 ; Gates open at 12:30 PM\, and the game begins at 1:35 PM.&amp;nbsp\; &amp;nbsp\; 
 &lt;span style=&quot;color: red\; font-weight: bold\;&quot;&gt;You must be an IEEE member 
 to register and reserve tickets&lt;/span&gt;.&amp;nbsp\; Please note below or contac
 t &lt;a href=&quot;mailto:b.evanich@ieee.org&quot;&gt;Bob Evanich&lt;/a&gt; if you want some of 
 your tickets put in someone else&#39;s name. &amp;nbsp\;Tickets will be available 
 either as a digital ticket (preferred) or a physical ticket available at W
 ill Call in your name a few days before as well as on the day of the game.
 &amp;nbsp\; Be sure to bring a photo ID. &lt;strong&gt;Please note your ticket prefe
 rence below.&lt;/strong&gt;&lt;/p&gt;\n&lt;p&gt;&amp;nbsp\;&lt;/p&gt;
END:VEVENT
END:VCALENDAR

