BEGIN:VCALENDAR
VERSION:2.0
PRODID:IEEE vTools.Events//EN
CALSCALE:GREGORIAN
BEGIN:VTIMEZONE
TZID:America/Bogota
BEGIN:DAYLIGHT
DTSTART:20380118T221407
TZOFFSETFROM:-0500
TZOFFSETTO:-0500
RRULE:FREQ=YEARLY;BYDAY=3MO;BYMONTH=1
TZNAME:-05
END:DAYLIGHT
BEGIN:STANDARD
DTSTART:19930206T230000
TZOFFSETFROM:-0400
TZOFFSETTO:-0500
RRULE:FREQ=YEARLY;BYDAY=1SA;BYMONTH=2
TZNAME:-05
END:STANDARD
END:VTIMEZONE
BEGIN:VEVENT
DTSTAMP:20241120T173818Z
UID:E9959F6B-D338-48A5-8632-EEB66C91A482
DTSTART;TZID=America/Bogota:20241005T090000
DTEND;TZID=America/Bogota:20241005T170000
DESCRIPTION:Tropic Topic Tour 2024 es un evento único que reúne a distint
 as ramas de la Sección Caribe Colombiano del IEEE y se llevará a cabo en
  la Universidad Pontificia Bolivariana Sede Montería\, Auditorio Juan Bed
 oya.\n\nEste evento es un espacio donde se encuentran estudiantes\, profes
 ionales y voluntarios de toda la costa colombiana para generar y compartir
  experiencias innovadoras que impulsan su crecimiento y desarrollo persona
 l y profesional.\n\nEl evento contará con una serie de ponencias de exper
 tos en las áreas de energías renovables\, transformación empresarial y 
 beneficios de ser miembro del IEEE\, entre otros.\n\nSpeaker(s): Adel Elma
 ghraby\, Sarly Martinez\, Ericksson Gutierrez\, Issac caicedo\, Nicolas Ag
 ustin\n\nUniversidad Pontificia Bolivariana Sede Montería\, Auditorio Jua
 n Bedoya\, Monteria\, Departamento de Córdoba\, Colombia
LOCATION:Universidad Pontificia Bolivariana Sede Montería\, Auditorio Juan
  Bedoya\, Monteria\, Departamento de Córdoba\, Colombia
ORGANIZER:galvisga@ieee.org
SEQUENCE:8
SUMMARY:IEEE Colcaribe Tropic Topic Tour 2024 2.0 
URL;VALUE=URI:https://events.vtools.ieee.org/m/424206
X-ALT-DESC:Description: &lt;br /&gt;&lt;p&gt;&lt;span style=&quot;vertical-align: inherit\;&quot;&gt;&lt;s
 pan style=&quot;vertical-align: inherit\;&quot;&gt;Tropic Topic Tour 2024 es un evento 
 &amp;uacute\;nico que re&amp;uacute\;ne a distintas ramas de la Secci&amp;oacute\;n Ca
 ribe Colombiano del IEEE y se llevar&amp;aacute\; a cabo en la Universidad Pon
 tificia Bolivariana Sede Monter&amp;iacute\;a\, Auditorio Juan Bedoya.&lt;/span&gt;&lt;
 /span&gt;&lt;/p&gt;\n&lt;p&gt;&lt;span style=&quot;vertical-align: inherit\;&quot;&gt;&lt;span style=&quot;vertic
 al-align: inherit\;&quot;&gt;Este evento es un espacio donde se encuentran estudia
 ntes\, profesionales y voluntarios de toda la costa colombiana para genera
 r y compartir experiencias innovadoras que impulsan su crecimiento y desar
 rollo personal y profesional.&lt;/span&gt;&lt;/span&gt;&lt;/p&gt;\n&lt;p&gt;&lt;span style=&quot;vertical-
 align: inherit\;&quot;&gt;&lt;span style=&quot;vertical-align: inherit\;&quot;&gt;El evento contar
 &amp;aacute\; con una serie de ponencias de expertos en las &amp;aacute\;reas de e
 nerg&amp;iacute\;as renovables\, transformaci&amp;oacute\;n empresarial y benefici
 os de ser miembro del IEEE\, entre otros.&amp;nbsp\;&lt;/span&gt;&lt;/span&gt;&lt;/p&gt;
END:VEVENT
END:VCALENDAR

