BEGIN:VCALENDAR
VERSION:2.0
PRODID:IEEE vTools.Events//EN
CALSCALE:GREGORIAN
BEGIN:VTIMEZONE
TZID:America/Los_Angeles
BEGIN:DAYLIGHT
DTSTART:20240310T030000
TZOFFSETFROM:-0800
TZOFFSETTO:-0700
RRULE:FREQ=YEARLY;BYDAY=2SU;BYMONTH=3
TZNAME:PDT
END:DAYLIGHT
BEGIN:STANDARD
DTSTART:20241103T010000
TZOFFSETFROM:-0700
TZOFFSETTO:-0800
RRULE:FREQ=YEARLY;BYDAY=1SU;BYMONTH=11
TZNAME:PST
END:STANDARD
END:VTIMEZONE
BEGIN:VEVENT
DTSTAMP:20240626T210727Z
UID:5F1FB66E-DA12-4A49-AFAC-86C8CF9E1772
DTSTART;TZID=America/Los_Angeles:20240622T123000
DTEND;TZID=America/Los_Angeles:20240622T150000
DESCRIPTION:RSVP:\n\nYou&#39;re invited to join us at the IEEE Bowling event\, 
 hosted by the Young Professionals affinity group. The event will take plac
 e at West Seattle Bowl\, offering an exciting opportunity for networking a
 nd fun.\n\nKindly register your attendance using the provided link. Regist
 ration is applicable to both members\, non-members and students. Your regi
 stration is essential to ensure an accurate headcount\, as spots are limit
 ed.\n\nWe look forward to seeing you there!\n\nAbout the event:\n\nThe IEE
 E YP AG Bowling Networking Event aims to bring together IEEE members\, non
 -members\, students\, and professionals in the fields of electrical engine
 ering and computer science for an evening of team engagement\, networking\
 , and relationship-building in a relaxed and enjoyable environment. Beyond
  the recreational aspect of bowling\, this event serves as a platform to f
 oster meaningful connections\, break down barriers\, and strengthen the pr
 ofessional network within the community.\n\nAgenda: \nEvent: IEEE YP Bowli
 ng: Striking Connections\n\nDate: June 22\, 2024 Time 12:30 – 3:00 PM\n\
 n12:30 PM – 1:00 PM: Registration and Welcome\n\n1:00 PM - 3:00 PM: Bowl
 ing and Networking\n\n3:00 PM - 3:30 PM: Closure and Networking Wrap-Up\n\
 n3:30 PM: Event Concludes\n\n4505 39th Ave SW\, Seattle\, Washington\, Uni
 ted States\, 98116
LOCATION:4505 39th Ave SW\, Seattle\, Washington\, United States\, 98116
ORGANIZER:zi.lei@ieee.org
SEQUENCE:230
SUMMARY:IEEE YP BOWLING: STRIKING CONNECTIONS
URL;VALUE=URI:https://events.vtools.ieee.org/m/424299
X-ALT-DESC:Description: &lt;br /&gt;&lt;p&gt;RSVP:&lt;/p&gt;\n&lt;p&gt;You&#39;re invited to join us at
  the IEEE Bowling event\, hosted by the Young Professionals affinity group
 . The event will take place at West Seattle Bowl\, offering an exciting op
 portunity for networking and fun.&lt;/p&gt;\n&lt;p&gt;Kindly register your attendance 
 using the provided link. Registration is applicable to both members\, non-
 members and students. Your registration is essential to ensure an accurate
  headcount\, as spots are limited.&lt;/p&gt;\n&lt;p&gt;We look forward to seeing you t
 here!&lt;/p&gt;\n&lt;p&gt;&amp;nbsp\;&lt;/p&gt;\n&lt;p&gt;About the event:&lt;/p&gt;\n&lt;p&gt;The IEEE YP AG Bowl
 ing Networking Event aims to bring together IEEE members\, non-members\, s
 tudents\, and professionals in the fields of electrical engineering and co
 mputer science for an evening of team engagement\, networking\, and relati
 onship-building in a relaxed and enjoyable environment. Beyond the recreat
 ional aspect of bowling\, this event serves as a platform to foster meanin
 gful connections\, break down barriers\, and strengthen the professional n
 etwork within the community.&lt;/p&gt;\n&lt;p&gt;&amp;nbsp\;&lt;/p&gt;\n&lt;p&gt;&amp;nbsp\;&lt;/p&gt;\n&lt;p&gt;&lt;img 
 src=&quot;https://events.vtools.ieee.org/vtools_ui/media/display/0317c451-bde3-
 4294-b986-a8814f64e9db&quot; width=&quot;703&quot; height=&quot;985&quot;&gt;&lt;/p&gt;\n&lt;p&gt;&amp;nbsp\;&lt;/p&gt;&lt;br /
 &gt;&lt;br /&gt;Agenda: &lt;br /&gt;&lt;p&gt;Event: IEEE YP Bowling: Striking Connections&lt;/p&gt;\n
 &lt;p&gt;Date: June 22\, 2024 Time 12:30 &amp;ndash\; 3:00 PM&lt;/p&gt;\n&lt;p&gt;&amp;nbsp\;&lt;/p&gt;\n&lt;
 p&gt;12:30 PM &amp;ndash\; 1:00 PM: Registration and Welcome&lt;/p&gt;\n&lt;p&gt;1:00 PM - 3:
 00 PM: Bowling and Networking&lt;/p&gt;\n&lt;p&gt;3:00 PM - 3:30 PM: Closure and Netwo
 rking Wrap-Up&lt;/p&gt;\n&lt;p&gt;3:30 PM: Event Concludes&lt;/p&gt;
END:VEVENT
END:VCALENDAR

