BEGIN:VCALENDAR
VERSION:2.0
PRODID:IEEE vTools.Events//EN
CALSCALE:GREGORIAN
BEGIN:VTIMEZONE
TZID:Europe/Warsaw
BEGIN:DAYLIGHT
DTSTART:20240331T030000
TZOFFSETFROM:+0100
TZOFFSETTO:+0200
RRULE:FREQ=YEARLY;BYDAY=-1SU;BYMONTH=3
TZNAME:CEST
END:DAYLIGHT
BEGIN:STANDARD
DTSTART:20241027T020000
TZOFFSETFROM:+0200
TZOFFSETTO:+0100
RRULE:FREQ=YEARLY;BYDAY=-1SU;BYMONTH=10
TZNAME:CET
END:STANDARD
END:VTIMEZONE
BEGIN:VEVENT
DTSTAMP:20240625T154847Z
UID:80ACA044-3C73-420D-9450-9CB66BDF2879
DTSTART;TZID=Europe/Warsaw:20240625T150000
DTEND;TZID=Europe/Warsaw:20240625T170000
DESCRIPTION:My life with minority carriers - 75 years of bipolar transistor
 \n\nWygłosi prof. dr hab. inż. Wiesław Kuźmicz\n\nCo-sponsored by: IEE
 E R80033 Poland Section\n\nSpeaker(s): Profesor Wiesław Kuźmicz\n\nAgend
 a: \n1. Referat na temat\n\n&quot;My life with minority carriers - 75 years of 
 bipolar transistor&quot;\n\nWygłosi prof. dr hab. inż. Wiesław Kuźmicz\n\n2
 . Dyskusja i sprawy różne\n\nhttps://webinabox.vtools.ieee.org/wibp_home
 /index/LM80033\n\nVirtual: https://events.vtools.ieee.org/m/424376
LOCATION:Virtual: https://events.vtools.ieee.org/m/424376
ORGANIZER:adam.dabrowski@put.poznan.pl
SEQUENCE:26
SUMMARY:Meeting of the IEEE LM80033 - My life with minority carriers - 75 y
 ears of bipolar transistor
URL;VALUE=URI:https://events.vtools.ieee.org/m/424376
X-ALT-DESC:Description: &lt;br /&gt;&lt;p&gt;My life with minority carriers - 75 years 
 of bipolar transistor&amp;nbsp\;&lt;/p&gt;\n&lt;p&gt;Wygłosi prof. dr hab. inż. Wiesław
  Kuźmicz&lt;/p&gt;&lt;br /&gt;&lt;br /&gt;Agenda: &lt;br /&gt;&lt;p&gt;1. Referat na temat&amp;nbsp\;&lt;/p&gt;\n
 &lt;p&gt;&quot;My life with minority carriers - 75 years of bipolar transistor&quot;&amp;nbsp\
 ;&lt;/p&gt;\n&lt;p&gt;Wygłosi prof. dr hab. inż. Wiesław Kuźmicz&lt;/p&gt;\n&lt;p&gt;&lt;span cla
 ss=&quot;HwtZe&quot; lang=&quot;en&quot;&gt;&lt;span class=&quot;jCAhz ChMk0b&quot;&gt;&lt;span class=&quot;ryNqvb&quot;&gt;2. Dy
 skusja i sprawy r&amp;oacute\;żne&lt;/span&gt;&lt;/span&gt;&lt;/span&gt;&lt;/p&gt;\n&lt;p&gt;&lt;a title=&quot;Pols
 ka Sekcja IEEE LMAG&quot; href=&quot;https://webinabox.vtools.ieee.org/wibp_home/ind
 ex/LM80033&quot;&gt;https://webinabox.vtools.ieee.org/wibp_home/index/LM80033&lt;/a&gt;&lt;
 /p&gt;
END:VEVENT
END:VCALENDAR

