BEGIN:VCALENDAR
VERSION:2.0
PRODID:IEEE vTools.Events//EN
CALSCALE:GREGORIAN
BEGIN:VTIMEZONE
TZID:America/New_York
BEGIN:DAYLIGHT
DTSTART:20240310T030000
TZOFFSETFROM:-0500
TZOFFSETTO:-0400
RRULE:FREQ=YEARLY;BYDAY=2SU;BYMONTH=3
TZNAME:EDT
END:DAYLIGHT
BEGIN:STANDARD
DTSTART:20241103T010000
TZOFFSETFROM:-0400
TZOFFSETTO:-0500
RRULE:FREQ=YEARLY;BYDAY=1SU;BYMONTH=11
TZNAME:EST
END:STANDARD
END:VTIMEZONE
BEGIN:VEVENT
DTSTAMP:20240629T165659Z
UID:136077A3-E690-4B03-9A91-9BC0B42136CD
DTSTART;TZID=America/New_York:20240621T150000
DTEND;TZID=America/New_York:20240621T160000
DESCRIPTION:[][][][]\n\nProf. Paul Cunningham is an IEEE Distinguished Lect
 urer who is visiting Toronto and will present his work with mHealth4Afrika
 .\n\nSupported by the European Commission\, mHealth4Afrika co-designed and
  validated a state-of-the-art modular\, extensible and multilingual standa
 rds based health information system to support strengthening primary healt
 hcare delivery in resource constrained environments in Ethiopia\, Kenya\, 
 Malawi and South Africa\n\nThis SSIT Distinguished Lecture (DL) by Prof. P
 aul M Cunningham (IST-Africa Institute\, Ireland) will share insight gaine
 d from mHealth4Afrika related to co-designing appropriate technological so
 lutions to address societal challenges in resource constrained environment
 s. While primarily focused on the health domain\, it will encompass discus
 sion of ethics and importance of infrastructure (including reliable power)
 .\n\nSpeaker(s): Prof. Paul M Cunningham\, \n\nRoom: ENG460-Bldg Entrance 
 support Contact:4165092067\, Bldg: George Vari Engineering Building\, 245 
 Church Street\, Toronto\, Ontario\, Canada\, Virtual: https://events.vtool
 s.ieee.org/m/424410
LOCATION:Room: ENG460-Bldg Entrance support Contact:4165092067\, Bldg: Geor
 ge Vari Engineering Building\, 245 Church Street\, Toronto\, Ontario\, Can
 ada\, Virtual: https://events.vtools.ieee.org/m/424410
ORGANIZER:dr.m.al-khishali@ieee.org
SEQUENCE:33
SUMMARY:mHealth4Afrika – Issues Associated with Co-Designing Technology S
 olutions for Resource Constrained Environments
URL;VALUE=URI:https://events.vtools.ieee.org/m/424410
X-ALT-DESC:Description: &lt;br /&gt;&lt;p class=&quot;MsoNormal&quot;&gt;&lt;img src=&quot;https://events
 .vtools.ieee.org/vtools_ui/media/display/a1fc3687-4dae-43d3-870b-5b699c5f9
 5ff&quot; alt=&quot;&quot; width=&quot;920&quot; height=&quot;690&quot;&gt;&lt;img src=&quot;https://events.vtools.ieee.
 org/vtools_ui/media/display/4cb3cdf1-5f8e-46ad-b1d5-9c870871d4e1&quot; alt=&quot;&quot; w
 idth=&quot;1012&quot; height=&quot;297&quot;&gt;&lt;img src=&quot;https://events.vtools.ieee.org/vtools_u
 i/media/display/3c4c41b9-9405-44dc-8d5c-fd35587b07c9&quot; alt=&quot;&quot; width=&quot;1011&quot; 
 height=&quot;759&quot;&gt;&lt;img src=&quot;https://events.vtools.ieee.org/vtools_ui/media/disp
 lay/5af6087f-84d2-4269-9bc1-540f11379472&quot; alt=&quot;&quot; width=&quot;691&quot; height=&quot;345&quot;&gt;
 &lt;/p&gt;\n&lt;p class=&quot;MsoNormal&quot;&gt;Prof. Paul Cunningham is an IEEE Distinguished 
 Lecturer who is visiting Toronto and will present his work with mHealth4Af
 rika.&lt;/p&gt;\n&lt;p class=&quot;MsoNormal&quot;&gt;Supported by the European Commission\, mHe
 alth4Afrika co-designed and validated a state-of-the-art modular\, extensi
 ble and multilingual standards based health information system to support 
 strengthening primary healthcare delivery in resource constrained environm
 ents in Ethiopia\, Kenya\, Malawi and South Africa&lt;/p&gt;\n&lt;p class=&quot;MsoNorma
 l&quot;&gt;This SSIT Distinguished Lecture (DL) by Prof. Paul M Cunningham (IST-Af
 rica Institute\, Ireland) will share insight gained from mHealth4Afrika re
 lated to co-designing appropriate technological solutions to address socie
 tal challenges in resource constrained environments. While primarily focus
 ed on the health domain\, it will encompass discussion of ethics and impor
 tance of infrastructure (including reliable power).&lt;/p&gt;
END:VEVENT
END:VCALENDAR

