BEGIN:VCALENDAR
VERSION:2.0
PRODID:IEEE vTools.Events//EN
CALSCALE:GREGORIAN
BEGIN:VTIMEZONE
TZID:Africa/Nairobi
BEGIN:STANDARD
DTSTART:19420801T001500
TZOFFSETFROM:+0245
TZOFFSETTO:+0300
TZNAME:EAT
END:STANDARD
END:VTIMEZONE
BEGIN:VEVENT
DTSTAMP:20240924T152405Z
UID:69B6FB2B-D290-4BE3-A441-9B9FA767CA66
DTSTART;TZID=Africa/Nairobi:20240621T140000
DTEND;TZID=Africa/Nairobi:20240621T163000
DESCRIPTION:In the third part of the series\, we will explore inputs and ou
 tputs\, majorly exploring digital inputs and outputs. The following is the
  breakdown.\n\n- Inputs (1.5 hours):\n- Types of digital inputs (pushbutto
 ns\, switches\, sensors)\n- Internal pull-up and pull-down resistors\n- Re
 ading digital inputs using MicroPython\n- Debouncing techniques for pushbu
 ttons (optional)\n- Hands-on Lab: Interfacing pushbuttons with the Raspber
 ry Pi Pico (reading button states\, implementing simple logic)\n\n- Output
 s (1.5 hours):\n- Types of digital outputs (LEDs\, relays\, actuators)\n- 
 Controlling digital outputs using MicroPython (turning LEDs on/off)\n- Pul
 se Width Modulation (PWM) for analog-like control (optional)\n- Hands-on L
 ab: Interfacing LEDs with the Raspberry Pi Pico (blinking LEDs\, controlli
 ng brightness with PWM)\n\nRoom: Training Room\, Bldg: Chandaria Innovatio
 n and Incubation Center\, 43844\, Nairobi\, Nairobi\, Kenya\, 00100
LOCATION:Room: Training Room\, Bldg: Chandaria Innovation and Incubation Ce
 nter\, 43844\, Nairobi\, Nairobi\, Kenya\, 00100
ORGANIZER:kagwekagunyi@ieee.org
SEQUENCE:4
SUMMARY:RP2040: Exploring Inputs and Outputs
URL;VALUE=URI:https://events.vtools.ieee.org/m/424566
X-ALT-DESC:Description: &lt;br /&gt;&lt;p&gt;&lt;span lang=&quot;en-KE&quot; style=&quot;font-size: 12.0p
 t\; font-family: &#39;Times New Roman&#39;\,serif\; mso-fareast-font-family: &#39;Time
 s New Roman&#39;\; mso-font-kerning: 0pt\; mso-ligatures: none\; mso-fareast-l
 anguage: #0C00\;&quot;&gt;In the third part of the series\, we will explore inputs
  and outputs\, majorly exploring digital inputs and outputs. The following
  is the breakdown.&lt;br&gt;&lt;/span&gt;&lt;/p&gt;\n&lt;ul type=&quot;disc&quot;&gt;\n&lt;li class=&quot;MsoNormal&quot;
  style=&quot;mso-margin-top-alt: auto\; mso-margin-bottom-alt: auto\; line-heig
 ht: normal\; mso-list: l0 level1 lfo1\; tab-stops: list 36.0pt\;&quot;&gt;&lt;strong&gt;
 &lt;span lang=&quot;en-KE&quot; style=&quot;font-size: 12.0pt\; font-family: &#39;Times New Roma
 n&#39;\,serif\; mso-fareast-font-family: &#39;Times New Roman&#39;\; mso-font-kerning:
  0pt\; mso-ligatures: none\; mso-fareast-language: #0C00\;&quot;&gt;Inputs (1.5 ho
 urs):&lt;/span&gt;&lt;/strong&gt;\n&lt;ul type=&quot;circle&quot;&gt;\n&lt;li class=&quot;MsoNormal&quot; style=&quot;ms
 o-margin-top-alt: auto\; mso-margin-bottom-alt: auto\; line-height: normal
 \; mso-list: l0 level2 lfo1\; tab-stops: list 72.0pt\;&quot;&gt;&lt;span lang=&quot;en-KE&quot;
  style=&quot;font-size: 12.0pt\; font-family: &#39;Times New Roman&#39;\,serif\; mso-fa
 reast-font-family: &#39;Times New Roman&#39;\; mso-font-kerning: 0pt\; mso-ligatur
 es: none\; mso-fareast-language: #0C00\;&quot;&gt;Types of digital inputs (pushbut
 tons\, switches\, sensors)&lt;/span&gt;&lt;/li&gt;\n&lt;li class=&quot;MsoNormal&quot; style=&quot;mso-m
 argin-top-alt: auto\; mso-margin-bottom-alt: auto\; line-height: normal\; 
 mso-list: l0 level2 lfo1\; tab-stops: list 72.0pt\;&quot;&gt;&lt;span lang=&quot;en-KE&quot; st
 yle=&quot;font-size: 12.0pt\; font-family: &#39;Times New Roman&#39;\,serif\; mso-farea
 st-font-family: &#39;Times New Roman&#39;\; mso-font-kerning: 0pt\; mso-ligatures:
  none\; mso-fareast-language: #0C00\;&quot;&gt;Internal pull-up and pull-down resi
 stors&lt;/span&gt;&lt;/li&gt;\n&lt;li class=&quot;MsoNormal&quot; style=&quot;mso-margin-top-alt: auto\;
  mso-margin-bottom-alt: auto\; line-height: normal\; mso-list: l0 level2 l
 fo1\; tab-stops: list 72.0pt\;&quot;&gt;&lt;span lang=&quot;en-KE&quot; style=&quot;font-size: 12.0p
 t\; font-family: &#39;Times New Roman&#39;\,serif\; mso-fareast-font-family: &#39;Time
 s New Roman&#39;\; mso-font-kerning: 0pt\; mso-ligatures: none\; mso-fareast-l
 anguage: #0C00\;&quot;&gt;Reading digital inputs using MicroPython&lt;/span&gt;&lt;/li&gt;\n&lt;l
 i class=&quot;MsoNormal&quot; style=&quot;mso-margin-top-alt: auto\; mso-margin-bottom-al
 t: auto\; line-height: normal\; mso-list: l0 level2 lfo1\; tab-stops: list
  72.0pt\;&quot;&gt;&lt;span lang=&quot;en-KE&quot; style=&quot;font-size: 12.0pt\; font-family: &#39;Tim
 es New Roman&#39;\,serif\; mso-fareast-font-family: &#39;Times New Roman&#39;\; mso-fo
 nt-kerning: 0pt\; mso-ligatures: none\; mso-fareast-language: #0C00\;&quot;&gt;Deb
 ouncing techniques for pushbuttons (optional)&lt;/span&gt;&lt;/li&gt;\n&lt;li class=&quot;MsoN
 ormal&quot; style=&quot;mso-margin-top-alt: auto\; mso-margin-bottom-alt: auto\; lin
 e-height: normal\; mso-list: l0 level2 lfo1\; tab-stops: list 72.0pt\;&quot;&gt;&lt;s
 trong&gt;&lt;span lang=&quot;en-KE&quot; style=&quot;font-size: 12.0pt\; font-family: &#39;Times Ne
 w Roman&#39;\,serif\; mso-fareast-font-family: &#39;Times New Roman&#39;\; mso-font-ke
 rning: 0pt\; mso-ligatures: none\; mso-fareast-language: #0C00\;&quot;&gt;Hands-on
  Lab:&lt;/span&gt;&lt;/strong&gt;&lt;span lang=&quot;en-KE&quot; style=&quot;font-size: 12.0pt\; font-fa
 mily: &#39;Times New Roman&#39;\,serif\; mso-fareast-font-family: &#39;Times New Roman
 &#39;\; mso-font-kerning: 0pt\; mso-ligatures: none\; mso-fareast-language: #0
 C00\;&quot;&gt; Interfacing pushbuttons with the Raspberry Pi Pico (reading button
  states\, implementing simple logic)&lt;/span&gt;&lt;/li&gt;\n&lt;/ul&gt;\n&lt;/li&gt;\n&lt;li class=
 &quot;MsoNormal&quot; style=&quot;mso-margin-top-alt: auto\; mso-margin-bottom-alt: auto\
 ; line-height: normal\; mso-list: l0 level1 lfo1\; tab-stops: list 36.0pt\
 ;&quot;&gt;&lt;strong&gt;&lt;span lang=&quot;en-KE&quot; style=&quot;font-size: 12.0pt\; font-family: &#39;Tim
 es New Roman&#39;\,serif\; mso-fareast-font-family: &#39;Times New Roman&#39;\; mso-fo
 nt-kerning: 0pt\; mso-ligatures: none\; mso-fareast-language: #0C00\;&quot;&gt;Out
 puts (1.5 hours):&lt;/span&gt;&lt;/strong&gt;\n&lt;ul type=&quot;circle&quot;&gt;\n&lt;li class=&quot;MsoNorma
 l&quot; style=&quot;mso-margin-top-alt: auto\; mso-margin-bottom-alt: auto\; line-he
 ight: normal\; mso-list: l0 level2 lfo1\; tab-stops: list 72.0pt\;&quot;&gt;&lt;span 
 lang=&quot;en-KE&quot; style=&quot;font-size: 12.0pt\; font-family: &#39;Times New Roman&#39;\,se
 rif\; mso-fareast-font-family: &#39;Times New Roman&#39;\; mso-font-kerning: 0pt\;
  mso-ligatures: none\; mso-fareast-language: #0C00\;&quot;&gt;Types of digital out
 puts (LEDs\, relays\, actuators)&lt;/span&gt;&lt;/li&gt;\n&lt;li class=&quot;MsoNormal&quot; style=
 &quot;mso-margin-top-alt: auto\; mso-margin-bottom-alt: auto\; line-height: nor
 mal\; mso-list: l0 level2 lfo1\; tab-stops: list 72.0pt\;&quot;&gt;&lt;span lang=&quot;en-
 KE&quot; style=&quot;font-size: 12.0pt\; font-family: &#39;Times New Roman&#39;\,serif\; mso
 -fareast-font-family: &#39;Times New Roman&#39;\; mso-font-kerning: 0pt\; mso-liga
 tures: none\; mso-fareast-language: #0C00\;&quot;&gt;Controlling digital outputs u
 sing MicroPython (turning LEDs on/off)&lt;/span&gt;&lt;/li&gt;\n&lt;li class=&quot;MsoNormal&quot; 
 style=&quot;mso-margin-top-alt: auto\; mso-margin-bottom-alt: auto\; line-heigh
 t: normal\; mso-list: l0 level2 lfo1\; tab-stops: list 72.0pt\;&quot;&gt;&lt;span lan
 g=&quot;en-KE&quot; style=&quot;font-size: 12.0pt\; font-family: &#39;Times New Roman&#39;\,serif
 \; mso-fareast-font-family: &#39;Times New Roman&#39;\; mso-font-kerning: 0pt\; ms
 o-ligatures: none\; mso-fareast-language: #0C00\;&quot;&gt;Pulse Width Modulation 
 (PWM) for analog-like control (optional)&lt;/span&gt;&lt;/li&gt;\n&lt;li class=&quot;MsoNormal
 &quot; style=&quot;mso-margin-top-alt: auto\; mso-margin-bottom-alt: auto\; line-hei
 ght: normal\; mso-list: l0 level2 lfo1\; tab-stops: list 72.0pt\;&quot;&gt;&lt;strong
 &gt;&lt;span lang=&quot;en-KE&quot; style=&quot;font-size: 12.0pt\; font-family: &#39;Times New Rom
 an&#39;\,serif\; mso-fareast-font-family: &#39;Times New Roman&#39;\; mso-font-kerning
 : 0pt\; mso-ligatures: none\; mso-fareast-language: #0C00\;&quot;&gt;Hands-on Lab:
 &lt;/span&gt;&lt;/strong&gt;&lt;span lang=&quot;en-KE&quot; style=&quot;font-size: 12.0pt\; font-family:
  &#39;Times New Roman&#39;\,serif\; mso-fareast-font-family: &#39;Times New Roman&#39;\; m
 so-font-kerning: 0pt\; mso-ligatures: none\; mso-fareast-language: #0C00\;
 &quot;&gt; Interfacing LEDs with the Raspberry Pi Pico (blinking LEDs\, controllin
 g brightness with PWM)&lt;/span&gt;&lt;/li&gt;\n&lt;/ul&gt;\n&lt;/li&gt;\n&lt;/ul&gt;
END:VEVENT
END:VCALENDAR

