BEGIN:VCALENDAR
VERSION:2.0
PRODID:IEEE vTools.Events//EN
CALSCALE:GREGORIAN
BEGIN:VTIMEZONE
TZID:America/Chicago
BEGIN:DAYLIGHT
DTSTART:20240310T030000
TZOFFSETFROM:-0600
TZOFFSETTO:-0500
RRULE:FREQ=YEARLY;BYDAY=2SU;BYMONTH=3
TZNAME:CDT
END:DAYLIGHT
BEGIN:STANDARD
DTSTART:20241103T010000
TZOFFSETFROM:-0500
TZOFFSETTO:-0600
RRULE:FREQ=YEARLY;BYDAY=1SU;BYMONTH=11
TZNAME:CST
END:STANDARD
END:VTIMEZONE
BEGIN:VEVENT
DTSTAMP:20240728T230924Z
UID:014835B0-B21F-4693-9909-367BC6D7C75D
DTSTART;TZID=America/Chicago:20240724T170000
DTEND;TZID=America/Chicago:20240724T180000
DESCRIPTION:Get a one hour PDH certificate when you see Arc Flash SME Andre
 w Gusev present right here in Houston on July 10th!\n\nThis meeting is for
  EEs who are new to arc flash and experienced EEs who want to learn about 
 new arc flash technology and best practices.\n\nYou will understand how to
  define the procedures and regulations for facilities and what often gets 
 missed when calculating incident energy and arc flash boundaries. That inf
 ormation determines electrical components designed to minimize arc flash h
 azards and the personal protective equipment (PPE) per NFPA 70 and NFPA 70
 E.\n\nAfter the meeting\, most people head over to The Powder Keg (right a
 cross the parking lot) for drinks and networking.\n\n[]\n\nSpeaker(s): And
 rew Gusev\, \n\nAgenda: \n5pm Beginning of meeting\, announcements\, intro
 duction of speaker - Philip Mohn\n5:10pm Arc Flash Calculations Presentati
 on - Andrew Gusev\n5:50pm Q&amp;A\n6pm End of meeting\n\nJoin us afterwards at
  The Powder Keg right next door for our Networking Happy Hour!\n\nRoom: Se
 cond Floor\, Bldg: The Cannon West Houston\, 1334 Brittmoore Rd \, Suite 1
 327\, Houston\, Texas\, United States\, 77043
LOCATION:Room: Second Floor\, Bldg: The Cannon West Houston\, 1334 Brittmoo
 re Rd \, Suite 1327\, Houston\, Texas\, United States\, 77043
ORGANIZER:philipmohn@pm.me
SEQUENCE:114
SUMMARY:*Resch. to 07-24* Arc Flash Calculations: What You Might Miss
URL;VALUE=URI:https://events.vtools.ieee.org/m/424718
X-ALT-DESC:Description: &lt;br /&gt;&lt;p&gt;Get a one hour PDH certificate when you se
 e Arc Flash SME Andrew Gusev present right here in Houston on July 10th!&lt;/
 p&gt;\n&lt;p&gt;This meeting is for EEs who are new to arc flash and experienced EE
 s who want to learn about new arc flash technology and best practices.&lt;/p&gt;
 \n&lt;p&gt;You will understand how to define the procedures and regulations for 
 facilities and what often gets missed when calculating incident energy and
  arc flash boundaries. That information determines electrical components d
 esigned to minimize arc flash hazards and the personal protective equipmen
 t (PPE) per NFPA 70 and NFPA 70E.&amp;nbsp\;&lt;/p&gt;\n&lt;p&gt;After the meeting\, most 
 people head over to The Powder Keg (right across the parking lot) for drin
 ks and networking.&lt;/p&gt;\n&lt;p style=&quot;text-align: center\;&quot;&gt;&lt;img src=&quot;https://
 dam-assets.fluke.com/s3fs-public/F-Arc%20Flash%20Boundry_09a_c.jpg&quot; alt=&quot;&quot;
  width=&quot;743&quot; height=&quot;494&quot;&gt;&lt;/p&gt;&lt;br /&gt;&lt;br /&gt;Agenda: &lt;br /&gt;&lt;p&gt;&lt;strong&gt;5pm&amp;nbs
 p\;&lt;/strong&gt;Beginning of meeting\, announcements\, introduction of speaker
  - Philip Mohn&lt;br&gt;&lt;strong&gt;5:10pm&amp;nbsp\;&lt;/strong&gt;Arc Flash Calculations Pre
 sentation - Andrew Gusev&lt;br&gt;&lt;strong&gt;5:50pm&amp;nbsp\;&lt;/strong&gt;Q&amp;amp\;A&lt;br&gt;&lt;str
 ong&gt;6pm&amp;nbsp\;&lt;/strong&gt;End of meeting&lt;/p&gt;\n&lt;p&gt;Join us afterwards at The Po
 wder Keg right next door for our Networking Happy Hour!&lt;/p&gt;
END:VEVENT
END:VCALENDAR

