BEGIN:VCALENDAR
VERSION:2.0
PRODID:IEEE vTools.Events//EN
CALSCALE:GREGORIAN
BEGIN:VTIMEZONE
TZID:America/New_York
BEGIN:DAYLIGHT
DTSTART:20250309T030000
TZOFFSETFROM:-0500
TZOFFSETTO:-0400
RRULE:FREQ=YEARLY;BYDAY=2SU;BYMONTH=3
TZNAME:EDT
END:DAYLIGHT
BEGIN:STANDARD
DTSTART:20251102T010000
TZOFFSETFROM:-0400
TZOFFSETTO:-0500
RRULE:FREQ=YEARLY;BYDAY=1SU;BYMONTH=11
TZNAME:EST
END:STANDARD
END:VTIMEZONE
BEGIN:VEVENT
DTSTAMP:20250710T184151Z
UID:5F4DD2FA-CC25-4BAF-A25A-DD41783A6AAB
DTSTART;TZID=America/New_York:20250621T113000
DTEND;TZID=America/New_York:20250621T150000
DESCRIPTION:Collaborate with the New Jersey Coast Section for bigger and be
 tter cross-sectional events. Yes\, we will celebrate our 60th Anniversary!
  It&#39;s been noted that Section and Chapter Officers do NOT readily have an 
 opportunity to meet other &quot;like&quot; Chapter Officers from other Sections to d
 iscuss creating such events. This Lunch Cruise is designed to do just that
 . We are planning Three Levels of Collabotation during our cruise time.\n\
 nThree Levels of Collaboration:\n\n[1] Chapter Level - Chapter Officers of
  &quot;like&quot; chapters will create events that are cosponsored with &quot;like&quot; chapt
 ers of other Sections.\n\n[2] Section Level - Section Officers of surround
 ing Sections will create events that are cosponsored with other Sections f
 or a larger audience.\n\n[3] Society Level - Societies look for new locati
 ons each year to host their Conferences. Sections bid for the honor to &quot;ho
 st&quot; them. It is similar to cities bidding to host the Olympics. The New Je
 rsey and New York area can be that host. We are hoping to host a different
  Society Conference every year here after.\n\n[Perth Amboy Dinner Cruise]\
 n\nDate: June 21\, 2025\n\nFREE Parking - parking is included.\n\nOPEN Bar
  with Lunch Cruise - Lunch Buffet style foods\, butler style appetisers\, 
 open bar and International desserts are included.\n\nBoarding starts at 11
 :30 AM. Boat leaves at 12:00 PM.\n\nCornucopis Cruise Line will cruise alo
 ng the New Jersey and Staten Island shoreline\; leaving from Perth Amboy N
 J.\n\nTop deck reserved for IEEE\; 60-100 maximum people to be divided amo
 ng 5 Sections + Special Guests [Region/IEEE Staff] a Total of 6 groups\; a
 proximately 10-20 people per group. Limited seating means Registration by 
 Invitation Only. Section Chairs [Long Island\, NJC\, North Jersey\, NY and
  Princeton] to decide their invitation list of 10-20 people. Special Invit
 es include key Region 1 and IEEE Staff].\n\nThis is NOT a FREE Event.\n\nP
 ricing for Invited NJC Officers: $50/per person\; $70 balance is subsidize
 d by the section. Please do NOT Register unless you are invited.  If you a
 re invited and wish to bring a Spouse of Family member\, FEE is $120 or Fu
 ll Price.\n\nAny IEEE Members or Spouses who are NOT invited: $120 or Full
  Price. This category may be considered later if we have extra seating.\n\
 nPlease Register and Pay according to an Invitation and your catagory. Sea
 ting is limited to accommodate other sections and special guests.\n\nCo-sp
 onsored by: Region 1\, North Jersey Section\, Princeton/Central Jersey Sec
 tion\, Long Island Section and New York Section\n\nAgenda: \n11:30 AM Boar
 d Cornucopia Princess\n\n12:00 PM Cornucopia Princess leaves port\n\n12-3 
 PM Collaboration &amp; Socialize\, eat\, enjoy cruise\n\n3:30 PM Return to por
 t\n\nBldg: Cornucopia Cruise Line\, 401 Riverview Drive\, Perth Amboy\, Ne
 w Jersey\, United States\, 08861
LOCATION:Bldg: Cornucopia Cruise Line\, 401 Riverview Drive\, Perth Amboy\,
  New Jersey\, United States\, 08861
ORGANIZER:fcitarella@ieee.org; laura.hriedel@ieee.org
SEQUENCE:310
SUMMARY:IEEE New Jersey Coast &quot;R1 Inter-Sections Collaborative&quot; Lunch Cruis
 e
URL;VALUE=URI:https://events.vtools.ieee.org/m/424914
X-ALT-DESC:Description: &lt;br /&gt;&lt;p&gt;Collaborate with the &lt;strong&gt;New Jersey Co
 ast Section&lt;/strong&gt; for bigger and better cross-sectional events.&amp;nbsp\; 
 Yes\, we will celebrate our 60th Anniversary! It&#39;s been noted that Section
  and Chapter Officers do NOT readily have an opportunity to meet other &quot;li
 ke&quot; Chapter Officers from other Sections to discuss creating such events.&amp;
 nbsp\; This Lunch Cruise is designed to do just that.&amp;nbsp\; We are planni
 ng Three Levels of Collabotation during our cruise time.&lt;/p&gt;\n&lt;p&gt;&lt;strong&gt;&amp;
 nbsp\;Three Levels of Collaboration:&lt;/strong&gt;&lt;/p&gt;\n&lt;p&gt;&lt;strong&gt;[1]&lt;/strong&gt;
  &lt;strong&gt;Chapter Level &lt;/strong&gt;- Chapter Officers of &quot;like&quot; chapters will
  create events that are cosponsored with &quot;like&quot; chapters of other Sections
 .&lt;/p&gt;\n&lt;p&gt;&lt;strong&gt;[2] Section Level&lt;/strong&gt; - Section Officers of surroun
 ding Sections will create events that are cosponsored with other Sections 
 for a larger audience.&lt;/p&gt;\n&lt;p&gt;&lt;strong&gt;[3] Society Level &lt;/strong&gt;-&amp;nbsp\;
  Societies look for new locations each year to host their Conferences.&amp;nbs
 p\; Sections bid for the honor to &quot;host&quot; them.&amp;nbsp\; It is similar to cit
 ies bidding to host the Olympics.&amp;nbsp\; The New Jersey and New York area 
 can be that host.&amp;nbsp\; We are hoping to host a different Society Confere
 nce every year here after.&lt;/p&gt;\n&lt;p&gt;&lt;img style=&quot;display: block\; margin-lef
 t: auto\; margin-right: auto\;&quot; src=&quot;https://events.vtools.ieee.org/vtools
 _ui/media/display/b56601a1-a194-4676-a6bd-7615a5140f14&quot; alt=&quot;Perth Amboy D
 inner Cruise&quot; width=&quot;696&quot; height=&quot;464&quot;&gt;&lt;/p&gt;\n&lt;p&gt;Date: &amp;nbsp\;&lt;strong&gt;June 
 21\, 2025&lt;/strong&gt;&lt;/p&gt;\n&lt;p&gt;&lt;strong&gt;FREE Parking&lt;/strong&gt; - parking is incl
 uded.&lt;/p&gt;\n&lt;p&gt;&lt;strong&gt;OPEN Bar&lt;/strong&gt; with&lt;strong&gt; Lunch Cruise&lt;/strong&gt;
  - Lunch Buffet style foods\, butler style appetisers\, open bar and Inter
 national desserts are included.&lt;/p&gt;\n&lt;p&gt;Boarding starts at 11:30 AM. &amp;nbsp
 \;Boat leaves at 12:00 PM. &amp;nbsp\;&lt;/p&gt;\n&lt;p&gt;&lt;strong&gt;Cornucopis Cruise Line&lt;
 /strong&gt; will cruise along the &lt;strong&gt;New Jersey and Staten Island shorel
 ine&lt;/strong&gt;\; leaving from &lt;strong&gt;Perth Amboy NJ&lt;/strong&gt;.&amp;nbsp\;&lt;/p&gt;\n&lt;
 p&gt;Top deck reserved for IEEE\; 60-100 maximum people to be divided among 5
  Sections + Special Guests [Region/IEEE Staff] a Total of 6 groups\; aprox
 imately 10-20 people per group.&amp;nbsp\; Limited seating means &lt;strong&gt;Regis
 tration by Invitation Only&lt;/strong&gt;.&amp;nbsp\; Section Chairs [Long Island\, 
 NJC\, North Jersey\, NY and Princeton] to decide their invitation list of 
 10-20 people.&amp;nbsp\; Special Invites include key Region 1 and IEEE Staff].
 &lt;/p&gt;\n&lt;p&gt;This is NOT a FREE Event.&amp;nbsp\;&lt;/p&gt;\n&lt;p&gt;Pricing for &lt;strong&gt;Invi
 ted NJC Officers: $50/per person&lt;/strong&gt;\; $70 balance is subsidized by t
 he section.&amp;nbsp\; &lt;strong&gt;Please do NOT Register unless you are invited.&amp;
 nbsp\;&lt;/strong&gt; If you are invited and wish to bring a Spouse of Family me
 mber\, FEE is $120 or Full Price.&lt;/p&gt;\n&lt;p&gt;Any IEEE Members or Spouses who 
 are NOT invited: $120 or Full Price.&amp;nbsp\; This category may be considere
 d later if we have extra seating.&lt;/p&gt;\n&lt;p&gt;Please Register and Pay accordin
 g to an Invitation and your catagory.&amp;nbsp\; Seating is limited to accommo
 date other sections and special guests.&lt;/p&gt;&lt;br /&gt;&lt;br /&gt;Agenda: &lt;br /&gt;&lt;p&gt;11
 :30 AM Board Cornucopia Princess&lt;/p&gt;\n&lt;p&gt;12:00 PM Cornucopia Princess leav
 es port&lt;/p&gt;\n&lt;p&gt;12-3 PM&amp;nbsp\; Collaboration &amp;amp\; Socialize\, eat\, enjo
 y cruise&lt;/p&gt;\n&lt;p&gt;3:30 PM&amp;nbsp\; Return to port&lt;/p&gt;
END:VEVENT
END:VCALENDAR

