BEGIN:VCALENDAR
VERSION:2.0
PRODID:IEEE vTools.Events//EN
CALSCALE:GREGORIAN
BEGIN:VTIMEZONE
TZID:America/Los_Angeles
BEGIN:DAYLIGHT
DTSTART:20240310T030000
TZOFFSETFROM:-0800
TZOFFSETTO:-0700
RRULE:FREQ=YEARLY;BYDAY=2SU;BYMONTH=3
TZNAME:PDT
END:DAYLIGHT
BEGIN:STANDARD
DTSTART:20241103T010000
TZOFFSETFROM:-0700
TZOFFSETTO:-0800
RRULE:FREQ=YEARLY;BYDAY=1SU;BYMONTH=11
TZNAME:PST
END:STANDARD
END:VTIMEZONE
BEGIN:VEVENT
DTSTAMP:20240718T020203Z
UID:AC370F18-226C-4FD4-A2BC-6189076C91C2
DTSTART;TZID=America/Los_Angeles:20240710T173000
DTEND;TZID=America/Los_Angeles:20240710T200000
DESCRIPTION:Cheers Oceaneers! #3 – w/guest speaker Kevin Hardy: “SEALAB
  III: The Divers&#39; Story”.\n\nWelcome to the third episode of monthly mee
 tings for the IEEE Oceanic Engineering Society (OES)\, San Diego Chapter\,
  which is hosting this meeting jointly along with TMA (The Maritime Allian
 ce) and MTS (Marine Technology Society).\n\nPlease join us for networking 
 and friendly conversation about everything oceanic\, engineering\, science
 \, Blue Tech\, and more\, while enjoying pizza and drinks. No need to be a
 n IEEE or OES member\, or TMA\, or MTS. Everyone is invited.\n\nThis month
 \, we have a special guest speaker\, Kevin Hardy. See speaker info section
  for details of presentation and speaker bio.\n\nJuly 10th\, 2024\, Wednes
 day\n\n5:30pm-8:00pm\n\nSee agenda section for details.\n\nNote: Monthly e
 very 2nd Wednesday\n\nLeucadia Pizzeria &amp; Italian Restaurant\n\nLa Jolla /
  University City\n\n7748 Regents Rd\n\nSan Diego\, CA 92122\n\nThe enclose
 d patio is reserved for our group.\n\nNo ticket required\, but please orde
 r something for yourself from the restaurant.\n\nThe food and drinks are n
 ot being funded by the hosts. Please open your own tab.\n\nRSVPs are appre
 ciated\, but not required. In your response\, please indicate whether you 
 are member of OES\, TMA\, and/or MTS.\n\nSpeaker(s): \, \, Kevin Hardy\n\n
 Agenda: \nAgenda:\n\n5:30pm: Arrival.\n\n6:00pm – 6:15pm: OES\, TMA\, an
 d MTS announcements\n\n6:15pm – 6:45pm: Sealab III presentation by Kevin
  Hardy\n\n6:45pm – 7:00pm: “open mic” (but there isn’t a microphon
 e) for any other attendees to present anything they like (ocean-related\, 
 of course).\n\nExamples: employers presenting opportunities for employment
 \, job seekers presenting a quick bio\, internship program opportunities\,
  promoting other events\, seeking funding\, “show and tell” of any coo
 l technology you are working on\, etc.\n\n7:00pm – 8:00pm: Enjoy some pi
 zza and drinks and chatting with fellow oceanic engineering enthusiasts.\n
 \nBldg: Leucadia Pizzeria\, 7748 Regents Rd\, San Diego\, California\, Uni
 ted States\, 92122
LOCATION:Bldg: Leucadia Pizzeria\, 7748 Regents Rd\, San Diego\, California
 \, United States\, 92122
ORGANIZER:greg_laugle@yahoo.com
SEQUENCE:6
SUMMARY:Cheers Oceaneers! #3 – w/guest speaker Kevin Hardy: “SEALAB III
 : The Divers&#39; Story”.
URL;VALUE=URI:https://events.vtools.ieee.org/m/425697
X-ALT-DESC:Description: &lt;br /&gt;&lt;p class=&quot;MsoNormal&quot; style=&quot;margin-bottom: 10
 .5pt\; background: white\;&quot;&gt;Cheers Oceaneers! #3 &amp;ndash\; w/guest speaker 
 Kevin Hardy: &amp;ldquo\;SEALAB III: The Divers&#39; Story&amp;rdquo\;.&lt;/p&gt;\n&lt;p class=
 &quot;MsoNormal&quot; style=&quot;margin-bottom: 7.5pt\; background: white\;&quot;&gt;&lt;span style
 =&quot;font-size: 12.0pt\; font-family: &#39;Calibri&#39;\,sans-serif\; color: black\; 
 mso-ligatures: none\;&quot;&gt;Welcome to the third episode of monthly meetings fo
 r the IEEE Oceanic Engineering Society (OES)\, San Diego Chapter\, which i
 s hosting this meeting jointly along with TMA (The Maritime Alliance) and 
 MTS (Marine Technology Society).&lt;/span&gt;&lt;/p&gt;\n&lt;p class=&quot;MsoNormal&quot; style=&quot;m
 argin-bottom: 7.5pt\; background: white\;&quot;&gt;&lt;span style=&quot;font-size: 12.0pt\
 ; font-family: &#39;Calibri&#39;\,sans-serif\; color: black\; mso-ligatures: none\
 ;&quot;&gt;Please join us for networking and friendly conversation about everythin
 g oceanic\, engineering\, science\, Blue Tech\, and more\, while enjoying 
 pizza and drinks.&amp;nbsp\; No need to be an IEEE or OES member\, or TMA\, or
  MTS.&amp;nbsp\; Everyone is invited.&amp;nbsp\;&lt;/span&gt;&lt;/p&gt;\n&lt;p class=&quot;MsoNormal&quot; 
 style=&quot;margin-bottom: 7.5pt\; background: white\;&quot;&gt;&lt;span style=&quot;font-size:
  12.0pt\; font-family: &#39;Calibri&#39;\,sans-serif\; color: black\; mso-color-al
 t: windowtext\; mso-ligatures: none\;&quot;&gt;This month\, we have a special gues
 t speaker\, Kevin Hardy.&amp;nbsp\; &lt;span style=&quot;mso-spacerun: yes\;&quot;&gt;&lt;span st
 yle=&quot;mso-ascii-font-family: Aptos\; mso-ascii-theme-font: minor-latin\; ms
 o-hansi-font-family: Aptos\; mso-hansi-theme-font: minor-latin\; mso-bidi-
 font-family: &#39;Times New Roman&#39;\; mso-bidi-theme-font: minor-bidi\;&quot;&gt;See sp
 eaker info section for details of presentation and speaker bio.&lt;/span&gt;&lt;spa
 n style=&quot;mso-ascii-font-family: Aptos\; mso-ascii-theme-font: minor-latin\
 ; mso-hansi-font-family: Aptos\; mso-hansi-theme-font: minor-latin\; mso-b
 idi-font-family: &#39;Times New Roman&#39;\; mso-bidi-theme-font: minor-bidi\;&quot;&gt;&amp;n
 bsp\;&lt;/span&gt;&lt;/span&gt;&lt;/span&gt;&lt;/p&gt;\n&lt;p class=&quot;MsoNormal&quot; style=&quot;margin-bottom:
  7.5pt\; background: white\;&quot;&gt;&lt;span style=&quot;mso-ascii-font-family: Aptos\; 
 mso-ascii-theme-font: minor-latin\; mso-hansi-font-family: Aptos\; mso-han
 si-theme-font: minor-latin\; mso-bidi-font-family: &#39;Times New Roman&#39;\; mso
 -bidi-theme-font: minor-bidi\; mso-ligatures: none\;&quot;&gt;&amp;nbsp\;&lt;/span&gt;&lt;/p&gt;\n
 &lt;p class=&quot;MsoNormal&quot; style=&quot;margin-bottom: 7.5pt\; background: white\;&quot;&gt;&lt;s
 pan style=&quot;font-size: 12.0pt\; font-family: &#39;Calibri&#39;\,sans-serif\; color:
  black\; mso-ligatures: none\;&quot;&gt;July 10th\, 2024\, Wednesday&lt;/span&gt;&lt;/p&gt;\n&lt;
 p class=&quot;MsoNormal&quot; style=&quot;margin-bottom: 7.5pt\; background: white\;&quot;&gt;&lt;sp
 an style=&quot;font-size: 12.0pt\; font-family: &#39;Calibri&#39;\,sans-serif\; color: 
 black\; mso-ligatures: none\;&quot;&gt;5:30pm-8:00pm&lt;/span&gt;&lt;/p&gt;\n&lt;p class=&quot;MsoNorm
 al&quot; style=&quot;margin-bottom: 7.5pt\; background: white\;&quot;&gt;&lt;span style=&quot;font-s
 ize: 12.0pt\; font-family: &#39;Calibri&#39;\,sans-serif\; color: black\; mso-liga
 tures: none\;&quot;&gt;See agenda section for details.&lt;/span&gt;&lt;/p&gt;\n&lt;p class=&quot;MsoNo
 rmal&quot; style=&quot;margin-bottom: 7.5pt\; background: white\;&quot;&gt;&lt;span style=&quot;font
 -size: 12.0pt\; font-family: &#39;Calibri&#39;\,sans-serif\; color: black\; mso-co
 lor-alt: windowtext\; mso-ligatures: none\;&quot;&gt;Note: Monthly every 2nd Wedne
 sday&lt;/span&gt;&lt;/p&gt;\n&lt;p class=&quot;MsoNormal&quot; style=&quot;margin-bottom: 7.5pt\; backgr
 ound: white\;&quot;&gt;&lt;span style=&quot;font-size: 12.0pt\; font-family: &#39;Calibri&#39;\,sa
 ns-serif\; mso-ligatures: none\;&quot;&gt;&amp;nbsp\;&lt;/span&gt;&lt;/p&gt;\n&lt;p class=&quot;MsoNormal&quot;
  style=&quot;margin-bottom: 7.5pt\; background: white\;&quot;&gt;&lt;span style=&quot;font-size
 : 12.0pt\; font-family: &#39;Calibri&#39;\,sans-serif\; color: black\; mso-ligatur
 es: none\;&quot;&gt;Leucadia Pizzeria &amp;amp\; Italian Restaurant&lt;/span&gt;&lt;/p&gt;\n&lt;p cla
 ss=&quot;MsoNormal&quot; style=&quot;margin-bottom: 7.5pt\; background: white\;&quot;&gt;&lt;span st
 yle=&quot;font-size: 12.0pt\; font-family: &#39;Calibri&#39;\,sans-serif\; color: black
 \; mso-ligatures: none\;&quot;&gt;La Jolla / University City&lt;/span&gt;&lt;/p&gt;\n&lt;p class=
 &quot;MsoNormal&quot; style=&quot;margin-bottom: 7.5pt\; background: white\;&quot;&gt;&lt;span style
 =&quot;font-size: 12.0pt\; font-family: &#39;Calibri&#39;\,sans-serif\; color: black\; 
 mso-ligatures: none\;&quot;&gt;7748 Regents Rd&lt;/span&gt;&lt;/p&gt;\n&lt;p class=&quot;MsoNormal&quot; st
 yle=&quot;margin-bottom: 7.5pt\; background: white\;&quot;&gt;&lt;span style=&quot;font-size: 1
 2.0pt\; font-family: &#39;Calibri&#39;\,sans-serif\; color: black\; mso-ligatures:
  none\;&quot;&gt;San Diego\, CA 92122&lt;/span&gt;&lt;/p&gt;\n&lt;p class=&quot;MsoNormal&quot; style=&quot;marg
 in-bottom: 7.5pt\; background: white\;&quot;&gt;&lt;span style=&quot;font-size: 12.0pt\; f
 ont-family: &#39;Calibri&#39;\,sans-serif\; color: black\; mso-ligatures: none\;&quot;&gt;
 &amp;nbsp\;&lt;/span&gt;&lt;/p&gt;\n&lt;p class=&quot;MsoNormal&quot; style=&quot;margin-bottom: 7.5pt\; bac
 kground: white\;&quot;&gt;&lt;span style=&quot;font-size: 12.0pt\; font-family: &#39;Calibri&#39;\
 ,sans-serif\; color: black\; mso-ligatures: none\;&quot;&gt;The enclosed patio is 
 reserved for our group.&amp;nbsp\;&lt;/span&gt;&lt;/p&gt;\n&lt;p class=&quot;MsoNormal&quot; style=&quot;mar
 gin-bottom: 7.5pt\; background: white\;&quot;&gt;&lt;span style=&quot;font-size: 12.0pt\; 
 font-family: &#39;Calibri&#39;\,sans-serif\; color: black\; mso-ligatures: none\;&quot;
 &gt;No ticket required\, but please order something for yourself from the res
 taurant.&lt;/span&gt;&lt;/p&gt;\n&lt;p class=&quot;MsoNormal&quot; style=&quot;margin-bottom: 7.5pt\; ba
 ckground: white\;&quot;&gt;&lt;span style=&quot;font-size: 12.0pt\; font-family: &#39;Calibri&#39;
 \,sans-serif\; color: black\; mso-ligatures: none\;&quot;&gt;The food and drinks a
 re &lt;u&gt;not&lt;/u&gt; being funded by the hosts.&amp;nbsp\; Please open your own tab.&lt;
 /span&gt;&lt;/p&gt;\n&lt;p class=&quot;MsoNormal&quot; style=&quot;margin-bottom: 7.5pt\; background:
  white\;&quot;&gt;&lt;span style=&quot;font-size: 12.0pt\; font-family: &#39;Calibri&#39;\,sans-se
 rif\; color: black\; mso-ligatures: none\;&quot;&gt;&amp;nbsp\;&lt;/span&gt;&lt;/p&gt;\n&lt;p class=&quot;
 MsoNormal&quot; style=&quot;margin-bottom: 7.5pt\; background: white\;&quot;&gt;&lt;span style=
 &quot;font-size: 12.0pt\; font-family: &#39;Calibri&#39;\,sans-serif\; color: black\; m
 so-ligatures: none\;&quot;&gt;RSVPs are appreciated\, but not required.&amp;nbsp\; In 
 your response\, please indicate whether you are member of OES\, TMA\, and/
 or MTS.&lt;/span&gt;&lt;/p&gt;&lt;br /&gt;&lt;br /&gt;Agenda: &lt;br /&gt;&lt;p class=&quot;MsoNormal&quot; style=&quot;ma
 rgin-bottom: 7.5pt\; background: white\;&quot;&gt;&lt;span style=&quot;font-size: 12.0pt\;
  font-family: &#39;Calibri&#39;\,sans-serif\; color: black\; mso-ligatures: none\;
 &quot;&gt;Agenda: &lt;/span&gt;&lt;/p&gt;\n&lt;p class=&quot;MsoNormal&quot; style=&quot;margin-bottom: 7.5pt\; 
 background: white\;&quot;&gt;&lt;span style=&quot;font-size: 12.0pt\; font-family: &#39;Calibr
 i&#39;\,sans-serif\; color: black\; mso-ligatures: none\;&quot;&gt;5:30pm: Arrival.&lt;/s
 pan&gt;&lt;/p&gt;\n&lt;p class=&quot;MsoNormal&quot; style=&quot;margin-bottom: 7.5pt\; background: w
 hite\;&quot;&gt;&lt;span style=&quot;font-size: 12.0pt\; font-family: &#39;Calibri&#39;\,sans-seri
 f\; color: black\; mso-ligatures: none\;&quot;&gt;6:00pm &amp;ndash\; 6:15pm: OES\, TM
 A\, and MTS announcements&lt;/span&gt;&lt;/p&gt;\n&lt;p class=&quot;MsoNormal&quot; style=&quot;margin-b
 ottom: 7.5pt\; background: white\;&quot;&gt;&lt;span style=&quot;font-size: 12.0pt\; font-
 family: &#39;Calibri&#39;\,sans-serif\; color: black\; mso-ligatures: none\;&quot;&gt;6:15
 pm &amp;ndash\; 6:45pm: Sealab III presentation by Kevin Hardy&lt;/span&gt;&lt;/p&gt;\n&lt;p 
 class=&quot;MsoNormal&quot; style=&quot;margin-bottom: 7.5pt\; background: white\;&quot;&gt;&lt;span
  style=&quot;font-size: 12.0pt\; font-family: &#39;Calibri&#39;\,sans-serif\; color: bl
 ack\; mso-ligatures: none\;&quot;&gt;6:45pm &amp;ndash\; 7:00pm: &amp;ldquo\;open mic&amp;rdqu
 o\; (but there isn&amp;rsquo\;t a microphone) for any other attendees to prese
 nt anything they like (ocean-related\, of course).&lt;/span&gt;&lt;/p&gt;\n&lt;p class=&quot;M
 soNormal&quot; style=&quot;margin-bottom: 7.5pt\; background: white\;&quot;&gt;&lt;span style=&quot;
 font-size: 12.0pt\; font-family: &#39;Calibri&#39;\,sans-serif\; color: black\; ms
 o-ligatures: none\;&quot;&gt;Examples: employers presenting opportunities for empl
 oyment\, job seekers presenting a quick bio\, internship program opportuni
 ties\, promoting other events\, seeking funding\, &amp;ldquo\;show and tell&amp;rd
 quo\; of any cool technology you are working on\, etc.&lt;/span&gt;&lt;/p&gt;\n&lt;p clas
 s=&quot;MsoNormal&quot; style=&quot;margin-bottom: 7.5pt\; background: white\;&quot;&gt;&lt;span sty
 le=&quot;font-size: 12.0pt\; font-family: &#39;Calibri&#39;\,sans-serif\; color: black\
 ; mso-ligatures: none\;&quot;&gt;7:00pm &amp;ndash\; 8:00pm: Enjoy some pizza and drin
 ks and chatting with fellow oceanic engineering enthusiasts.&lt;/span&gt;&lt;/p&gt;
END:VEVENT
END:VCALENDAR

