BEGIN:VCALENDAR
VERSION:2.0
PRODID:IEEE vTools.Events//EN
CALSCALE:GREGORIAN
BEGIN:VTIMEZONE
TZID:America/Chicago
BEGIN:DAYLIGHT
DTSTART:20240310T030000
TZOFFSETFROM:-0600
TZOFFSETTO:-0500
RRULE:FREQ=YEARLY;BYDAY=2SU;BYMONTH=3
TZNAME:CDT
END:DAYLIGHT
BEGIN:STANDARD
DTSTART:20241103T010000
TZOFFSETFROM:-0500
TZOFFSETTO:-0600
RRULE:FREQ=YEARLY;BYDAY=1SU;BYMONTH=11
TZNAME:CST
END:STANDARD
END:VTIMEZONE
BEGIN:VEVENT
DTSTAMP:20240812T141126Z
UID:75E5B308-1D0F-482C-A230-C498578DD2F7
DTSTART;TZID=America/Chicago:20240805T170000
DTEND;TZID=America/Chicago:20240805T180000
DESCRIPTION:Come out and have a drink and some snacks\, while meeting other
  IEEE young professionals in Cedar Rapids area and some of the Section lea
 dership. Guests are welcome\, please have them register.\n\nBldg: Meet IEE
 E hosts outside the 1st Street Door\, Big Grove Brewery and Tap Room\, 170
  1st St SW\, Cedar Rapids\, Iowa\, United States
LOCATION:Bldg: Meet IEEE hosts outside the 1st Street Door\, Big Grove Brew
 ery and Tap Room\, 170 1st St SW\, Cedar Rapids\, Iowa\, United States
ORGANIZER:vaozburn@ieee.org
SEQUENCE:14
SUMMARY:Cedar Rapids YP Social
URL;VALUE=URI:https://events.vtools.ieee.org/m/425830
X-ALT-DESC:Description: &lt;br /&gt;&lt;p&gt;Come out and have a drink and some snacks\
 , while meeting other IEEE young professionals in Cedar Rapids area and so
 me of the Section leadership. Guests are welcome\, please have them regist
 er.&lt;/p&gt;
END:VEVENT
END:VCALENDAR

