BEGIN:VCALENDAR
VERSION:2.0
PRODID:IEEE vTools.Events//EN
CALSCALE:GREGORIAN
BEGIN:VTIMEZONE
TZID:US/Eastern
BEGIN:DAYLIGHT
DTSTART:20170312T030000
TZOFFSETFROM:-0500
TZOFFSETTO:-0400
RRULE:FREQ=YEARLY;BYDAY=2SU;BYMONTH=3
TZNAME:EDT
END:DAYLIGHT
BEGIN:STANDARD
DTSTART:20161106T010000
TZOFFSETFROM:-0400
TZOFFSETTO:-0500
RRULE:FREQ=YEARLY;BYDAY=1SU;BYMONTH=11
TZNAME:EST
END:STANDARD
END:VTIMEZONE
BEGIN:VEVENT
DTSTAMP:20180124T005117Z
UID:9011AA54-C01C-11E6-A7C6-0050568D7F66
DTSTART;TZID=US/Eastern:20161217T190000
DTEND;TZID=US/Eastern:20161217T212900
DESCRIPTION:Dear ExCom Members\,\n\nThis is the traditional transition dinn
 er for the Washington Section. This year we would like to invite our NoVA 
 counterparts and to have a joint event. It is an opportunity to thank the 
 2016 Officers and Directors for their work\, and to welcome the 2017 ones.
 \n\nThe event will be at the &#39;7Spice&#39; Indian Cuisine restaurant in McLean\
 , VA (http://www.7spiceva.com/). The address is 1379 Beverly Rd. McLean\, 
 VA 22101. 7Spice is on the ground floor of a retail building. There are se
 veral different businesses on two stories. The building has a free undergr
 ound parking garage with an elevator. Entrance to the garage is from Bever
 ly Road.\n\nLooking forward to meeting you there\,\n\nTony Ivanov\n\n2016 
 Washington DC Section Chair\n\n1379 Beverly Rd. \, McLean\, Virginia\, Uni
 ted States\, 22101
LOCATION:1379 Beverly Rd. \, McLean\, Virginia\, United States\, 22101
ORGANIZER:tony.ivanov@ieee.org
SEQUENCE:3
SUMMARY:2016 Washington/NoVA Sections Transition Dinner
URL;VALUE=URI:https://events.vtools.ieee.org/m/42594
X-ALT-DESC:Description: &lt;br /&gt;&lt;p&gt;Dear ExCom Members\,&lt;/p&gt;\n&lt;p&gt;&amp;nbsp\;&lt;/p&gt;\n
 &lt;p&gt;This is the traditional transition dinner for the Washington Section.&amp;n
 bsp\; This year we would like to invite our NoVA counterparts and to have 
 a joint event.&amp;nbsp\; It is an opportunity to thank the&amp;nbsp\;2016 Officer
 s and Directors for their work\, and to welcome the 2017 ones.&lt;/p&gt;\n&lt;p&gt;&amp;nb
 sp\;&lt;/p&gt;\n&lt;p&gt;The event will be at the &#39;7Spice&#39; Indian Cuisine restaurant i
 n McLean\, VA (&lt;a href=&quot;http://www.7spiceva.com/&quot;&gt;http://www.7spiceva.com/
 &lt;/a&gt;).&amp;nbsp\; The address is 1379 Beverly Rd. McLean\, VA 22101.&amp;nbsp\; 7S
 pice is on the ground floor of a retail building.&amp;nbsp\; There are&amp;nbsp\;s
 everal different businesses on two stories.&amp;nbsp\; The building has a free
  underground parking garage with an elevator.&amp;nbsp\; Entrance to the garag
 e is from Beverly Road.&lt;/p&gt;\n&lt;p&gt;&amp;nbsp\;&lt;/p&gt;\n&lt;p&gt;Looking forward to meeting
  you there\,&lt;/p&gt;\n&lt;p&gt;Tony Ivanov&lt;/p&gt;\n&lt;p&gt;2016 Washington DC Section Chair&lt;
 /p&gt;\n&lt;p&gt;&amp;nbsp\;&lt;/p&gt;
END:VEVENT
END:VCALENDAR

