BEGIN:VCALENDAR
VERSION:2.0
PRODID:IEEE vTools.Events//EN
CALSCALE:GREGORIAN
BEGIN:VTIMEZONE
TZID:Asia/Kolkata
BEGIN:STANDARD
DTSTART:19451014T230000
TZOFFSETFROM:+0630
TZOFFSETTO:+0530
TZNAME:IST
END:STANDARD
END:VTIMEZONE
BEGIN:VEVENT
DTSTAMP:20240713T090444Z
UID:C7D59288-2858-4617-908B-05C20FF98F9C
DTSTART;TZID=Asia/Kolkata:20240710T103000
DTEND;TZID=Asia/Kolkata:20240710T113000
DESCRIPTION:Large scale machine learning algorithms\n\nSpeaker(s): Dr. M Ta
 nveer\, \n\nVirtual: https://events.vtools.ieee.org/m/425949
LOCATION:Virtual: https://events.vtools.ieee.org/m/425949
ORGANIZER:ieee.embs.sbc.iitkgp@gmail.com
SEQUENCE:10
SUMMARY:Large scale machine learning algorithms 
URL;VALUE=URI:https://events.vtools.ieee.org/m/425949
X-ALT-DESC:Description: &lt;br /&gt;&lt;p&gt;&lt;span style=&quot;font-size: 10.0pt\; font-fami
 ly: Calibri\; mso-ascii-font-family: Calibri\; mso-fareast-font-family: +m
 n-ea\; mso-bidi-font-family: +mn-cs\; mso-ascii-theme-font: minor-latin\; 
 mso-fareast-theme-font: minor-fareast\; mso-bidi-theme-font: minor-bidi\; 
 color: black\; mso-color-index: 1\; mso-font-kerning: 12.0pt\; language: e
 n-IN\; mso-style-textfill-type: solid\; mso-style-textfill-fill-themecolor
 : text1\; mso-style-textfill-fill-color: black\; mso-style-textfill-fill-a
 lpha: 100.0%\;&quot;&gt;Large scale machine learning algorithms &lt;/span&gt;&lt;/p&gt;
END:VEVENT
END:VCALENDAR

