BEGIN:VCALENDAR
VERSION:2.0
PRODID:IEEE vTools.Events//EN
CALSCALE:GREGORIAN
BEGIN:VTIMEZONE
TZID:America/Chicago
BEGIN:DAYLIGHT
DTSTART:20240310T030000
TZOFFSETFROM:-0600
TZOFFSETTO:-0500
RRULE:FREQ=YEARLY;BYDAY=2SU;BYMONTH=3
TZNAME:CDT
END:DAYLIGHT
BEGIN:STANDARD
DTSTART:20241103T010000
TZOFFSETFROM:-0500
TZOFFSETTO:-0600
RRULE:FREQ=YEARLY;BYDAY=1SU;BYMONTH=11
TZNAME:CST
END:STANDARD
END:VTIMEZONE
BEGIN:VEVENT
DTSTAMP:20240706T042743Z
UID:072C7609-BC22-40B0-A4F5-4878FE92CBD5
DTSTART;TZID=America/Chicago:20240705T120000
DTEND;TZID=America/Chicago:20240705T143000
DESCRIPTION:At the TryEngineering Summer Institute\, you’ll explore vario
 us engineering fields\, such as electrical\, civil\, mechanical\, and aero
 space. Our STEM summer course allows you to meet working engineers and exp
 erience VIP tours of engineering companies and centers. Learn new skills a
 nd engage in hands-on projects that explore how engineers can solve real-w
 orld problems.\n\nChristopher Sanderson\, IEEE R5 Director-Elect will be d
 elivering a keynote address &quot;Who Moved My Cheese in STEM? He is a highly r
 espected figure in the field of technology and professional development. W
 ith years of experience in guiding teams and organizations through periods
  of significant change\, he brings a wealth of knowledge and a fresh persp
 ective on how to embrace change and thrive in uncertain times.\n\nThe TryE
 ngineering Summer Institute is a program from [IEEE](https://www.ieee.org/
 )\, the world’s largest professional association for the advancement of 
 technology. Our more than 457\,000 members in 160 countries\, including mo
 re than 120\,000 student members\, help us provide the trusted &quot;voice&quot; for
  engineering\, computing and technology information around the globe via h
 ighly-cited publications\, conferences\, technology standards and professi
 onal and educational activities. [Our summer engineering camp&#39;s curriculum
 ](https://tryengineeringinstitute.ieee.org/) is created specifically for t
 his program by IEEE STEM summer specialists.\n\nJoin us for an enlightenin
 g session that promises to inspire and equip you with the tools to navigat
 e change effectively. Don&#39;t miss this opportunity to learn from one of the
  best in the field!\n\nCo-sponsored by: TryEngineering Summer Institute\n\
 nSpeaker(s): Christopher Sanderson\n\nAgenda: \nUnderstanding Change: Expl
 ore the dynamics of change in the context of technological advancements\, 
 market shifts\, and career trajectories.\n\nEmbracing Adaptability: Learn 
 how to cultivate a mindset that embraces change\, fostering innovation and
  growth within the ever-evolving field of electrical and electronics engin
 eering.\n\nOvercoming Resistance: Address common challenges and resistance
  that individuals and organizations face when confronted with change\, and
  discover effective strategies for overcoming these hurdles.\n\nLeadership
  in Times of Change: Gain insights into effective leadership practices dur
 ing periods of transition\, enabling you to guide teams through uncertaint
 y and harness change as a catalyst for success.\n\nOrganizational Change: 
 Discuss organizational change management fears within a structured environ
 ment.\n\nBldg: Rice University\, 6100 Main Street\, Houston\, Texas\, Unit
 ed States\, 77005
LOCATION:Bldg: Rice University\, 6100 Main Street\, Houston\, Texas\, Unite
 d States\, 77005
ORGANIZER:christopher.b.sanderson@ieee.org
SEQUENCE:273
SUMMARY:HOU Section: Who Moved My Cheese in STEM? in partnership with TryEn
 gineering Summer Institute 2024
URL;VALUE=URI:https://events.vtools.ieee.org/m/426038
X-ALT-DESC:Description: &lt;br /&gt;&lt;p&gt;At the TryEngineering Summer Institute\, y
 ou&amp;rsquo\;ll explore various engineering fields\, such as electrical\, civ
 il\, mechanical\, and aerospace. Our STEM summer course allows you to meet
  working engineers and experience VIP tours of engineering companies and c
 enters. Learn new skills and engage in hands-on projects that explore how 
 engineers can solve real-world problems.&lt;/p&gt;\n&lt;p&gt;Christopher Sanderson\, I
 EEE R5 Director-Elect will be delivering a keynote address &quot;Who Moved My C
 heese in STEM? He is a highly respected figure in the field of technology 
 and professional development. With years of experience in guiding teams an
 d organizations through periods of significant change\, he brings a wealth
  of knowledge and a fresh perspective on how to embrace change and thrive 
 in uncertain times.&lt;/p&gt;\n&lt;p&gt;The TryEngineering Summer Institute is a progr
 am from&amp;nbsp\;&lt;a href=&quot;https://www.ieee.org/&quot; target=&quot;_blank&quot; rel=&quot;noopene
 r&quot;&gt;IEEE&lt;/a&gt;\, the world&amp;rsquo\;s largest professional association for the 
 advancement of technology. Our more than 457\,000 members in 160 countries
 \, including more than 120\,000 student members\, help us provide the trus
 ted &quot;voice&quot; for engineering\, computing and technology information around 
 the globe via highly-cited publications\, conferences\, technology standar
 ds and professional and educational activities. &lt;a href=&quot;https://tryengine
 eringinstitute.ieee.org/&quot;&gt;Our summer engineering camp&#39;s curriculum&lt;/a&gt; is 
 created specifically for this program by IEEE STEM summer specialists.&lt;/p&gt;
 \n&lt;p&gt;Join us for an enlightening session that promises to inspire and equi
 p you with the tools to navigate change effectively. Don&#39;t miss this oppor
 tunity to learn from one of the best in the field!&lt;/p&gt;&lt;br /&gt;&lt;br /&gt;Agenda: 
 &lt;br /&gt;&lt;p class=&quot;cvGsUA direction-ltr align-start para-style-body&quot;&gt;&lt;strong&gt;
 &lt;span class=&quot;OYPEnA text-decoration-none text-strikethrough-none&quot;&gt;Understa
 nding Change: &lt;/span&gt;&lt;/strong&gt;&lt;span class=&quot;OYPEnA text-decoration-none tex
 t-strikethrough-none&quot;&gt;Explore the dynamics of change in the context of tec
 hnological advancements\, market shifts\, and career trajectories.&lt;/span&gt;&lt;
 /p&gt;\n&lt;p class=&quot;cvGsUA direction-ltr align-start para-style-body&quot;&gt;&lt;strong&gt;&lt;
 span class=&quot;OYPEnA text-decoration-none text-strikethrough-none&quot;&gt;Embracing
  Adaptability&lt;/span&gt;&lt;/strong&gt;&lt;span class=&quot;OYPEnA text-decoration-none text
 -strikethrough-none&quot;&gt;&lt;strong&gt;:&lt;/strong&gt; Learn how to cultivate a mindset t
 hat embraces change\, fostering innovation and growth within the ever-evol
 ving field of electrical and electronics engineering.&lt;/span&gt;&lt;/p&gt;\n&lt;p class
 =&quot;cvGsUA direction-ltr align-start para-style-body&quot;&gt;&lt;strong&gt;&lt;span class=&quot;O
 YPEnA text-decoration-none text-strikethrough-none&quot;&gt;Overcoming Resistance:
 &lt;/span&gt;&lt;/strong&gt;&lt;span class=&quot;OYPEnA text-decoration-none text-strikethroug
 h-none&quot;&gt;&lt;strong&gt; &lt;/strong&gt;Address common challenges and resistance that in
 dividuals and organizations face when confronted with change\, and discove
 r effective strategies for overcoming these hurdles.&lt;/span&gt;&lt;/p&gt;\n&lt;p class=
 &quot;cvGsUA direction-ltr align-start para-style-body&quot;&gt;&lt;strong&gt;&lt;span class=&quot;OY
 PEnA text-decoration-none text-strikethrough-none&quot;&gt;Leadership in Times of 
 Change&lt;/span&gt;&lt;/strong&gt;&lt;span class=&quot;OYPEnA text-decoration-none text-strike
 through-none&quot;&gt;&lt;strong&gt;: &lt;/strong&gt;Gain insights into effective leadership p
 ractices during periods of transition\, enabling you to guide teams throug
 h uncertainty and harness change as a catalyst for success.&lt;/span&gt;&lt;/p&gt;\n&lt;p
  class=&quot;cvGsUA direction-ltr align-start para-style-body&quot;&gt;&lt;strong&gt;&lt;span cl
 ass=&quot;OYPEnA text-decoration-none text-strikethrough-none&quot;&gt;Organizational C
 hange&lt;/span&gt;&lt;/strong&gt;&lt;span class=&quot;OYPEnA text-decoration-none text-striket
 hrough-none&quot;&gt;&lt;strong&gt;:&lt;/strong&gt; Discuss organizational change management f
 ears within a structured environment.&lt;/span&gt;&lt;/p&gt;
END:VEVENT
END:VCALENDAR

